Workbook

Sheet Indice
E2: Análise Estatistica do Comércio Internacional de Vinho
E3: Julho 2026 versus Julho 2025
B8: 0 - Nota Introdutória
B10: 1 - Evolução Recente da Balança Comercial (1.000 €)
B12: 2 - Evolução Mensal e Trimestral das Exportações
B14: 3. Evolução Mensal e Timestral das Importações
B16: 4 - Exportações por Tipo de Produto
B18: 5 - Exportações por Tipo de Produto - julho 2026 vs julho 2025
B20: 6 - Evolução das Exportações de Vinho (NC 2204) por Mercado / Acondicionamento
B22: 7 - Evolução das Exportações de Vinho (NC 2204) por Mercado / Acondicionamento - julho 2026 vs julho 2025
B24: 8 - Evolução das Exportações com Destino a uma Selecção de Mercados
B26: 9 - Evolução das Exportações com Destino a uma Seleção de Mercados (NC 2204) - julho 2026 vs julho 2025
B28: 10 - Evolução das Exportações de Vinho Tranquilo (Vinho DO + Vinho IG + Vinho (ex-mesa)) por Mercado / Acondicionamento
B30: 11 - Evolução das Exportações de Vinho com DO + Vinho com IG + Vinho (ex-vinho mesa) com Destino a uma Selecção de Mercados
... B58: 25 - Evolução das Exportações de Vinho Licoroso com DO Madeira com Destino a uma Seleção de Mercados

Sheet 0
A1: Nota
A3: Todos os dados constantes no ficheiro têm como Fonte o Instituto Nacional de Estatistica (INE), pelo que os dados relativos ao Vinho com DOP Porto e Madeira podem diferir dos dados divulgados pelo Instituto dos Vinhos Douro e Porto, IP (IVDP, IP) e Instituto do Vinho, Bordado e do Artesanato da Madeira, IP (IVBAM, IP).
A5: 2014 - Dados Definitivos
A7: 2015 - Dados Definitivos Revistos
A9: 2016 - Dados Definitivos
A11: 2017 - Dados Definitivos
A13: 2018 - Dados Definitivos
A15: 2019 - Dados Definitivos
A17: 2020 - Dados Definitivos (09-09-2021)
A19: 2021 - Dados Definitivos ( 09-08-2022)
A21: 2022 - Dados Definitivos Revistos (09-08-2024)
A23: 2023 - Dados Definitivos (09-08-2024)
... A27: 2025 - Dados Preliminares (09-08-2026)

Sheet 1
A1: Evolução Recente da Balança Comercial (1.000 €)
A3: Intra + Extra UE | B3: 2007 | C3: 2008 | D3: 2009 | E3: 2010 | F3: 2011 | G3: 2012 | H3: 2013 | I3: 2014 | J3: 2015 | K3: 2016 | L3: 2017 | M3: 2018 | N3: 2019 | O3: 2020 | P3: 2021 | Q3: 2022 | R3: 2023 | S3: 2024 | T3: 2025 | U3: Evolução anual | V3: jan-jul | X3: Ano Móvel
U4: 2007/2025 | V4: 2025 | W4: 2026 | X4: ago 2024 a jul 2025 | Y4: ago 2025 a jul 2026
B5: 2007 | C5: 2008 | D5: 2009 | E5: 2010 | F5: 2011
A6: Exportações (1) | B6: 595986.62 | C6: 575965.58 | D6: 544011.29 | E6: 614380.2 | F6: 656918.26 | G6: 703504.84 | H6: 720793.56 | I6: 726284.8 | J6: =SUM('[1]2'!T7:T18) -> 735533.91 | K6: 723973.62 | L6: 778041 | M6: 800341.54 | N6: 819402.34 | O6: 856189.68 | P6: 925952.68 | Q6: 938963.29 | R6: 924632.3 | S6: 964013.41 | T6: 954331.52 | V6: 539300.03 | W6: 503928.45 | X6: 955896.59 | Y6: 914984.79 | AE6: Intra+ Extra | AH6: INTA | AK6: Extra
A7: TVH | C7: =(C6-B6)/B6 -> -0.033593102 | D7: =(D6-C6)/C6 -> -0.055479507 | E7: =(E6-D6)/D6 -> 0.12935194 | F7: =(F6-E6)/E6 -> 0.069237346 | G7: =(G6-F6)/F6 -> 0.070916852 | H7: =(H6-G6)/G6 -> 0.024575136 | I7: =(I6-H6)/H6 -> 0.0076183269 | J7: =(J6-I6)/I6 -> 0.012734814 | ... T7: =(T6-S6)/S6 -> -0.010043321 | W7: =(W6-V6)/V6 -> -0.065587951 | Y7: =(Y6-X6)/X6 -> -0.042799392 | AE7: 2012 | AF7: 2013 | AH7: 2012 | AI7: 2013 | AK7: 2012 | AL7: 2013
A8: Importações (2) | B8: 63256.661 | C8: 80362.628 | D8: 79098.748 | E8: 89493.365 | F8: 81914.569 | G8: 86371.3 | H8: 122399 | I8: 125153.99 | J8: 116754.91 | K8: 110190.54 | L8: 137205.93 | M8: 154727.05 | N8: 169208.34 | O8: 166254.71 | P8: 167736.79 | Q8: 205343.67 | R8: 197581.59 | S8: 153582.02 | T8: 163317.69 | V8: 92581.438 | W8: 91312.425 | X8: 160730.7 | Y8: 163738.06 | AD8: jan | AL8: =#REF!-#REF! -> #REF!
A9: TVH | C9: =(C8-B8)/B8 -> 0.27042159 | D9: =(D8-C8)/C8 -> -0.015727211 | E9: =(E8-D8)/D8 -> 0.13141317 | F9: =(F8-E8)/E8 -> -0.084685563 | G9: =(G8-F8)/F8 -> 0.054407062 | H9: =(H8-G8)/G8 -> 0.41712584 | I9: =(I8-H8)/H8 -> 0.022508272 | J9: =(J8-I8)/I8 -> -0.067109981 | ... T9: =(T8-S8)/S8 -> 0.063390729 | W9: =(W8-V8)/V8 -> -0.013706992 | Y9: =(Y8-X8)/X8 -> 0.018710545 | AD9: fev | AL9: =#REF!-#REF! -> #REF!
A10: Saldo [ (1)-(2) ] | B10: =(B6-B8) -> 532729.95 | C10: =(C6-C8) -> 495602.95 | D10: =(D6-D8) -> 464912.54 | E10: =(E6-E8) -> 524886.84 | F10: =(F6-F8) -> 575003.69 | G10: =(G6-G8) -> 617133.54 | H10: =(H6-H8) -> 598394.56 | I10: =(I6-I8) -> 601130.81 | ... T10: =(T6-T8) -> 791013.82 | V10: =V6-V8 -> 446718.59 | W10: =W6-W8 -> 412616.02 | X10: =X6-X8 -> 795165.89 | Y10: =Y6-Y8 -> 751246.73 | AD10: mar | AL10: =#REF!-#REF! -> #REF!
A11: TVH | C11: =(C10-B10)/B10 -> -0.069691981 | D11: =(D10-C10)/C10 -> -0.06192539 | E11: =(E10-D10)/D10 -> 0.12900125 | F11: =(F10-E10)/E10 -> 0.095481249 | G11: =(G10-F10)/F10 -> 0.073268824 | H11: =(H10-G10)/G10 -> -0.030364537 | I11: =(I10-H10)/H10 -> 0.0045726535 | J11: =(J10-I10)/I10 -> 0.029358309 | ... T11: =(T10-S10)/S10 -> -0.023959551 | W11: =(W10-V10)/V10 -> -0.076340165 | Y11: =(Y10-X10)/X10 -> -0.055232691 | AD11: abr | AL11: =#REF!-#REF! -> #REF!
A12: Cobertura [ (1) / (2) ] | B12: =(B6/B8) -> 9.4217211 | C12: =(C6/C8) -> 7.1670824 | D12: =(D6/D8) -> 6.877622 | E12: =(E6/E8) -> 6.8650922 | F12: =(F6/F8) -> 8.0195534 | V12: =(V6/V8) -> 5.8251421 | W12: =(W6/W8) -> 5.5187281 | X12: =X6/X8 -> 5.9471935 | Y12: =Y6/Y8 -> 5.5881009 | AD12: mai | AL12: =#REF!-#REF! -> #REF!
AD13: jun | AL13: =#REF!-#REF! -> #REF!
A14: Intra UE | B14: 2007 | C14: 2008 | D14: 2009 | E14: 2010 | F14: 2011 | G14: 2012 | H14: 2013 | I14: 2014 | J14: 2015 | K14: 2016 | L14: 2017 | M14: 2018 | N14: 2019 | O14: 2020 | P14: 2021 | Q14: 2022 | R14: 2023 | S14: 2024 | T14: 2025 | U14: Evolução anual | V14: =V3 -> jan-jul | X14: Ano Móvel | AD14: jul | AL14: =#REF!-#REF! -> #REF!
U15: =U4 -> 2007/2025 | V15: =V4 -> 2025 | W15: =W4 -> 2026 | X15: =X4 -> ago 2024 a jul 2025 | Y15: =Y4 -> ago 2025 a jul 2026 | AD15: ago | AL15: =#REF!-#REF! -> #REF!
B16: 2007 | C16: 2008 | D16: 2009 | E16: 2010 | F16: 2011 | AD16: set | AL16: =#REF!-#REF! -> #REF!
A17: Exportações (1) | B17: 392293.99 | C17: 370979.68 | D17: 344222 | E17: 386156.65 | F17: 390987.57 | G17: 406063.09 | H17: 407598.05 | I17: 406953.17 | J17: 421887.39 | K17: 431264.8 | L17: 442364.45 | M17: 454202.09 | N17: 454929.95 | O17: 393954.14 | P17: 427968.66 | Q17: 418166.49 | R17: 404411.65 | S17: 406321.51 | T17: 404626.96 | V17: 233556.46 | W17: 212766.06 | X17: 406598.44 | Y17: 380188.4 | AD17: out | AL17: =#REF!-#REF! -> #REF!
A18: TVH | C18: =(C17-B17)/B17 -> -0.05433249 | D18: =(D17-C17)/C17 -> -0.072127078 | E18: =(E17-D17)/D17 -> 0.12182445 | F18: =(F17-E17)/E17 -> 0.01251026 | G18: =(G17-F17)/F17 -> 0.038557548 | H18: =(H17-G17)/G17 -> 0.0037801022 | I18: =(I17-H17)/H17 -> -0.0015821592 | J18: =(J17-I17)/I17 -> 0.036697643 | ... T18: =(T17-S17)/S17 -> -0.0041704634 | W18: =(W17-V17)/V17 -> -0.089016576 | Y18: =(Y17-X17)/X17 -> -0.064953604 | AD18: nov | AL18: =#REF!-#REF! -> #REF!
A19: Importações (2) | B19: 62681.056 | C19: 79621.593 | D19: 77709.867 | E19: 88593.929 | F19: 80744.22 | G19: 85348.563 | H19: 121368.93 | I19: 124143.97 | J19: 115571.71 | K19: 109068.99 | L19: 136178.73 | M19: 153404.39 | N19: 167744.46 | O19: 164346.62 | P19: 165333.11 | Q19: 202578.51 | R19: 194885.82 | S19: 150247.61 | T19: 160777.87 | V19: 90991.716 | W19: 89022.816 | X19: 157085.89 | Y19: 160518.82 | AD19: dez | AL19: =#REF!-#REF! -> #REF!
A20: TVH | C20: =(C19-B19)/B19 -> 0.27026566 | D20: =(D19-C19)/C19 -> -0.024010145 | E20: =(E19-D19)/D19 -> 0.14006023 | F20: =(F19-E19)/E19 -> -0.088603238 | G20: =(G19-F19)/F19 -> 0.057023809 | H20: =(H19-G19)/G19 -> 0.42203841 | I20: =(I19-H19)/H19 -> 0.022864467 | J20: =(J19-I19)/I19 -> -0.069050989 | ... T20: =(T19-S19)/S19 -> 0.070086033 | W20: =(W19-V19)/V19 -> -0.021638234 | Y20: =(Y19-X19)/X19 -> 0.021853834
A21: Saldo [ (1)-(2) ] | B21: =B17-B19 -> 329612.93 | C21: =C17-C19 -> 291358.09 | D21: =D17-D19 -> 266512.13 | E21: =E17-E19 -> 297562.72 | F21: =F17-F19 -> 310243.35 | G21: =G17-G19 -> 320714.53 | H21: =H17-H19 -> 286229.12 | I21: =I17-I19 -> 282809.2 | ... T21: =T17-T19 -> 243849.09 | V21: =V17-V19 -> 142564.74 | W21: =W17-W19 -> 123743.24 | X21: =X17-X19 -> 249512.54 | Y21: =Y17-Y19 -> 219669.58
A22: TVH | C22: =(C21-B21)/B21 -> -0.11605991 | D22: =(D21-C21)/C21 -> -0.08527635 | E22: =(E21-D21)/D21 -> 0.11650724 | F22: =(F21-E21)/E21 -> 0.042614978 | G22: =(G21-F21)/F21 -> 0.033751502 | H22: =(H21-G21)/G21 -> -0.10752681 | I22: =(I21-H21)/H21 -> -0.011948194 | J22: =(J21-I21)/I21 -> 0.083117827 | ... T22: =(T21-S21)/S21 -> -0.047739376 | W22: =(W21-V21)/V21 -> -0.13202069 | Y22: =(Y21-X21)/X21 -> -0.11960506
A23: Cobertura [ (1) / (2) ] | B23: =(B17/B19) -> 6.2585734 | C23: =(C17/C19) -> 4.6592848 | D23: =(D17/D19) -> 4.429579 | E23: =(E17/E19) -> 4.3587259 | F23: =(F17/F19) -> 4.842298 | V23: =(V17/V19) -> 2.5667881 | W23: =(W17/W19) -> 2.3900172 | X23: =X17/X19 -> 2.5883829 | Y23: =Y17/Y19 -> 2.3684973
A25: Extra UE | B25: 2007 | C25: 2008 | D25: 2009 | E25: 2010 | F25: 2011 | G25: 2012 | H25: 2013 | I25: 2014 | J25: 2015 | K25: 2016 | L25: 2017 | M25: 2018 | N25: 2019 | O25: 2020 | P25: 2021 | Q25: 2022 | R25: 2023 | S25: 2024 | T25: 2025 | U25: Evolução anual | V25: =V14 -> jan-jul | X25: Ano Móvel
U26: =U4 -> 2007/2025 | V26: =V4 -> 2025 | W26: =W4 -> 2026 | X26: =X4 -> ago 2024 a jul 2025 | Y26: =Y4 -> ago 2025 a jul 2026
B27: 2007 | C27: 2008 | D27: 2009 | E27: 2010 | F27: 2011
A28: Exportações (1) | B28: 203692.63 | C28: 204985.9 | D28: 199789.29 | E28: 228223.55 | F28: 265930.69 | G28: 297441.74 | H28: 313195.51 | I28: 319331.63 | J28: 313646.51 | K28: 292708.82 | L28: 335676.55 | M28: 346139.44 | N28: 364472.39 | O28: 462235.53 | P28: 497984.02 | Q28: 520796.8 | R28: 520220.65 | S28: 557691.9 | T28: 549704.55 | V28: 305743.57 | W28: 291162.39 | X28: 549298.15 | Y28: 534796.39
A29: TVH | C29: =(C28-B28)/B28 -> 0.0063491252 | D29: =(D28-C28)/C28 -> -0.025351041 | E29: =(E28-D28)/D28 -> 0.14232124 | F29: =(F28-E28)/E28 -> 0.16522017 | G29: =(G28-F28)/F28 -> 0.11849348 | H29: =(H28-G28)/G28 -> 0.052964211 | I29: =(I28-H28)/H28 -> 0.019591999 | J29: =(J28-I28)/I28 -> -0.017803185 | ... T29: =(T28-S28)/S28 -> -0.01432215 | W29: =(W28-V28)/V28 -> -0.047690906 | Y29: =(Y28-X28)/X28 -> -0.026400524
A30: Importações (2) | B30: 575.605 | C30: 741.035 | D30: 1388.881 | E30: 899.436 | F30: 1170.349 | G30: 1022.737 | H30: 1030.066 | I30: 1010.02 | J30: 1183.202 | K30: 1121.55 | L30: 1027.2 | M30: 1322.664 | N30: 1463.875 | O30: 1908.09 | P30: 2403.679 | Q30: 2765.16 | R30: 2695.772 | S30: 3334.405 | T30: 2539.822 | V30: 1589.722 | W30: 2289.609 | X30: 3644.807 | Y30: 3219.237
A31: TVH | C31: =(C30-B30)/B30 -> 0.28740195 | D31: =(D30-C30)/C30 -> 0.87424481 | E31: =(E30-D30)/D30 -> -0.3524024 | F31: =(F30-E30)/E30 -> 0.3012032 | G31: =(G30-F30)/F30 -> -0.12612648 | H31: =(H30-G30)/G30 -> 0.0071660652 | I31: =(I30-H30)/H30 -> -0.019460889 | J31: =(J30-I30)/I30 -> 0.17146393 | ... T31: =(T30-S30)/S30 -> -0.23829829 | W31: =(W30-V30)/V30 -> 0.44025748 | Y31: =(Y30-X30)/X30 -> -0.11676064
A32: Saldo [ (1)-(2) ] | B32: =(B28-B30) -> 203117.02 | C32: =(C28-C30) -> 204244.86 | D32: =(D28-D30) -> 198400.41 | E32: =(E28-E30) -> 227324.12 | F32: =(F28-F30) -> 264760.34 | G32: =(G28-G30) -> 296419 | H32: =(H28-H30) -> 312165.44 | I32: =(I28-I30) -> 318321.61 | ... T32: =(T28-T30) -> 547164.73 | V32: =V28-V30 -> 304153.85 | W32: =W28-W30 -> 288872.78 | X32: =X28-X30 -> 545653.34 | Y32: =Y28-Y30 -> 531577.15
A33: TVH | C33: =(C32-B32)/B32 -> 0.0055526611 | D33: =(D32-C32)/C32 -> -0.028614928 | E33: =(E32-D32)/D32 -> 0.1457845 | F33: =(F32-E32)/E32 -> 0.16468214 | G33: =(G32-F32)/F32 -> 0.1195748 | H33: =(H32-G32)/G32 -> 0.053122228 | I33: =(I32-H32)/H32 -> 0.019720863 | J33: =(J32-I32)/I32 -> -0.01840372 | ... T33: =(T32-S32)/S32 -> -0.012974956 | W33: =(W32-V32)/V32 -> -0.050241267 | Y33: =(Y32-X32)/X32 -> -0.025796945
A34: Cobertura [ (1) / (2) ] | B34: =(B28/B30) -> 353.87571 | C34: =(C28/C30) -> 276.62108 | D34: =(D28/D30) -> 143.84911 | E34: =(E28/E30) -> 253.74074 | F34: =(F28/F30) -> 227.22341 | V34: =(V28/V30) -> 192.32518 | W34: =(W28/W30) -> 127.16686
A36: TVH - Taxa de Variação Homóloga

Sheet 2
A1: Evolução Mensal e Trimestral das Exportações
S3: HL | AM3: 1000 | BF3: € / Litro
A4: Intra + Extra UE | B4: Exportação | S4: D 2026/2025 | U4: Intra + Extra UE | V4: Exportação | AM4: D 2026/2025 | AO4: Exportação | BF4: D 2026/2025
B5: 2010 | C5: 2011 | D5: 2012 | E5: 2013 | F5: 2014 | G5: 2015 | H5: 2016 | I5: 2017 | J5: 2018 | K5: 2019 | L5: 2020 | M5: 2021 | N5: 2022 | O5: 2023 | P5: 2024 | Q5: 2025 | R5: 2026 | V5: 2010 | W5: 2011 | X5: 2012 | Y5: 2013 | Z5: 2014 | AA5: 2015 | AB5: 2016 | AC5: 2017 | AD5: 2018 | AE5: 2019 | AF5: 2020 | AG5: 2021 | AH5: 2022 | AI5: 2023 | AJ5: 2024 | AK5: 2025 | AL5: 2026 | AO5: 2010 | AP5: 2011 | AQ5: 2012 | AR5: 2013 | AS5: 2014 | AT5: 2015 | AU5: 2016 | AV5: 2017 | AW5: 2018 | AX5: 2019 | AY5: 2020 | AZ5: 2021 | BA5: 2022 | BB5: 2023 | BC5: 2024 | BD5: 2025 | BE5: 2026
V6: 2010 | W6: 2011 | X6: 2012
A7: janeiro | B7: 162618.45 | C7: 156534.07 | D7: 239190.2 | E7: 213768.75 | F7: 196345.2 | G7: 183217.21 | H7: 164354.56 | I7: 192935.98 | J7: 211445.75 | K7: 219278.33 | L7: 238978.53 | M7: 227977.61 | N7: 227139.87 | O7: 233829.63 | P7: 221549.68 | Q7: 244001.89 | R7: 208093.58 | S7: =(IF(R7="","",((R7-Q7)/Q7))) -> -0.14716406 | U7: janeiro | V7: 37448.925 | W7: 38839.966 | X7: 43280.929 | Y7: 45616.113 | Z7: 47446.347 | AA7: 44866.651 | AB7: 44731.008 | AC7: 48635.341 | AD7: 54050.858 | AE7: 57478.924 | AF7: 63485.804 | AG7: 59844.614 | AH7: 63073.41 | AI7: 62328.526 | AJ7: 66227.47 | AK7: 67131.155 | AL7: 58876.236 | AM7: =IF(AL7="","",(AL7-AK7)/AK7) -> -0.12296703 | AO7: =(V7/B7)*10 -> 2.3028706 | AP7: =(W7/C7)*10 -> 2.4812468 | AQ7: =(X7/D7)*10 -> 1.8094775 | AR7: =(Y7/E7)*10 -> 2.1339 | AS7: =(Z7/F7)*10 -> 2.416476 | AT7: =(AA7/G7)*10 -> 2.448823 | AU7: =(AB7/H7)*10 -> 2.7216165 | AV7: =(AC7/I7)*10 -> 2.520802 | ... BD7: =(AK7/Q7)*10 -> 2.7512555 | BE7: =IF(AL7="","",(AL7/R7)*10) -> 2.8293153 | BF7: =IF(BE7="","",(BE7-BD7)/BD7) -> 0.028372434
A8: fevereiro | B8: 161664.08 | C8: 214997.14 | D8: 230196.24 | E8: 260171.31 | F8: 219768.15 | G8: 191622.9 | H8: 187100.07 | I8: 187560.18 | J8: 245913.44 | K8: 226330.76 | L8: 217081.87 | M8: 235166.12 | N8: 245888.13 | O8: 225923.72 | P8: 259397.2 | Q8: 282330.73 | R8: 235363.32 | S8: =(IF(R8="","",((R8-Q8)/Q8))) -> -0.166356 | U8: fevereiro | V8: 39208.558 | W8: 43534.875 | X8: 46936.958 | Y8: 51921.968 | Z8: 51933.389 | AA8: 46937.145 | AB8: 48461.34 | AC8: 48751.32 | AD8: 57358.343 | AE8: 60378.148 | AF8: 54982.761 | AG8: 61551.606 | AH8: 68116.977 | AI8: 65467.732 | AJ8: 72469.3 | AK8: 73917.691 | AL8: 65211.168 | AM8: =IF(AL8="","",(AL8-AK8)/AK8) -> -0.11778673 | AO8: =(V8/B8)*10 -> 2.4253104 | AP8: =(W8/C8)*10 -> 2.0249048 | AQ8: =(X8/D8)*10 -> 2.0389976 | AR8: =(Y8/E8)*10 -> 1.9956838 | AS8: =(Z8/F8)*10 -> 2.363099 | AT8: =(AA8/G8)*10 -> 2.4494538 | AU8: =(AB8/H8)*10 -> 2.5901294 | AV8: =(AC8/I8)*10 -> 2.5992361 | ... BD8: =(AK8/Q8)*10 -> 2.6181242 | BE8: =IF(AL8="","",(AL8/R8)*10) -> 2.7706598 | BF8: =IF(BE8="","",(BE8-BD8)/BD8) -> 0.058261402
A9: março | B9: 247651.76 | C9: 229392.75 | D9: 306569.51 | E9: 231638.54 | F9: 216803.5 | G9: 258485.74 | H9: 249519.09 | I9: 240693.53 | J9: 242853 | K9: 231554.96 | L9: 255533.77 | M9: 314789.03 | N9: 282540.76 | O9: 287648.48 | P9: 282200.9 | Q9: 281682.13 | R9: 286620.56 | S9: =(IF(R9="","",((R9-Q9)/Q9))) -> 0.017531925 | U9: março | V9: 51168.477 | W9: 49454.936 | X9: 57419.121 | Y9: 50259.945 | Z9: 50881.622 | AA9: 62257.106 | AB9: 56423.886 | AC9: 66075.245 | AD9: 64577.566 | AE9: 61804.522 | AF9: 66953.593 | AG9: 87119.218 | AH9: 80072.687 | AI9: 82246.04 | AJ9: 78377.244 | AK9: 73408.961 | AL9: 78117.685 | AM9: =IF(AL9="","",(AL9-AK9)/AK9) -> 0.064143722 | AO9: =(V9/B9)*10 -> 2.0661463 | AP9: =(W9/C9)*10 -> 2.1559067 | AQ9: =(X9/D9)*10 -> 1.872956 | AR9: =(Y9/E9)*10 -> 2.1697575 | AS9: =(Z9/F9)*10 -> 2.3469004 | AT9: =(AA9/G9)*10 -> 2.4085315 | AU9: =(AB9/H9)*10 -> 2.2613054 | AV9: =(AC9/I9)*10 -> 2.7452024 | ... BD9: =(AK9/Q9)*10 -> 2.6060922 | BE9: =IF(AL9="","",(AL9/R9)*10) -> 2.7254739 | BF9: =IF(BE9="","",(BE9-BD9)/BD9) -> 0.045808683
A10: abril | B10: 215335.86 | C10: 234500.52 | D10: 245047.84 | E10: 295201.41 | F10: 217619.54 | G10: 264598.62 | H10: 251369.34 | I10: 225265.57 | J10: 280278.36 | K10: 242604.25 | L10: 221930.12 | M10: 289475 | N10: 262360.58 | O10: 242301.33 | P10: 321597.08 | Q10: 282174.21 | R10: 283860.34 | S10: =(IF(R10="","",((R10-Q10)/Q10))) -> 0.0059754929 | U10: abril | V10: 46025.075 | W10: 44904.889 | X10: 48943.746 | Y10: 56740.441 | Z10: 53780.959 | AA10: 62171.205 | AB10: 54315.156 | AC10: 53392.404 | AD10: 64781.76 | AE10: 61456.497 | AF10: 59545.285 | AG10: 77717.852 | AH10: 72456.436 | AI10: 68969.697 | AJ10: 85848.441 | AK10: 76086.711 | AL10: 78165.553 | AM10: =IF(AL10="","",(AL10-AK10)/AK10) -> 0.027322012 | AO10: =(V10/B10)*10 -> 2.1373623 | AP10: =(W10/C10)*10 -> 1.9149164 | AQ10: =(X10/D10)*10 -> 1.9973139 | AR10: =(Y10/E10)*10 -> 1.9220925 | AS10: =(Z10/F10)*10 -> 2.4713295 | AT10: =(AA10/G10)*10 -> 2.3496421 | AU10: =(AB10/H10)*10 -> 2.1607709 | AV10: =(AC10/I10)*10 -> 2.3701982 | ... BD10: =(AK10/Q10)*10 -> 2.6964445 | BE10: =IF(AL10="","",(AL10/R10)*10) -> 2.7536623 | BF10: =IF(BE10="","",(BE10-BD10)/BD10) -> 0.02121972
A11: maio | B11: 222013.68 | C11: 263893.26 | D11: 299190.63 | E11: 256106.35 | F11: 230811.05 | G11: 216672.05 | H11: 236802.17 | I11: 260243.39 | J11: 262127.07 | K11: 281547.48 | L11: 229388.95 | M11: 288153.11 | N11: 276301.92 | O11: 281804.58 | P11: 306293.24 | Q11: 319107.93 | R11: 250547.67 | S11: =(IF(R11="","",((R11-Q11)/Q11))) -> -0.21484975 | U11: maio | V11: 47205.196 | W11: 52842.769 | X11: 54431.923 | Y11: 55981.48 | Z11: 55053.41 | AA11: 55267.651 | AB11: 56035.016 | AC11: 66317.002 | AD11: 64324.446 | AE11: 68453.83 | AF11: 58256.008 | AG11: 77143.061 | AH11: 76795.082 | AI11: 80880.138 | AJ11: 80938.011 | AK11: 83332.546 | AL11: 68259.633 | AM11: =IF(AL11="","",(AL11-AK11)/AK11) -> -0.18087666 | AO11: =(V11/B11)*10 -> 2.1262292 | AP11: =(W11/C11)*10 -> 2.0024297 | AQ11: =(X11/D11)*10 -> 1.8193057 | AR11: =(Y11/E11)*10 -> 2.1858685 | AS11: =(Z11/F11)*10 -> 2.3852155 | AT11: =(AA11/G11)*10 -> 2.5507513 | AU11: =(AB11/H11)*10 -> 2.3663219 | AV11: =(AC11/I11)*10 -> 2.5482684 | ... BD11: =(AK11/Q11)*10 -> 2.611422 | BE11: =IF(AL11="","",(AL11/R11)*10) -> 2.724417 | BF11: =IF(BE11="","",(BE11-BD11)/BD11) -> 0.043269538
A12: junho | B12: 215680.73 | C12: 298357.37 | D12: 243274.91 | E12: 242334.35 | F12: 229301.41 | G12: 227631.28 | H12: 210795.04 | I12: 279141.12 | J12: 254074.62 | K12: 214797.02 | L12: 270265.61 | M12: 280199.61 | N12: 254653.79 | O12: 308172.17 | P12: 276915.73 | Q12: 281630.45 | R12: 264291.82 | S12: =(IF(R12="","",((R12-Q12)/Q12))) -> -0.061565182 | U12: junho | V12: 45837.497 | W12: 51105.701 | X12: 50899.005 | Y12: 50438.382 | Z12: 52151.922 | AA12: 56091.163 | AB12: 52714.073 | AC12: 64528.73 | AD12: 62742.375 | AE12: 55571.388 | AF12: 66351.211 | AG12: 74866.906 | AH12: 70242.043 | AI12: 86964.572 | AJ12: 72516.952 | AK12: 75977.716 | AL12: 72089.471 | AM12: =IF(AL12="","",(AL12-AK12)/AK12) -> -0.051176124 | AO12: =(V12/B12)*10 -> 2.1252477 | AP12: =(W12/C12)*10 -> 1.7129022 | AQ12: =(X12/D12)*10 -> 2.0922423 | AR12: =(Y12/E12)*10 -> 2.081355 | AS12: =(Z12/F12)*10 -> 2.274383 | AT12: =(AA12/G12)*10 -> 2.4641237 | AU12: =(AB12/H12)*10 -> 2.5007264 | AV12: =(AC12/I12)*10 -> 2.3116884 | ... BD12: =(AK12/Q12)*10 -> 2.6977806 | BE12: =IF(AL12="","",(AL12/R12)*10) -> 2.7276467 | BF12: =IF(BE12="","",(BE12-BD12)/BD12) -> 0.011070623
A13: julho | B13: 248639.3 | C13: 301296.24 | D13: 302219.03 | E13: 271364.14 | F13: 280219.01 | G13: 268822.42 | H13: 250739.99 | I13: 253691.2 | J13: 257419.71 | K13: 275641.56 | L13: 333531.09 | M13: 285935.8 | N13: 296026.54 | O13: 298746.17 | P13: 333986.91 | Q13: 332553.51 | R13: 291958.88 | S13: =(IF(R13="","",((R13-Q13)/Q13))) -> -0.12206947 | U13: julho | V13: 54364.509 | W13: 59788.319 | X13: 62714.639 | Y13: 65018.055 | Z13: 69122.018 | AA13: 69013.11 | AB13: 62444.104 | AC13: 64721.65 | AD13: 68976.124 | AE13: 78608.732 | AF13: 87158.587 | AG13: 82708.234 | AH13: 82133.286 | AI13: 86869.535 | AJ13: 91039.436 | AK13: 89445.25 | AL13: 83208.7 | AM13: =IF(AL13="","",(AL13-AK13)/AK13) -> -0.069724776 | AO13: =(V13/B13)*10 -> 2.1864809 | AP13: =(W13/C13)*10 -> 1.9843699 | AQ13: =(X13/D13)*10 -> 2.0751387 | AR13: =(Y13/E13)*10 -> 2.3959708 | AS13: =(Z13/F13)*10 -> 2.4667141 | AT13: =(AA13/G13)*10 -> 2.5672379 | AU13: =(AB13/H13)*10 -> 2.4903927 | AV13: =(AC13/I13)*10 -> 2.5511981 | ... BD13: =(AK13/Q13)*10 -> 2.6896499 | BE13: =IF(AL13="","",(AL13/R13)*10) -> 2.8500144 | BF13: =IF(BE13="","",(BE13-BD13)/BD13) -> 0.059622818
A14: agosto | B14: 188089.7 | C14: 220263.89 | D14: 238438.41 | E14: 192903.75 | F14: 168311.42 | G14: 186814.79 | H14: 210170.45 | I14: 215685.89 | J14: 216097.52 | K14: 196206.75 | L14: 214684.44 | M14: 233437.77 | N14: 250505.71 | O14: 265322.09 | P14: 262177.63 | Q14: 245103.13 | S14: =(IF(R14="","",((R14-Q14)/Q14))) | U14: agosto | V14: 39184.329 | W14: 43186.21 | X14: 48896.256 | Y14: 49231.409 | Z14: 41790.909 | AA14: 45062.925 | AB14: 49976.914 | AC14: 51045.448 | AD14: 55934.431 | AE14: 52837.048 | AF14: 57801.854 | AG14: 60956.923 | AH14: 70221.736 | AI14: 68408.922 | AJ14: 68952.827 | AK14: 64168.421 | AM14: =IF(AL14="","",(AL14-AK14)/AK14) | AO14: =(V14/B14)*10 -> 2.0832788 | AP14: =(W14/C14)*10 -> 1.9606577 | AQ14: =(X14/D14)*10 -> 2.0506871 | AR14: =(Y14/E14)*10 -> 2.552123 | AS14: =(Z14/F14)*10 -> 2.4829515 | AT14: =(AA14/G14)*10 -> 2.4121712 | AU14: =(AB14/H14)*10 -> 2.377923 | AV14: =(AC14/I14)*10 -> 2.3666568 | ... BD14: =(AK14/Q14)*10 -> 2.6180172 | BE14: =IF(AL14="","",(AL14/R14)*10) | BF14: =IF(BE14="","",(BE14-BD14)/BD14)
A15: setembro | B15: 276286.44 | C15: 291231.53 | D15: 295760.24 | E15: 290599.49 | F15: 290227.68 | G15: 248925.35 | H15: 261926.87 | I15: 267823.91 | J15: 219687.75 | K15: 266084.85 | L15: 301265 | M15: 280354.08 | N15: 303137.79 | O15: 266427.34 | P15: 253800.34 | Q15: 293879.07 | S15: =(IF(R15="","",((R15-Q15)/Q15))) | U15: setembro | V15: 64657.765 | W15: 67014.461 | X15: 62417.527 | Y15: 71596.117 | Z15: 76295.819 | AA15: 70793.574 | AB15: 69809.002 | AC15: 71866.598 | AD15: 67502.441 | AE15: 79059.754 | AF15: 84581.715 | AG15: 88913.321 | AH15: 91382.118 | AI15: 78672.27 | AJ15: 79762.331 | AK15: 86958.938 | AM15: =IF(AL15="","",(AL15-AK15)/AK15) | AO15: =(V15/B15)*10 -> 2.3402439 | AP15: =(W15/C15)*10 -> 2.3010716 | AQ15: =(X15/D15)*10 -> 2.1104097 | AR15: =(Y15/E15)*10 -> 2.4637386 | AS15: =(Z15/F15)*10 -> 2.6288264 | AT15: =(AA15/G15)*10 -> 2.843968 | AU15: =(AB15/H15)*10 -> 2.6652096 | AV15: =(AC15/I15)*10 -> 2.6833526 | ... BD15: =(AK15/Q15)*10 -> 2.9590041 | BE15: =IF(AL15="","",(AL15/R15)*10) | BF15: =IF(BE15="","",(BE15-BD15)/BD15)
A16: outubro | B16: 218413.53 | C16: 269385.37 | D16: 357795.17 | E16: 308575.82 | F16: 305395.49 | G16: 278553.35 | H16: 249519.28 | I16: 311771.16 | J16: 292724.18 | K16: 321608.54 | L16: 322467.65 | M16: 294277.01 | N16: 298545.54 | O16: 281897.7 | P16: 340111.73 | Q16: 340443.58 | S16: =(IF(R16="","",((R16-Q16)/Q16))) | U16: outubro | V16: 62505.199 | W16: 72259.178 | X16: 85069.484 | Y16: 87588.735 | Z16: 89099.01 | AA16: 82030.592 | AB16: 76031.939 | AC16: 87843.296 | AD16: 92024.978 | AE16: 97269.097 | AF16: 96078.873 | AG16: 90636.669 | AH16: 94985.398 | AI16: 88050.623 | AJ16: 108964.87 | AK16: 104951.54 | AM16: =IF(AL16="","",(AL16-AK16)/AK16) | AO16: =(V16/B16)*10 -> 2.8617824 | AP16: =(W16/C16)*10 -> 2.682372 | AQ16: =(X16/D16)*10 -> 2.3776029 | AR16: =(Y16/E16)*10 -> 2.8384834 | AS16: =(Z16/F16)*10 -> 2.9174959 | AT16: =(AA16/G16)*10 -> 2.944879 | AU16: =(AB16/H16)*10 -> 3.0471368 | AV16: =(AC16/I16)*10 -> 2.8175568 | ... BD16: =(AK16/Q16)*10 -> 3.082788 | BE16: =IF(AL16="","",(AL16/R16)*10) | BF16: =IF(BE16="","",(BE16-BD16)/BD16)
A17: novembro | B17: 283992.14 | C17: 340923.25 | D17: 307861.13 | E17: 286413.16 | F17: 274219.11 | G17: 273526.25 | H17: 315362.6 | I17: 306231.5 | J17: 274210.35 | K17: 273617.81 | L17: 319048.99 | M17: 318333.36 | N17: 339529.76 | O17: 295756.67 | P17: 295483.5 | Q17: 263112.82 | S17: =(IF(R17="","",((R17-Q17)/Q17))) | U17: novembro | V17: 75798.924 | W17: 78510.059 | X17: 82860.765 | Y17: 82287.182 | Z17: 81224.971 | AA17: 82936.982 | AB17: 94068.772 | AC17: 90812.541 | AD17: 85853.54 | AE17: 81718.175 | AF17: 93299.053 | AG17: 97861.879 | AH17: 103988.55 | AI17: 93005.015 | AJ17: 91560.633 | AK17: 87265.749 | AM17: =IF(AL17="","",(AL17-AK17)/AK17) | AO17: =(V17/B17)*10 -> 2.6690501 | AP17: =(W17/C17)*10 -> 2.3028661 | AQ17: =(X17/D17)*10 -> 2.6914981 | AR17: =(Y17/E17)*10 -> 2.8730238 | AS17: =(Z17/F17)*10 -> 2.9620463 | AT17: =(AA17/G17)*10 -> 3.0321398 | AU17: =(AB17/H17)*10 -> 2.9828766 | AV17: =(AC17/I17)*10 -> 2.9654866 | ... BD17: =(AK17/Q17)*10 -> 3.3166666 | BE17: =IF(AL17="","",(AL17/R17)*10) | BF17: =IF(BE17="","",(BE17-BD17)/BD17)
A18: dezembro | B18: 226068.23 | C18: 257835.05 | D18: 297135.57 | E18: 191538.03 | F18: 207146.77 | G18: 199318.67 | H18: 191845.39 | I18: 240526.04 | J18: 195141.51 | K18: 213937.47 | L18: 227207.97 | M18: 239927.22 | N18: 216943.65 | O18: 202121.92 | P18: 215837.91 | Q18: 225910.84 | S18: =(IF(R18="","",((R18-Q18)/Q18))) | U18: dezembro | V18: 50975.751 | W18: 55476.897 | X18: 59634.482 | Y18: 54113.735 | Z18: 57504.427 | AA18: 58105.801 | AB18: 58962.415 | AC18: 64051.425 | AD18: 62214.675 | AE18: 64766.223 | AF18: 67694.932 | AG18: 68116.868 | AH18: 65495.568 | AI18: 62769.23 | AJ18: 67355.898 | AK18: 67711.703 | AM18: =IF(AL18="","",(AL18-AK18)/AK18) | AO18: =(V18/B18)*10 -> 2.2548834 | AP18: =(W18/C18)*10 -> 2.151643 | AQ18: =(X18/D18)*10 -> 2.0069789 | AR18: =(Y18/E18)*10 -> 2.8252214 | AS18: =(Z18/F18)*10 -> 2.7760233 | AT18: =(AA18/G18)*10 -> 2.9152212 | AU18: =(AB18/H18)*10 -> 3.073434 | AV18: =(AC18/I18)*10 -> 2.6629726 | ... BD18: =(AK18/Q18)*10 -> 2.9972755 | BE18: =IF(AL18="","",(AL18/R18)*10) | BF18: =IF(BE18="","",(BE18-BD18)/BD18)
A19: jan-jul | B19: =SUM(B7:B13) -> 1473603.9 | C19: =SUM(C7:C13) -> 1698971.4 | D19: =SUM(D7:D13) -> 1865688.4 | E19: =SUM(E7:E13) -> 1770584.8 | F19: =SUM(F7:F13) -> 1590867.9 | G19: =SUM(G7:G13) -> 1611050.2 | H19: =SUM(H7:H13) -> 1550680.3 | I19: =SUM(I7:I13) -> 1639531 | ... R19: =SUM(R7:R13) -> 1820736.2 | S19: =(R19-Q19)/Q19 -> -0.100196 | V19: =SUM(V7:V13) -> 321258.24 | W19: =SUM(W7:W13) -> 340471.45 | X19: =SUM(X7:X13) -> 364626.32 | Y19: =SUM(Y7:Y13) -> 375976.38 | Z19: =SUM(Z7:Z13) -> 380369.67 | AA19: =SUM(AA7:AA13) -> 396604.03 | AB19: =SUM(AB7:AB13) -> 375124.58 | AC19: =SUM(AC7:AC13) -> 412421.69 | ... AL19: =SUM(AL7:AL13) -> 503928.45 | AM19: =IF(AL19="","",(AL19-AK19)/AK19) -> -0.065587951 | AO19: =(V19/B19)*10 -> 2.1800855 | AP19: =(W19/C19)*10 -> 2.0039859 | AQ19: =(X19/D19)*10 -> 1.9543796 | AR19: =(Y19/E19)*10 -> 2.1234587 | AS19: =(Z19/F19)*10 -> 2.390957 | AT19: =(AA19/G19)*10 -> 2.4617732 | AU19: =(AB19/H19)*10 -> 2.4190969 | AV19: =(AC19/I19)*10 -> 2.5154858 | ... BD19: =(AK19/Q19)*10 -> 2.6652095 | BE19: =IF(AL19="","",(AL19/R19)*10) -> 2.7677181 | BF19: =IF(BE19="","",(BE19-BD19)/BD19) -> 0.03846176
A20: 1ª Trim | B20: =SUM(B7:B9) -> 571934.29 | C20: =SUM(C7:C9) -> 600923.96 | D20: =SUM(D7:D9) -> 775955.95 | E20: =SUM(E7:E9) -> 705578.6 | F20: =SUM(F7:F9) -> 632916.85 | G20: =SUM(G7:G9) -> 633325.85 | H20: =SUM(H7:H9) -> 600973.72 | I20: =SUM(I7:I9) -> 621189.69 | ... Q20: =SUM(Q7:Q9) -> 808014.75 | R20: =IF(R9="","",SUM(R7:R9)) -> 730077.46 | S20: =IF(R20="","",(R20-Q20)/Q20) -> -0.096455281 | U20: 1ª Trim | V20: =SUM(V7:V9) -> 127825.96 | W20: =SUM(W7:W9) -> 131829.78 | X20: =SUM(X7:X9) -> 147637.01 | Y20: =SUM(Y7:Y9) -> 147798.03 | Z20: =SUM(Z7:Z9) -> 150261.36 | AA20: =SUM(AA7:AA9) -> 154060.9 | AB20: =SUM(AB7:AB9) -> 149616.23 | AC20: =SUM(AC7:AC9) -> 163461.91 | ... AK20: =SUM(AK7:AK9) -> 214457.81 | AL20: =IF(AL9="","",SUM(AL7:AL9)) -> 202205.09 | AM20: =IF(AL20="","",(AL20-AK20)/AK20) -> -0.057133467 | AO20: =(V20/B20)*10 -> 2.2349763 | AP20: =(W20/C20)*10 -> 2.1937847 | AQ20: =(X20/D20)*10 -> 1.9026468 | AR20: =(Y20/E20)*10 -> 2.0947068 | AS20: =(Z20/F20)*10 -> 2.374109 | AT20: =(AA20/G20)*10 -> 2.4325693 | AU20: =(AB20/H20)*10 -> 2.4895637 | AV20: =(AC20/I20)*10 -> 2.631433 | ... BD20: =(AK20/Q20)*10 -> 2.6541323 | BE20: =IF(AL20="","",(AL20/R20)*10) -> 2.7696388 | BF20: =IF(BE20="","",(BE20-BD20)/BD20) -> 0.0435195
A21: 2º Trim | B21: =SUM(B10:B12) -> 653030.27 | C21: =SUM(C10:C12) -> 796751.15 | D21: =SUM(D10:D12) -> 787513.38 | E21: =SUM(E10:E12) -> 793642.11 | F21: =SUM(F10:F12) -> 677732 | G21: =SUM(G10:G12) -> 708901.95 | H21: =SUM(H10:H12) -> 698966.55 | I21: =SUM(I10:I12) -> 764650.08 | ... R21: =SUM(R10:R12) -> 798699.83 | S21: =IF(R21="","",(R21-Q21)/Q21) -> -0.095380631 | U21: 2º Trim | V21: =SUM(V10:V12) -> 139067.77 | W21: =SUM(W10:W12) -> 148853.36 | X21: =SUM(X10:X12) -> 154274.67 | Y21: =SUM(Y10:Y12) -> 163160.3 | Z21: =SUM(Z10:Z12) -> 160986.29 | AA21: =SUM(AA10:AA12) -> 173530.02 | AB21: =SUM(AB10:AB12) -> 163064.25 | AC21: =SUM(AC10:AC12) -> 184238.14 | ... AK21: =SUM(AK10:AK12) -> 235396.97 | AL21: =IF(AL12="","",SUM(AL10:AL12)) -> 218514.66 | AM21: =IF(AL21="","",(AL21-AK21)/AK21) -> -0.071718492 | AO21: =(V21/B21)*10 -> 2.1295761 | AP21: =(W21/C21)*10 -> 1.8682541 | AQ21: =(X21/D21)*10 -> 1.9590102 | AR21: =(Y21/E21)*10 -> 2.0558423 | AS21: =(Z21/F21)*10 -> 2.375368 | AT21: =(AA21/G21)*10 -> 2.4478705 | AU21: =(AB21/H21)*10 -> 2.3329335 | AV21: =(AC21/I21)*10 -> 2.4094438 | ... BD21: =(AK21/Q21)*10 -> 2.6661413 | BE21: =IF(AL21="","",(AL21/R21)*10) -> 2.7358796 | BF21: =IF(BE21="","",(BE21-BD21)/BD21) -> 0.026157011
A22: 3º Trim | B22: =SUM(B13:B15) -> 713015.44 | C22: =SUM(C13:C15) -> 812791.66 | D22: =SUM(D13:D15) -> 836417.68 | E22: =SUM(E13:E15) -> 754867.38 | F22: =SUM(F13:F15) -> 738758.11 | G22: =SUM(G13:G15) -> 704562.56 | H22: =SUM(H13:H15) -> 722837.31 | I22: =SUM(I13:I15) -> 737201 | ... Q22: =SUM(Q13:Q15) -> 871535.71 | R22: =IF(R15="","",SUM(R13:R15)) | S22: =IF(R22="","",(R22-Q22)/Q22) | U22: 3º Trim | V22: =SUM(V13:V15) -> 158206.6 | W22: =SUM(W13:W15) -> 169988.99 | X22: =SUM(X13:X15) -> 174028.42 | Y22: =SUM(Y13:Y15) -> 185845.58 | Z22: =SUM(Z13:Z15) -> 187208.75 | AA22: =SUM(AA13:AA15) -> 184869.61 | AB22: =SUM(AB13:AB15) -> 182230.02 | AC22: =SUM(AC13:AC15) -> 187633.7 | ... AK22: =SUM(AK13:AK15) -> 240572.61 | AL22: =IF(AL15="","",SUM(AL13:AL15)) | AM22: =IF(AL22="","",(AL22-AK22)/AK22) | AO22: =(V22/B22)*10 -> 2.2188384 | AP22: =(W22/C22)*10 -> 2.0914214 | AQ22: =(X22/D22)*10 -> 2.0806402 | AR22: =(Y22/E22)*10 -> 2.4619633 | AS22: =(Z22/F22)*10 -> 2.5341007 | AT22: =(AA22/G22)*10 -> 2.623892 | AU22: =(AB22/H22)*10 -> 2.5210378 | AV22: =(AC22/I22)*10 -> 2.5452176 | ... BD22: =(AK22/Q22)*10 -> 2.7603299 | BE22: =IF(AL22="","",(AL22/R22)*10) | BF22: =IF(BE22="","",(BE22-BD22)/BD22)
A23: 4º Trim | B23: =SUM(B16:B18) -> 728473.9 | C23: =SUM(C16:C18) -> 868143.67 | D23: =SUM(D16:D18) -> 962791.87 | E23: =SUM(E16:E18) -> 786527.01 | F23: =SUM(F16:F18) -> 786761.37 | G23: =SUM(G16:G18) -> 751398.27 | H23: =SUM(H16:H18) -> 756727.27 | I23: =SUM(I16:I18) -> 858528.7 | ... Q23: =SUM(Q16:Q18) -> 829467.24 | R23: =IF(R18="","",(SUM(R16:R18))) | S23: =IF(R23="","",(R23-Q23)/Q23) | U23: 4º Trim | V23: =SUM(V16:V18) -> 189279.87 | W23: =SUM(W16:W18) -> 206246.13 | X23: =SUM(X16:X18) -> 227564.73 | Y23: =SUM(Y16:Y18) -> 223989.65 | Z23: =SUM(Z16:Z18) -> 227828.41 | AA23: =SUM(AA16:AA18) -> 223073.38 | AB23: =SUM(AB16:AB18) -> 229063.13 | AC23: =SUM(AC16:AC18) -> 242707.26 | ... AK23: =SUM(AK16:AK18) -> 259928.99 | AL23: =IF(AL18="","",SUM(AL16:AL18)) | AM23: =IF(AL23="","",(AL23-AK23)/AK23) | AO23: =(V23/B23)*10 -> 2.5983069 | AP23: =(W23/C23)*10 -> 2.3757143 | AQ23: =IF(X18="","",(X23/D23)*10) -> 2.3635922 | AR23: =IF(Y18="","",(Y23/E23)*10) -> 2.8478317 | AS23: =IF(Z18="","",(Z23/F23)*10) -> 2.8957752 | AT23: =IF(AA18="","",(AA23/G23)*10) -> 2.9687768 | AU23: =IF(AB18="","",(AB23/H23)*10) -> 3.0270235 | AV23: =IF(AC18="","",(AC23/I23)*10) -> 2.827014 | AW23: =IF(AD18="","",(AD23/J23)*10) -> 3.1505149 | AX23: =IF(AE18="","",(AE23/K23)*10) -> 3.0124122 | ... BD23: =IF(AK18="","",(AK23/Q23)*10) -> 3.133686 | BE23: =IF(AL23="","",(AL23/R23)*10) | BF23: =IF(BE23="","",(BE23-BD23)/BD23)
S25: HL | AM25: 1000 | BF25: € / Litro
A26: Intra UE | B26: Exportação | S26: D 2026/2025 | U26: Intra + Extra UE | V26: Exportação | AM26: D 2026/2025 | AO26: Exportação | BF26: =AM26 -> D 2026/2025
B27: 2010 | C27: 2011 | D27: 2012 | E27: 2013 | F27: 2014 | G27: 2015 | H27: 2016 | I27: 2017 | J27: 2018 | K27: 2019 | L27: 2020 | M27: 2021 | N27: 2022 | O27: 2023 | P27: 2024 | Q27: 2025 | R27: 2026 | V27: 2010 | W27: 2011 | X27: 2012 | Y27: 2013 | Z27: 2014 | AA27: 2015 | AB27: 2016 | AC27: 2017 | AD27: 2018 | AE27: 2019 | AF27: 2020 | AG27: 2021 | AH27: 2022 | AI27: 2023 | AJ27: 2024 | AK27: 2025 | AL27: 2026 | AO27: 2010 | AP27: 2011 | AQ27: 2012 | AR27: 2013 | AS27: 2014 | AT27: 2015 | AU27: 2016 | AV27: 2017 | AW27: 2018 | AX27: 2019 | AY27: 2020 | AZ27: 2021 | BA27: 2022 | BB27: 2023 | BC27: 2024 | BD27: 2025 | BE27: 2026
A28: mês | V28: 2010 | W28: 2011 | X28: 2012
A29: janeiro | B29: 85580.32 | C29: 80916.8 | D29: 125346.1 | E29: 120157.8 | F29: 101957.16 | G29: 91780.27 | H29: 94208.58 | I29: 96265.58 | J29: 124755.04 | K29: 116531.86 | L29: 101982.03 | M29: 106330.95 | N29: 98697.34 | O29: 97718.04 | P29: 99971.11 | Q29: 108434.15 | R29: 84083.65 | S29: =IF(R29="","",(R29-Q29)/Q29) -> -0.22456486 | U29: janeiro | V29: 23270.866 | W29: 22495.121 | X29: 24799.76 | Y29: 25615.48 | Z29: 29400.613 | AA29: 25803.076 | AB29: 26846.137 | AC29: 26379.177 | AD29: 31298.861 | AE29: 31619.379 | AF29: 28181.773 | AG29: 29969.556 | AH29: 27448.124 | AI29: 27409.352 | AJ29: 29052.252 | AK29: 29550.58 | AL29: 25232.371 | AM29: =(AL29-AK29)/AK29 -> -0.14612942 | AO29: =(V29/B29)*10 -> 2.7191843 | AP29: =(W29/C29)*10 -> 2.780031 | AQ29: =(X29/D29)*10 -> 1.9785027 | AR29: =(Y29/E29)*10 -> 2.13182 | AS29: =(Z29/F29)*10 -> 2.8836242 | AT29: =(AA29/G29)*10 -> 2.8113968 | AU29: =(AB29/H29)*10 -> 2.8496488 | AV29: =(AC29/I29)*10 -> 2.7402501 | ... BE29: =(AL29/R29)*10 -> 3.0008653 | BF29: =IF(BE29="","",(BE29-BD29)/BD29) -> 0.10115024
A30: fevereiro | B30: 88844.74 | C30: 127722.3 | D30: 128469.04 | E30: 149512.52 | F30: 109776.65 | G30: 98756.11 | H30: 114532.43 | I30: 102519.81 | J30: 148191.61 | K30: 114647.41 | L30: 104015.04 | M30: 110889.25 | N30: 107266.16 | O30: 99149.02 | P30: 116909.73 | Q30: 127283.01 | R30: 101565.59 | S30: =IF(R30="","",(R30-Q30)/Q30) -> -0.20204912 | U30: fevereiro | V30: 24769.379 | W30: 26090.181 | X30: 26845.964 | Y30: 29407.369 | Z30: 29868.045 | AA30: 27835.926 | AB30: 29206.41 | AC30: 26234.002 | AD30: 31644.39 | AE30: 32055.04 | AF30: 26905.675 | AG30: 29964.092 | AH30: 30612.233 | AI30: 27807.315 | AJ30: 32092.276 | AK30: 31439.42 | AL30: 29426.489 | AM30: =IF(AL30="","",(AL30-AK30)/AK30) -> -0.064025704 | AO30: =(V30/B30)*10 -> 2.7879398 | AP30: =(W30/C30)*10 -> 2.0427272 | AQ30: =(X30/D30)*10 -> 2.0896836 | AR30: =(Y30/E30)*10 -> 1.9668834 | AS30: =(Z30/F30)*10 -> 2.7208013 | AT30: =(AA30/G30)*10 -> 2.8186535 | AU30: =(AB30/H30)*10 -> 2.5500559 | AV30: =(AC30/I30)*10 -> 2.5589203 | ... BE30: =(AL30/R30)*10 -> 2.8972892 | BF30: =IF(BE30="","",(BE30-BD30)/BD30) -> 0.17297232
A31: março | B31: 163017.8 | C31: 124161.33 | D31: 181017.39 | E31: 128321.88 | F31: 109180.22 | G31: 128703.72 | H31: 167047.15 | I31: 131035.78 | J31: 136350.33 | K31: 131403.34 | L31: 117972.88 | M31: 154297.81 | N31: 137828.99 | O31: 137733.08 | P31: 135113.56 | Q31: 136482.9 | R31: 119231.63 | S31: =IF(R31="","",(R31-Q31)/Q31) -> -0.12639876 | U31: março | V31: 34176.325 | W31: 30181.554 | X31: 34669.633 | Y31: 29423.861 | Z31: 29544.088 | AA31: 34831.202 | AB31: 34959.244 | AC31: 36752.835 | AD31: 36699.917 | AE31: 35665.699 | AF31: 30966.272 | AG31: 41575.408 | AH31: 38835.72 | AI31: 38540.09 | AJ31: 34052.204 | AK31: 33745.111 | AL31: 33436.954 | AM31: =IF(AL31="","",(AL31-AK31)/AK31) -> -0.0091319006 | AO31: =(V31/B31)*10 -> 2.0964781 | AP31: =(W31/C31)*10 -> 2.4308337 | AQ31: =(X31/D31)*10 -> 1.9152653 | AR31: =(Y31/E31)*10 -> 2.292973 | AS31: =(Z31/F31)*10 -> 2.7059927 | AT31: =(AA31/G31)*10 -> 2.7063089 | AU31: =(AB31/H31)*10 -> 2.092777 | AV31: =(AC31/I31)*10 -> 2.8047939 | ... BE31: =(AL31/R31)*10 -> 2.8043694 | BF31: =IF(BE31="","",(BE31-BD31)/BD31) -> 0.13423386
A32: abril | B32: 129054.23 | C32: 143928.7 | D32: 130551.3 | E32: 168057.09 | F32: 116200.56 | G32: 126285.8 | H32: 162799.5 | I32: 135156.71 | J32: 164204.01 | K32: 132405.87 | L32: 104241.92 | M32: 136765.2 | N32: 132267.32 | O32: 116649.26 | P32: 147483 | Q32: 144441.72 | R32: 115165.4 | S32: =IF(R32="","",(R32-Q32)/Q32) -> -0.20268604 | U32: abril | V32: 29571.835 | W32: 27556.182 | X32: 27462.67 | Y32: 33693.253 | Z32: 31434.276 | AA32: 35272.599 | AB32: 32738.879 | AC32: 32002.926 | AD32: 37177.172 | AE32: 34138.759 | AF32: 27197.233 | AG32: 36264.787 | AH32: 35088.123 | AI32: 31355.767 | AJ32: 35430.792 | AK32: 34722.978 | AL32: 33451.464 | AM32: =IF(AL32="","",(AL32-AK32)/AK32) -> -0.036618806 | AO32: =(V32/B32)*10 -> 2.291427 | AP32: =(W32/C32)*10 -> 1.9145717 | AQ32: =(X32/D32)*10 -> 2.1035922 | AR32: =(Y32/E32)*10 -> 2.0048695 | AS32: =(Z32/F32)*10 -> 2.7051742 | AT32: =(AA32/G32)*10 -> 2.7930772 | AU32: =(AB32/H32)*10 -> 2.0109938 | AV32: =(AC32/I32)*10 -> 2.3678385 | ... BE32: =(AL32/R32)*10 -> 2.9046453 | BF32: =IF(BE32="","",(BE32-BD32)/BD32) -> 0.20828336
A33: maio | B33: 118132.11 | C33: 147173.67 | D33: 167545.44 | E33: 131905.74 | F33: 115807.5 | G33: 114798.86 | H33: 138304.1 | I33: 134536.2 | J33: 144042.04 | K33: 143487.68 | L33: 113189.6 | M33: 129682.75 | N33: 128958.66 | O33: 128808.55 | P33: 152707.31 | Q33: 148720.04 | R33: 102346.37 | S33: =IF(R33="","",(R33-Q33)/Q33) -> -0.31181857 | U33: maio | V33: 29004.791 | W33: 32396.498 | X33: 31705.72 | Y33: 31122.39 | Z33: 31058.1 | AA33: 31539.869 | AB33: 33068.364 | AC33: 35573.934 | AD33: 34606.109 | AE33: 36493.042 | AF33: 28939.76 | AG33: 35107.968 | AH33: 34502.496 | AI33: 34636.105 | AJ33: 36279.495 | AK33: 37883.006 | AL33: 28720.084 | AM33: =IF(AL33="","",(AL33-AK33)/AK33) -> -0.24187421 | AO33: =(V33/B33)*10 -> 2.4552843 | AP33: =(W33/C33)*10 -> 2.2012428 | AQ33: =(X33/D33)*10 -> 1.8923654 | AR33: =(Y33/E33)*10 -> 2.3594417 | AS33: =(Z33/F33)*10 -> 2.6818729 | AT33: =(AA33/G33)*10 -> 2.7474026 | AU33: =(AB33/H33)*10 -> 2.3909894 | AV33: =(AC33/I33)*10 -> 2.6441905 | ... BE33: =(AL33/R33)*10 -> 2.8061654 | BF33: =IF(BE33="","",(BE33-BD33)/BD33) -> 0.10163652
A34: junho | B34: 135211.28 | C34: 175317.34 | D34: 118154.39 | E34: 152399.24 | F34: 114737.73 | G34: 115427.67 | H34: 126613.06 | I34: 156897.32 | J34: 146611.98 | K34: 114891.17 | L34: 131146.99 | M34: 136351.88 | N34: 120909.86 | O34: 127966.81 | P34: 136448.88 | Q34: 132166.73 | R34: 102486.55 | S34: =IF(R34="","",(R34-Q34)/Q34) -> -0.2245662 | U34: junho | V34: 28421.635 | W34: 31101.468 | X34: 27821.58 | Y34: 30041.77 | Z34: 29496.788 | AA34: 31068.588 | AB34: 31963.874 | AC34: 36419.878 | AD34: 35474.751 | AE34: 29960.278 | AF34: 34243.893 | AG34: 37052.936 | AH34: 32003.355 | AI34: 34450.578 | AJ34: 32505.955 | AK34: 33338.595 | AL34: 29296.339 | AM34: =IF(AL34="","",(AL34-AK34)/AK34) -> -0.12124854 | AO34: =(V34/B34)*10 -> 2.1020166 | AP34: =(W34/C34)*10 -> 1.7740098 | AQ34: =(X34/D34)*10 -> 2.3546802 | AR34: =(Y34/E34)*10 -> 1.9712546 | AS34: =(Z34/F34)*10 -> 2.5708011 | AT34: =(AA34/G34)*10 -> 2.6916066 | AU34: =(AB34/H34)*10 -> 2.5245321 | AV34: =(AC34/I34)*10 -> 2.3212556 | ... BE34: =(AL34/R34)*10 -> 2.8585545 | BF34: =IF(BE34="","",(BE34-BD34)/BD34) -> 0.13323853
A35: julho | B35: 127394.08 | C35: 153173.2 | D35: 157184.51 | E35: 153334.56 | F35: 127866.06 | G35: 125620.07 | H35: 136980 | I35: 143925.01 | J35: 137723 | K35: 141500.09 | L35: 149245.17 | M35: 119980.09 | N35: 129976 | O35: 123984.85 | P35: 131488.37 | Q35: 117679.45 | R35: 115226.65 | S35: =IF(R35="","",(R35-Q35)/Q35) -> -0.020843061 | U35: julho | V35: 32779.412 | W35: 32399.375 | X35: 32672.659 | Y35: 33859.817 | Z35: 36267.967 | AA35: 36630.705 | AB35: 36275.367 | AC35: 35138.282 | AD35: 35499.514 | AE35: 41925.195 | AF35: 39852.699 | AG35: 35007.288 | AH35: 33825.857 | AI35: 33345.653 | AJ35: 33866.553 | AK35: 32876.766 | AL35: 33202.359 | AM35: =IF(AL35="","",(AL35-AK35)/AK35) -> 0.0099034376 | AO35: =(V35/B35)*10 -> 2.5730718 | AP35: =(W35/C35)*10 -> 2.1152117 | AQ35: =(X35/D35)*10 -> 2.0786182 | AR35: =(Y35/E35)*10 -> 2.2082313 | AS35: =(Z35/F35)*10 -> 2.836403 | AT35: =(AA35/G35)*10 -> 2.9159914 | AU35: =(AB35/H35)*10 -> 2.6482236 | AV35: =(AC35/I35)*10 -> 2.4414299 | ... BE35: =(AL35/R35)*10 -> 2.8814826 | BF35: =IF(BE35="","",(BE35-BD35)/BD35) -> 0.031400992
A36: agosto | B36: 84144.9 | C36: 93566.7 | D36: 109659.02 | E36: 85683.41 | F36: 75119.59 | G36: 77720.05 | H36: 113987.73 | I36: 109779.22 | J36: 115223.08 | K36: 101102.38 | L36: 89495.02 | M36: 89788.39 | N36: 107932.03 | O36: 101620.35 | P36: 102661.22 | Q36: 82804.69 | S36: =IF(R36="","",(R36-Q36)/Q36) | U36: agosto | V36: 21851.236 | W36: 23756.941 | X36: 26722.863 | Y36: 25745.833 | Z36: 21196.857 | AA36: 23742.382 | AB36: 27458.443 | AC36: 27213.074 | AD36: 30488.754 | AE36: 28270.807 | AF36: 25817.175 | AG36: 25658.437 | AH36: 28965.705 | AI36: 27884.359 | AJ36: 25359.5 | AK36: 22997.19 | AM36: =IF(AL36="","",(AL36-AK36)/AK36) | AO36: =(V36/B36)*10 -> 2.596858 | AP36: =(W36/C36)*10 -> 2.539038 | AQ36: =(X36/D36)*10 -> 2.4369051 | AR36: =(Y36/E36)*10 -> 3.0047629 | AS36: =(Z36/F36)*10 -> 2.8217482 | AT36: =(AA36/G36)*10 -> 3.0548593 | AU36: =(AB36/H36)*10 -> 2.4088946 | AV36: =(AC36/I36)*10 -> 2.4788912 | ... BD36: =(AK36/Q36)*10 -> 2.7772811
A37: setembro | B37: 138558.8 | C37: 155834.77 | D37: 166910.13 | E37: 141021.51 | F37: 123949.06 | G37: 108934.94 | H37: 146959.93 | I37: 147602.31 | J37: 117229.17 | K37: 135705.83 | L37: 125178.35 | M37: 127375.37 | N37: 118928.4 | O37: 115776.09 | P37: 108156.84 | Q37: 123334.31 | S37: =IF(R37="","",(R37-Q37)/Q37) | U37: setembro | V37: 36869.315 | W37: 38144.778 | X37: 35747.971 | Y37: 35405.064 | Z37: 39468.506 | AA37: 36656.013 | AB37: 39730.442 | AC37: 38905.268 | AD37: 37110.973 | AE37: 44437.182 | AF37: 35516.306 | AG37: 38379.319 | AH37: 36707.814 | AI37: 33975.414 | AJ37: 33978.917 | AK37: 36427.985 | AM37: =IF(AL37="","",(AL37-AK37)/AK37) | AO37: =(V37/B37)*10 -> 2.6609147 | AP37: =(W37/C37)*10 -> 2.4477707 | AQ37: =(X37/D37)*10 -> 2.1417496 | AR37: =(Y37/E37)*10 -> 2.5106144 | AS37: =(Z37/F37)*10 -> 3.1842521 | AT37: =(AA37/G37)*10 -> 3.3649454 | AU37: =(AB37/H37)*10 -> 2.7034881 | AV37: =(AC37/I37)*10 -> 2.635817 | ... BD37: =(AK37/Q37)*10 -> 2.953597
A38: outubro | B38: 122092.13 | C38: 129989.21 | D38: 213923.47 | E38: 143278.99 | F38: 142422.69 | G38: 143940.28 | H38: 138455.72 | I38: 171460.05 | J38: 167779.67 | K38: 161547.52 | L38: 125255.68 | M38: 127232.09 | N38: 129569.24 | O38: 126334.53 | P38: 138124.55 | Q38: 132160.82 | S38: =IF(R38="","",(R38-Q38)/Q38) | U38: outubro | V38: 39727.942 | W38: 40734.827 | X38: 48266.112 | Y38: 48573.177 | Z38: 47199.01 | AA38: 49361.276 | AB38: 45412.628 | AC38: 51801.628 | AD38: 54582.834 | AE38: 54939.107 | AF38: 39610.615 | AG38: 40227.444 | AH38: 41068.91 | AI38: 40260.319 | AJ38: 44298.18 | AK38: 40148.472 | AM38: =IF(AL38="","",(AL38-AK38)/AK38) | AO38: =(V38/B38)*10 -> 3.2539314 | AP38: =(W38/C38)*10 -> 3.1337083 | AQ38: =(X38/D38)*10 -> 2.2562327 | AR38: =(Y38/E38)*10 -> 3.3901116 | AS38: =(Z38/F38)*10 -> 3.3140092 | AT38: =(AA38/G38)*10 -> 3.4292886 | AU38: =(AB38/H38)*10 -> 3.2799387 | AV38: =(AC38/I38)*10 -> 3.0212069 | ... BD38: =(AK38/Q38)*10 -> 3.0378498
A39: novembro | B39: 155283.11 | C39: 190846.29 | D39: 164476.11 | E39: 155784.03 | F39: 141171.97 | G39: 154005.31 | H39: 193124.44 | I39: 201827.39 | J39: 161829.7 | K39: 150815.31 | L39: 141955.06 | M39: 153861.87 | N39: 147150.82 | O39: 145513.09 | P39: 122992.67 | Q39: 115648.8 | S39: =IF(R39="","",(R39-Q39)/Q39) | U39: novembro | V39: 50334.872 | W39: 48986.579 | X39: 51362.042 | Y39: 51289.856 | Z39: 48284.936 | AA39: 53105.857 | AB39: 59549.021 | AC39: 59908.97 | AD39: 53697.078 | AE39: 48381.74 | AF39: 43825.399 | AG39: 46964.612 | AH39: 46669.292 | AI39: 47917.59 | AJ39: 39793.081 | AK39: 37946.359 | AM39: =IF(AL39="","",(AL39-AK39)/AK39) | AO39: =(V39/B39)*10 -> 3.2414905 | AP39: =(W39/C39)*10 -> 2.566808 | AQ39: =IF(X39="","",(X39/D39)*10) -> 3.1227661 | AR39: =IF(Y39="","",(Y39/E39)*10) -> 3.2923693 | AS39: =IF(Z39="","",(Z39/F39)*10) -> 3.420292 | AT39: =IF(AA39="","",(AA39/G39)*10) -> 3.4483134 | AU39: =IF(AB39="","",(AB39/H39)*10) -> 3.0834534 | AV39: =IF(AC39="","",(AC39/I39)*10) -> 2.968327 | AW39: =IF(AD39="","",(AD39/J39)*10) -> 3.3181226 | AX39: =IF(AE39="","",(AE39/K39)*10) -> 3.2080125 | ... BD39: =IF(AK39="","",(AK39/Q39)*10) -> 3.2811719
A40: dezembro | B40: 149645.84 | C40: 159202.3 | D40: 203434.65 | E40: 108594.95 | F40: 106301.55 | G40: 116548.94 | H40: 113772.8 | I40: 147624.21 | J40: 117569.23 | K40: 123931.32 | L40: 108069.52 | M40: 116171.73 | N40: 109122.84 | O40: 91498.37 | P40: 98421.51 | Q40: 101688.21 | S40: =IF(R40="","",(R40-Q40)/Q40) | U40: dezembro | V40: 35379.044 | W40: 37144.068 | X40: 37986.12 | Y40: 33420.184 | Z40: 33733.983 | AA40: 36039.898 | AB40: 34055.992 | AC40: 36034.478 | AD40: 35921.742 | AE40: 37043.724 | AF40: 32897.342 | AG40: 33474.043 | AH40: 32438.861 | AI40: 26829.104 | AJ40: 29612.304 | AK40: 29902.338 | AM40: =IF(AL40="","",(AL40-AK40)/AK40) | AO40: =(V40/B40)*10 -> 2.3641849 | AP40: =(W40/C40)*10 -> 2.3331364 | AQ40: =IF(X40="","",(X40/D40)*10) -> 1.8672394 | AR40: =IF(Y40="","",(Y40/E40)*10) -> 3.0775081 | AS40: =IF(Z40="","",(Z40/F40)*10) -> 3.1734234 | AT40: =IF(AA40="","",(AA40/G40)*10) -> 3.0922545 | AU40: =IF(AB40="","",(AB40/H40)*10) -> 2.9933334 | AV40: =IF(AC40="","",(AC40/I40)*10) -> 2.4409599 | AW40: =IF(AD40="","",(AD40/J40)*10) -> 3.0553693 | AX40: =IF(AE40="","",(AE40/K40)*10) -> 2.9890526 | ... BE40: =IF(AL40="","",(AL40/R40)*10) | BF40: =IF(BE40="","",(BE40-BD40)/BD40)
A41: =A19 -> jan-jul | B41: =SUM(B29:B35) -> 847234.56 | C41: =SUM(C29:C35) -> 952393.34 | D41: =SUM(D29:D35) -> 1008268.2 | E41: =SUM(E29:E35) -> 1003688.8 | F41: =SUM(F29:F35) -> 795525.88 | G41: =SUM(G29:G35) -> 801372.5 | H41: =SUM(H29:H35) -> 940484.82 | I41: =SUM(I29:I35) -> 900336.41 | ... R41: =SUM(R29:R35) -> 740105.84 | S41: =IF(R41="","",(R41-Q41)/Q41) -> -0.19132499 | V41: =SUM(V29:V35) -> 201994.24 | W41: =SUM(W29:W35) -> 202220.38 | X41: =SUM(X29:X35) -> 205977.99 | Y41: =SUM(Y29:Y35) -> 213163.94 | Z41: =SUM(Z29:Z35) -> 217069.88 | AA41: =SUM(AA29:AA35) -> 222981.96 | AB41: =SUM(AB29:AB35) -> 225058.27 | AC41: =SUM(AC29:AC35) -> 228501.03 | ... AL41: =SUM(AL29:AL35) -> 212766.06 | AM41: =IF(AL41="","",(AL41-AK41)/AK41) -> -0.089016576 | AO41: =(V41/B41)*10 -> 2.3841596 | AP41: =(W41/C41)*10 -> 2.1232864 | AQ41: =IF(X41="","",(X41/D41)*10) -> 2.0428889 | AR41: =IF(Y41="","",(Y41/E41)*10) -> 2.123805 | AS41: =IF(Z41="","",(Z41/F41)*10) -> 2.7286338 | AT41: =IF(AA41="","",(AA41/G41)*10) -> 2.7825008 | AU41: =IF(AB41="","",(AB41/H41)*10) -> 2.3930027 | AV41: =IF(AC41="","",(AC41/I41)*10) -> 2.5379517 | AW41: =IF(AD41="","",(AD41/J41)*10) -> 2.4194634 | AX41: =IF(AE41="","",(AE41/K41)*10) -> 2.7027176 | ... BE41: =IF(AL41="","",(AL41/R41)*10) -> 2.8748059 | BF41: =IF(BE41="","",(BE41-BD41)/BD41) -> 0.12651363
A42: 1ª Trim | B42: =SUM(B29:B31) -> 337442.86 | C42: =SUM(C29:C31) -> 332800.43 | D42: =SUM(D29:D31) -> 434832.53 | E42: =SUM(E29:E31) -> 397992.2 | F42: =SUM(F29:F31) -> 320914.03 | G42: =SUM(G29:G31) -> 319240.1 | H42: =SUM(H29:H31) -> 375788.16 | I42: =SUM(I29:I31) -> 329821.17 | ... P42: =SUM(P29:P31) -> 351994.4 | Q42: =IF(Q31="","",SUM(Q29:Q31)) -> 372200.06 | R42: =IF(R31="","",SUM(R29:R31)) -> 304880.87 | S42: =IF(R42="","",(R42-Q42)/Q42) -> -0.18086829 | U42: 1ª Trim | V42: =SUM(V29:V31) -> 82216.57 | W42: =SUM(W29:W31) -> 78766.856 | X42: =SUM(X29:X31) -> 86315.357 | Y42: =SUM(Y29:Y31) -> 84446.71 | Z42: =SUM(Z29:Z31) -> 88812.746 | AA42: =SUM(AA29:AA31) -> 88470.204 | AB42: =SUM(AB29:AB31) -> 91011.791 | AC42: =SUM(AC29:AC31) -> 89366.014 | ... AK42: =SUM(AK29:AK31) -> 94735.111 | AL42: =IF(AL31="","",SUM(AL29:AL31)) -> 88095.814 | AM42: =IF(AL42="","",(AL42-AK42)/AK42) -> -0.070082749 | AO42: =(V42/B42)*10 -> 2.436459 | AP42: =(W42/C42)*10 -> 2.3667895 | AQ42: =(X42/D42)*10 -> 1.9850253 | AR42: =(Y42/E42)*10 -> 2.1218182 | AS42: =(Z42/F42)*10 -> 2.7674934 | AT42: =(AA42/G42)*10 -> 2.7712748 | AU42: =(AB42/H42)*10 -> 2.4218909 | AV42: =(AC42/I42)*10 -> 2.7095293 | ... BE42: =(AL42/R42)*10 -> 2.889516 | BF42: =IF(BE42="","",(BE42-BD42)/BD42) -> 0.13524754
...

Sheet 3
A1: Evolução Mensal e Trimestral das Importações
S3: HL | AM3: 1000 | BF3: € / Litro
A4: Intra + Extra UE | B4: Importação | S4: D 2026/2025 | U4: Intra + Extra UE | V4: Importação | AM4: D 2026/2025 | AO4: Importação | BF4: D 2026/2025
B5: 2010 | C5: 2011 | D5: 2012 | E5: 2013 | F5: 2014 | G5: 2015 | H5: 2016 | I5: 2017 | J5: 2018 | K5: 2019 | L5: 2020 | M5: 2021 | N5: 2022 | O5: 2023 | P5: 2024 | Q5: 2025 | R5: 2026 | V5: 2010 | W5: 2011 | X5: 2012 | Y5: 2013 | Z5: 2014 | AA5: 2015 | AB5: 2016 | AC5: 2017 | AD5: 2018 | AE5: 2019 | AF5: 2020 | AG5: 2021 | AH5: 2022 | AI5: 2023 | AJ5: 2024 | AK5: 2025 | AL5: 2026 | AO5: 2010 | AP5: 2011 | AQ5: 2012 | AR5: 2013 | AS5: 2014 | AT5: 2015 | AU5: 2016 | AV5: 2017 | AW5: 2018 | AX5: 2019 | AY5: 2020 | AZ5: 2021 | BA5: 2022 | BB5: 2023 | BC5: 2024 | BD5: 2025 | BE5: 2026 | BH5: 2013 | BI5: 2014
A7: janeiro | B7: 112208.21 | C7: 125412.47 | D7: 111648.51 | E7: 101032.49 | F7: 181499.09 | G7: 165515.39 | H7: 127441.33 | I7: 165564.64 | J7: 108022.51 | K7: 201133.06 | L7: 231418.47 | M7: 214311.47 | N7: 189490.68 | O7: 210798.97 | P7: 144430.94 | Q7: 143184.46 | R7: 147090.98 | S7: =IF(R7="","",(R7-Q7)/Q7) -> 0.027283128 | U7: janeiro | V7: 5046.812 | W7: 5419.878 | X7: 5376.692 | Y7: 8185.97 | Z7: 9253.711 | AA7: 8018.458 | AB7: 7549.526 | AC7: 9256.76 | AD7: 8429.653 | AE7: 12162.243 | AF7: 14395.187 | AG7: 11537.556 | AH7: 12256.629 | AI7: 14702.6 | AJ7: 10034.434 | AK7: 11749.783 | AL7: 11587.227 | AM7: =IF(AL7="","",(AL7-AK7)/AK7) -> -0.013834809 | AO7: =(V7/B7)*10 -> 0.44977208 | AP7: =(W7/C7)*10 -> 0.4321642 | AQ7: =(X7/D7)*10 -> 0.48157311 | AR7: =(Y7/E7)*10 -> 0.81023144 | AS7: =(Z7/F7)*10 -> 0.50984889 | AT7: =(AA7/G7)*10 -> 0.48445392 | AU7: =(AB7/H7)*10 -> 0.59239228 | AV7: =(AC7/I7)*10 -> 0.55910248 | ... BE7: =(AL7/R7)*10 -> 0.78775918 | BF7: =IF(BE7="","",(BE7-BD7)/BD7) -> -0.040025905
A8: fevereiro | B8: 103876.34 | C8: 109703.68 | D8: 90718.43 | E8: 91462.49 | F8: 178750.52 | G8: 189327.79 | H8: 161032.97 | I8: 180460.42 | J8: 101175.85 | K8: 239012.21 | L8: 200385.87 | M8: 256727.7 | N8: 265654.02 | O8: 255504.86 | P8: 163866.37 | Q8: 157871.74 | R8: 154981.71 | S8: =IF(R8="","",(R8-Q8)/Q8) -> -0.01830619 | U8: fevereiro | V8: 4875.4 | W8: 5047.22 | X8: 4979.249 | Y8: 7645.078 | Z8: 9124.948 | AA8: 9271.596 | AB8: 8398.791 | AC8: 10079.532 | AD8: 9460.135 | AE8: 13827.452 | AF8: 13178.782 | AG8: 12834.916 | AH8: 17027.524 | AI8: 16408.732 | AJ8: 11476.99 | AK8: 11587.445 | AL8: 12691.486 | AM8: =IF(AL8="","",(AL8-AK8)/AK8) -> 0.095279071 | AO8: =(V8/B8)*10 -> 0.46934653 | AP8: =(W8/C8)*10 -> 0.46007755 | AQ8: =(X8/D8)*10 -> 0.54886852 | AR8: =(Y8/E8)*10 -> 0.83587031 | AS8: =(Z8/F8)*10 -> 0.51048512 | AT8: =(AA8/G8)*10 -> 0.48971131 | AU8: =(AB8/H8)*10 -> 0.52155723 | AV8: =(AC8/I8)*10 -> 0.5585453 | ... BE8: =(AL8/R8)*10 -> 0.81890218 | BF8: =IF(BE8="","",(BE8-BD8)/BD8) -> 0.11570335
A9: março | B9: 167912.45 | C9: 125645.37 | D9: 135794.11 | E9: 78438.49 | F9: 159258.74 | G9: 179781.26 | H9: 158298.96 | I9: 184761.43 | J9: 131254.86 | K9: 209750.07 | L9: 209116.09 | M9: 346835.91 | N9: 197485.25 | O9: 307519.83 | P9: 152411.76 | Q9: 141321.04 | R9: 146624.05 | S9: =IF(R9="","",(R9-Q9)/Q9) -> 0.037524561 | U9: março | V9: 7464.392 | W9: 5720.51 | X9: 6851.938 | Y9: 7142.321 | Z9: 8172.495 | AA9: 8953.706 | AB9: 8549.025 | AC9: 9978.13 | AD9: 10309.046 | AE9: 11853.176 | AF9: 12973.125 | AG9: 17902.007 | AH9: 13839.738 | AI9: 20309.122 | AJ9: 12319.741 | AK9: 12363.313 | AL9: 13653.688 | AM9: =IF(AL9="","",(AL9-AK9)/AK9) -> 0.1043713 | AO9: =(V9/B9)*10 -> 0.44454071 | AP9: =(W9/C9)*10 -> 0.45529016 | AQ9: =(X9/D9)*10 -> 0.50458286 | AR9: =(Y9/E9)*10 -> 0.9105633 | AS9: =(Z9/F9)*10 -> 0.51315834 | AT9: =(AA9/G9)*10 -> 0.49803333 | AU9: =(AB9/H9)*10 -> 0.54005566 | AV9: =(AC9/I9)*10 -> 0.54005482 | ... BE9: =(AL9/R9)*10 -> 0.93120385 | BF9: =IF(BE9="","",(BE9-BD9)/BD9) -> 0.064429063
A10: abril | B10: 170409.85 | C10: 125525.65 | D10: 131142.06 | E10: 111314.48 | F10: 139455.4 | G10: 172871.54 | H10: 120913.15 | I10: 195875.86 | J10: 150373.06 | K10: 244932.88 | L10: 233003.39 | M10: 238556.85 | N10: 208933.38 | O10: 266354.15 | P10: 162890.09 | Q10: 153077.32 | R10: 147205.44 | S10: =IF(R10="","",(R10-Q10)/Q10) -> -0.038358916 | U10: abril | V10: 7083.52 | W10: 5734.776 | X10: 6986.215 | Y10: 8949.286 | Z10: 7735.429 | AA10: 8580.402 | AB10: 6742.456 | AC10: 10425.911 | AD10: 11410.679 | AE10: 13024.389 | AF10: 14120.863 | AG10: 13171.961 | AH10: 15339.621 | AI10: 17054.146 | AJ10: 12259.46 | AK10: 12418.106 | AL10: 13102.222 | AM10: =IF(AL10="","",(AL10-AK10)/AK10) -> 0.055090205 | AO10: =(V10/B10)*10 -> 0.4156755 | AP10: =(W10/C10)*10 -> 0.45686089 | AQ10: =(X10/D10)*10 -> 0.53272116 | AR10: =(Y10/E10)*10 -> 0.80396423 | AS10: =(Z10/F10)*10 -> 0.55468838 | AT10: =(AA10/G10)*10 -> 0.49634555 | AU10: =(AB10/H10)*10 -> 0.55762802 | AV10: =(AC10/I10)*10 -> 0.53227136 | ... BE10: =(AL10/R10)*10 -> 0.89006371 | BF10: =IF(BE10="","",(BE10-BD10)/BD10) -> 0.097176714
A11: maio | B11: 105742.87 | C11: 146772.36 | D11: 106191.61 | E11: 156740.31 | F11: 208322.55 | G11: 182102.75 | H11: 156318.05 | I11: 208364.82 | J11: 123404.02 | K11: 228431.58 | L11: 207366.91 | M11: 271945.74 | N11: 298254.8 | O11: 272003.79 | P11: 165110.75 | Q11: 152457.49 | R11: 125905.58 | S11: =IF(R11="","",(R11-Q11)/Q11) -> -0.17415943 | U11: maio | V11: 5269.908 | W11: 6791.511 | X11: 6331.175 | Y11: 12356.189 | Z11: 10013.188 | AA11: 9709.343 | AB11: 9074.424 | AC11: 11193.306 | AD11: 12194.198 | AE11: 12392.851 | AF11: 10554.121 | AG11: 14483.972 | AH11: 20503.535 | AI11: 18469.306 | AJ11: 12356.936 | AK11: 13352.638 | AL11: 11319.396 | AM11: =IF(AL11="","",(AL11-AK11)/AK11) -> -0.15227268 | AO11: =(V11/B11)*10 -> 0.49837006 | AP11: =(W11/C11)*10 -> 0.46272411 | AQ11: =(X11/D11)*10 -> 0.59620294 | AR11: =(Y11/E11)*10 -> 0.78832235 | AS11: =(Z11/F11)*10 -> 0.4806579 | AT11: =(AA11/G11)*10 -> 0.53317937 | AU11: =(AB11/H11)*10 -> 0.58051031 | AV11: =(AC11/I11)*10 -> 0.5371975 | ... BE11: =(AL11/R11)*10 -> 0.89903847 | BF11: =IF(BE11="","",(BE11-BD11)/BD11) -> 0.026502393
A12: junho | B12: 173043.08 | C12: 88557.57 | D12: 121066.39 | E12: 142381.43 | F12: 163673.45 | G12: 227727.18 | H12: 161332.92 | I12: 247351.11 | J12: 159573.16 | K12: 248865.21 | L12: 200988.74 | M12: 276889.7 | N12: 225840.25 | O12: 318138.08 | P12: 158638.54 | Q12: 129300.67 | R12: 119078.77 | S12: =IF(R12="","",(R12-Q12)/Q12) -> -0.079055275 | U12: junho | V12: 8468.746 | W12: 4467.674 | X12: 6989.148 | Y12: 11275.522 | Z12: 8874.612 | AA12: 11770.861 | AB12: 9513.233 | AC12: 14562.612 | AD12: 13054.882 | AE12: 13834.111 | AF12: 12299.128 | AG12: 14683.354 | AH12: 14797.464 | AI12: 19672.213 | AJ12: 13628.671 | AK12: 11331.96 | AL12: 12016.246 | AM12: =IF(AL12="","",(AL12-AK12)/AK12) -> 0.060385494 | AO12: =(V12/B12)*10 -> 0.48940102 | AP12: =(W12/C12)*10 -> 0.50449374 | AQ12: =(X12/D12)*10 -> 0.57729879 | AR12: =(Y12/E12)*10 -> 0.79192364 | AS12: =(Z12/F12)*10 -> 0.54221451 | AT12: =(AA12/G12)*10 -> 0.51688433 | AU12: =(AB12/H12)*10 -> 0.58966471 | AV12: =(AC12/I12)*10 -> 0.58874254 | ... BE12: =(AL12/R12)*10 -> 1.0091006 | BF12: =IF(BE12="","",(BE12-BD12)/BD12) -> 0.15141057
A13: julho | B13: 153878.58 | C13: 146271.1 | D13: 129654.33 | E13: 179800.26 | F13: 269493.01 | G13: 237770.31 | H13: 147807.46 | I13: 207312.04 | J13: 176243.62 | K13: 278687.17 | L13: 285820.33 | M13: 278908.12 | N13: 236057.13 | O13: 293975.4 | P13: 162936.16 | Q13: 221857.65 | R13: 183677.05 | S13: =IF(R13="","",(R13-Q13)/Q13) -> -0.17209503 | U13: julho | V13: 8304.439 | W13: 7350.922 | X13: 8610.477 | Y13: 14121.92 | Z13: 13262.654 | AA13: 12363.967 | AB13: 8473.603 | AC13: 11749.729 | AD13: 14285.174 | AE13: 14287.105 | AF13: 16611.901 | AG13: 15670.152 | AH13: 16724.077 | AI13: 19188.491 | AJ13: 13356.521 | AK13: 19778.193 | AL13: 16942.16 | AM13: =IF(AL13="","",(AL13-AK13)/AK13) -> -0.14339192 | AO13: =(V13/B13)*10 -> 0.53967479 | AP13: =(W13/C13)*10 -> 0.50255464 | AQ13: =(X13/D13)*10 -> 0.66411025 | AR13: =(Y13/E13)*10 -> 0.78542267 | AS13: =(Z13/F13)*10 -> 0.49213351 | AT13: =(AA13/G13)*10 -> 0.51999625 | AU13: =(AB13/H13)*10 -> 0.57328656 | AV13: =(AC13/I13)*10 -> 0.56676539 | ... BE13: =(AL13/R13)*10 -> 0.92238851 | BF13: =IF(BE13="","",(BE13-BD13)/BD13) -> 0.034669581
A14: agosto | B14: 172907.81 | C14: 197865.86 | D14: 108818.48 | E14: 128700.31 | F14: 196874.73 | G14: 236496.19 | H14: 161286.67 | I14: 171590.04 | J14: 180155.07 | K14: 296232.94 | L14: 286301.55 | M14: 219196.89 | N14: 242636.12 | O14: 251267.45 | P14: 160873.86 | Q14: 113872.28 | S14: =IF(R14="","",(R14-Q14)/Q14) | U14: agosto | V14: 7854.738 | W14: 8326.222 | X14: 7079.451 | Y14: 9224.363 | Z14: 8588.844 | AA14: 10903.497 | AB14: 9835.298 | AC14: 10047.06 | AD14: 13857.926 | AE14: 14770.592 | AF14: 15842.408 | AG14: 12842.719 | AH14: 16614.627 | AI14: 17015.244 | AJ14: 12453.349 | AK14: 11748.458 | AM14: =IF(AL14="","",(AL14-AK14)/AK14) | AO14: =(V14/B14)*10 -> 0.45427318 | AP14: =(W14/C14)*10 -> 0.42080134 | AQ14: =(X14/D14)*10 -> 0.65057433 | AR14: =(Y14/E14)*10 -> 0.716732 | AS14: =(Z14/F14)*10 -> 0.43625934 | AT14: =(AA14/G14)*10 -> 0.46104324 | AU14: =(AB14/H14)*10 -> 0.60980229 | AV14: =(AC14/I14)*10 -> 0.58552699 | ... BD14: =(AK14/Q14)*10 -> 1.0317224 | BF14: =IF(BE14="","",(BE14-BD14)/BD14)
A15: setembro | B15: 184668.65 | C15: 144340.82 | D15: 80105.52 | E15: 122946.3 | F15: 216355.29 | G15: 152646.59 | H15: 149729.01 | I15: 137518.24 | J15: 158081.72 | K15: 248455.11 | L15: 193947.61 | M15: 185986.1 | N15: 274125.1 | O15: 171167.99 | P15: 160588.73 | Q15: 135834.81 | S15: =IF(R15="","",(R15-Q15)/Q15) | U15: setembro | V15: 8976.539 | W15: 8231.497 | X15: 7380.053 | Y15: 9158.015 | Z15: 11920.681 | AA15: 8611.905 | AB15: 9047.37 | AC15: 10872.128 | AD15: 13645.628 | AE15: 13484.313 | AF15: 12902.21 | AG15: 12615.415 | AH15: 19603.92 | AI15: 13282.67 | AJ15: 13379.387 | AK15: 13380.134 | AM15: =IF(AL15="","",(AL15-AK15)/AK15) | AO15: =(V15/B15)*10 -> 0.48608895 | AP15: =(W15/C15)*10 -> 0.57028199 | AQ15: =(X15/D15)*10 -> 0.92129144 | AR15: =(Y15/E15)*10 -> 0.74487927 | AS15: =(Z15/F15)*10 -> 0.5509771 | AT15: =(AA15/G15)*10 -> 0.56417277 | AU15: =(AB15/H15)*10 -> 0.60424964 | AV15: =(AC15/I15)*10 -> 0.79059534 | ... BD15: =(AK15/Q15)*10 -> 0.98502983 | BF15: =IF(BE15="","",(BE15-BD15)/BD15)
