Workbook

Sheet Indice
E2: Análise Estatistica do Comércio Internacional de Vinho
E3: Julho 2026 versus Julho 2025
B8: 0 - Nota Introdutória
B10: 1 - Evolução Recente da Balança Comercial (1.000 €)
B12: 2 - Evolução Mensal e Trimestral das Exportações
B14: 3. Evolução Mensal e Timestral das Importações
B16: 4 - Exportações por Tipo de Produto
B18: 5 - Exportações por Tipo de Produto - julho 2026 vs julho 2025
B20: 6 - Evolução das Exportações de Vinho (NC 2204) por Mercado / Acondicionamento
B22: 7 - Evolução das Exportações de Vinho (NC 2204) por Mercado / Acondicionamento - julho 2026 vs julho 2025
B24: 8 - Evolução das Exportações com Destino a uma Selecção de Mercados
B26: 9 - Evolução das Exportações com Destino a uma Seleção de Mercados (NC 2204) - julho 2026 vs julho 2025
B28: 10 - Evolução das Exportações de Vinho Tranquilo (Vinho DO + Vinho IG + Vinho (ex-mesa)) por Mercado / Acondicionamento
B30: 11 - Evolução das Exportações de Vinho com DO + Vinho com IG + Vinho (ex-vinho mesa) com Destino a uma Selecção de Mercados
... B58: 25 - Evolução das Exportações de Vinho Licoroso com DO Madeira com Destino a uma Seleção de Mercados

Sheet 0
A1: Nota
A3: Todos os dados constantes no ficheiro têm como Fonte o Instituto Nacional de Estatistica (INE), pelo que os dados relativos ao Vinho com DOP Porto e Madeira podem diferir dos dados divulgados pelo Instituto dos Vinhos Douro e Porto, IP (IVDP, IP) e Instituto do Vinho, Bordado e do Artesanato da Madeira, IP (IVBAM, IP).
A5: 2014 - Dados Definitivos
A7: 2015 - Dados Definitivos Revistos
A9: 2016 - Dados Definitivos
A11: 2017 - Dados Definitivos
A13: 2018 - Dados Definitivos
A15: 2019 - Dados Definitivos
A17: 2020 - Dados Definitivos (09-09-2021)
A19: 2021 - Dados Definitivos ( 09-08-2022)
A21: 2022 - Dados Definitivos Revistos (09-08-2024)
A23: 2023 - Dados Definitivos (09-08-2024)
... A27: 2025 - Dados Preliminares (09-08-2026)

Sheet 1
A1: Evolução Recente da Balança Comercial (1.000 €)
A3: Intra + Extra UE | B3: 2007 | C3: 2008 | D3: 2009 | E3: 2010 | F3: 2011 | G3: 2012 | H3: 2013 | I3: 2014 | J3: 2015 | K3: 2016 | L3: 2017 | M3: 2018 | N3: 2019 | O3: 2020 | P3: 2021 | Q3: 2022 | R3: 2023 | S3: 2024 | T3: 2025 | U3: Evolução anual | V3: jan-jul | X3: Ano Móvel
U4: 2007/2025 | V4: 2025 | W4: 2026 | X4: ago 2024 a jul 2025 | Y4: ago 2025 a jul 2026
B5: 2007 | C5: 2008 | D5: 2009 | E5: 2010 | F5: 2011
A6: Exportações (1) | B6: 595986.62 | C6: 575965.58 | D6: 544011.29 | E6: 614380.2 | F6: 656918.26 | G6: 703504.84 | H6: 720793.56 | I6: 726284.8 | J6: =SUM('[1]2'!T7:T18) -> 735533.91 | K6: 723973.62 | L6: 778041 | M6: 800341.54 | N6: 819402.34 | O6: 856189.68 | P6: 925952.68 | Q6: 938963.29 | R6: 924632.3 | S6: 964013.41 | T6: 954331.52 | V6: 539300.03 | W6: 503928.45 | X6: 955896.59 | Y6: 914984.79 | AE6: Intra+ Extra | AH6: INTA | AK6: Extra
A7: TVH | C7: =(C6-B6)/B6 -> -0.033593102 | D7: =(D6-C6)/C6 -> -0.055479507 | E7: =(E6-D6)/D6 -> 0.12935194 | F7: =(F6-E6)/E6 -> 0.069237346 | G7: =(G6-F6)/F6 -> 0.070916852 | H7: =(H6-G6)/G6 -> 0.024575136 | I7: =(I6-H6)/H6 -> 0.0076183269 | J7: =(J6-I6)/I6 -> 0.012734814 | ... T7: =(T6-S6)/S6 -> -0.010043321 | W7: =(W6-V6)/V6 -> -0.065587951 | Y7: =(Y6-X6)/X6 -> -0.042799392 | AE7: 2012 | AF7: 2013 | AH7: 2012 | AI7: 2013 | AK7: 2012 | AL7: 2013
A8: Importações (2) | B8: 63256.661 | C8: 80362.628 | D8: 79098.748 | E8: 89493.365 | F8: 81914.569 | G8: 86371.3 | H8: 122399 | I8: 125153.99 | J8: 116754.91 | K8: 110190.54 | L8: 137205.93 | M8: 154727.05 | N8: 169208.34 | O8: 166254.71 | P8: 167736.79 | Q8: 205343.67 | R8: 197581.59 | S8: 153582.02 | T8: 163317.69 | V8: 92581.438 | W8: 91312.425 | X8: 160730.7 | Y8: 163738.06 | AD8: jan | AL8: =#REF!-#REF! -> #REF!
A9: TVH | C9: =(C8-B8)/B8 -> 0.27042159 | D9: =(D8-C8)/C8 -> -0.015727211 | E9: =(E8-D8)/D8 -> 0.13141317 | F9: =(F8-E8)/E8 -> -0.084685563 | G9: =(G8-F8)/F8 -> 0.054407062 | H9: =(H8-G8)/G8 -> 0.41712584 | I9: =(I8-H8)/H8 -> 0.022508272 | J9: =(J8-I8)/I8 -> -0.067109981 | ... T9: =(T8-S8)/S8 -> 0.063390729 | W9: =(W8-V8)/V8 -> -0.013706992 | Y9: =(Y8-X8)/X8 -> 0.018710545 | AD9: fev | AL9: =#REF!-#REF! -> #REF!
A10: Saldo [ (1)-(2) ] | B10: =(B6-B8) -> 532729.95 | C10: =(C6-C8) -> 495602.95 | D10: =(D6-D8) -> 464912.54 | E10: =(E6-E8) -> 524886.84 | F10: =(F6-F8) -> 575003.69 | G10: =(G6-G8) -> 617133.54 | H10: =(H6-H8) -> 598394.56 | I10: =(I6-I8) -> 601130.81 | ... T10: =(T6-T8) -> 791013.82 | V10: =V6-V8 -> 446718.59 | W10: =W6-W8 -> 412616.02 | X10: =X6-X8 -> 795165.89 | Y10: =Y6-Y8 -> 751246.73 | AD10: mar | AL10: =#REF!-#REF! -> #REF!
A11: TVH | C11: =(C10-B10)/B10 -> -0.069691981 | D11: =(D10-C10)/C10 -> -0.06192539 | E11: =(E10-D10)/D10 -> 0.12900125 | F11: =(F10-E10)/E10 -> 0.095481249 | G11: =(G10-F10)/F10 -> 0.073268824 | H11: =(H10-G10)/G10 -> -0.030364537 | I11: =(I10-H10)/H10 -> 0.0045726535 | J11: =(J10-I10)/I10 -> 0.029358309 | ... T11: =(T10-S10)/S10 -> -0.023959551 | W11: =(W10-V10)/V10 -> -0.076340165 | Y11: =(Y10-X10)/X10 -> -0.055232691 | AD11: abr | AL11: =#REF!-#REF! -> #REF!
A12: Cobertura [ (1) / (2) ] | B12: =(B6/B8) -> 9.4217211 | C12: =(C6/C8) -> 7.1670824 | D12: =(D6/D8) -> 6.877622 | E12: =(E6/E8) -> 6.8650922 | F12: =(F6/F8) -> 8.0195534 | V12: =(V6/V8) -> 5.8251421 | W12: =(W6/W8) -> 5.5187281 | X12: =X6/X8 -> 5.9471935 | Y12: =Y6/Y8 -> 5.5881009 | AD12: mai | AL12: =#REF!-#REF! -> #REF!
AD13: jun | AL13: =#REF!-#REF! -> #REF!
A14: Intra UE | B14: 2007 | C14: 2008 | D14: 2009 | E14: 2010 | F14: 2011 | G14: 2012 | H14: 2013 | I14: 2014 | J14: 2015 | K14: 2016 | L14: 2017 | M14: 2018 | N14: 2019 | O14: 2020 | P14: 2021 | Q14: 2022 | R14: 2023 | S14: 2024 | T14: 2025 | U14: Evolução anual | V14: =V3 -> jan-jul | X14: Ano Móvel | AD14: jul | AL14: =#REF!-#REF! -> #REF!
U15: =U4 -> 2007/2025 | V15: =V4 -> 2025 | W15: =W4 -> 2026 | X15: =X4 -> ago 2024 a jul 2025 | Y15: =Y4 -> ago 2025 a jul 2026 | AD15: ago | AL15: =#REF!-#REF! -> #REF!
B16: 2007 | C16: 2008 | D16: 2009 | E16: 2010 | F16: 2011 | AD16: set | AL16: =#REF!-#REF! -> #REF!
A17: Exportações (1) | B17: 392293.99 | C17: 370979.68 | D17: 344222 | E17: 386156.65 | F17: 390987.57 | G17: 406063.09 | H17: 407598.05 | I17: 406953.17 | J17: 421887.39 | K17: 431264.8 | L17: 442364.45 | M17: 454202.09 | N17: 454929.95 | O17: 393954.14 | P17: 427968.66 | Q17: 418166.49 | R17: 404411.65 | S17: 406321.51 | T17: 404626.96 | V17: 233556.46 | W17: 212766.06 | X17: 406598.44 | Y17: 380188.4 | AD17: out | AL17: =#REF!-#REF! -> #REF!
A18: TVH | C18: =(C17-B17)/B17 -> -0.05433249 | D18: =(D17-C17)/C17 -> -0.072127078 | E18: =(E17-D17)/D17 -> 0.12182445 | F18: =(F17-E17)/E17 -> 0.01251026 | G18: =(G17-F17)/F17 -> 0.038557548 | H18: =(H17-G17)/G17 -> 0.0037801022 | I18: =(I17-H17)/H17 -> -0.0015821592 | J18: =(J17-I17)/I17 -> 0.036697643 | ... T18: =(T17-S17)/S17 -> -0.0041704634 | W18: =(W17-V17)/V17 -> -0.089016576 | Y18: =(Y17-X17)/X17 -> -0.064953604 | AD18: nov | AL18: =#REF!-#REF! -> #REF!
A19: Importações (2) | B19: 62681.056 | C19: 79621.593 | D19: 77709.867 | E19: 88593.929 | F19: 80744.22 | G19: 85348.563 | H19: 121368.93 | I19: 124143.97 | J19: 115571.71 | K19: 109068.99 | L19: 136178.73 | M19: 153404.39 | N19: 167744.46 | O19: 164346.62 | P19: 165333.11 | Q19: 202578.51 | R19: 194885.82 | S19: 150247.61 | T19: 160777.87 | V19: 90991.716 | W19: 89022.816 | X19: 157085.89 | Y19: 160518.82 | AD19: dez | AL19: =#REF!-#REF! -> #REF!
A20: TVH | C20: =(C19-B19)/B19 -> 0.27026566 | D20: =(D19-C19)/C19 -> -0.024010145 | E20: =(E19-D19)/D19 -> 0.14006023 | F20: =(F19-E19)/E19 -> -0.088603238 | G20: =(G19-F19)/F19 -> 0.057023809 | H20: =(H19-G19)/G19 -> 0.42203841 | I20: =(I19-H19)/H19 -> 0.022864467 | J20: =(J19-I19)/I19 -> -0.069050989 | ... T20: =(T19-S19)/S19 -> 0.070086033 | W20: =(W19-V19)/V19 -> -0.021638234 | Y20: =(Y19-X19)/X19 -> 0.021853834
A21: Saldo [ (1)-(2) ] | B21: =B17-B19 -> 329612.93 | C21: =C17-C19 -> 291358.09 | D21: =D17-D19 -> 266512.13 | E21: =E17-E19 -> 297562.72 | F21: =F17-F19 -> 310243.35 | G21: =G17-G19 -> 320714.53 | H21: =H17-H19 -> 286229.12 | I21: =I17-I19 -> 282809.2 | ... T21: =T17-T19 -> 243849.09 | V21: =V17-V19 -> 142564.74 | W21: =W17-W19 -> 123743.24 | X21: =X17-X19 -> 249512.54 | Y21: =Y17-Y19 -> 219669.58
A22: TVH | C22: =(C21-B21)/B21 -> -0.11605991 | D22: =(D21-C21)/C21 -> -0.08527635 | E22: =(E21-D21)/D21 -> 0.11650724 | F22: =(F21-E21)/E21 -> 0.042614978 | G22: =(G21-F21)/F21 -> 0.033751502 | H22: =(H21-G21)/G21 -> -0.10752681 | I22: =(I21-H21)/H21 -> -0.011948194 | J22: =(J21-I21)/I21 -> 0.083117827 | ... T22: =(T21-S21)/S21 -> -0.047739376 | W22: =(W21-V21)/V21 -> -0.13202069 | Y22: =(Y21-X21)/X21 -> -0.11960506
A23: Cobertura [ (1) / (2) ] | B23: =(B17/B19) -> 6.2585734 | C23: =(C17/C19) -> 4.6592848 | D23: =(D17/D19) -> 4.429579 | E23: =(E17/E19) -> 4.3587259 | F23: =(F17/F19) -> 4.842298 | V23: =(V17/V19) -> 2.5667881 | W23: =(W17/W19) -> 2.3900172 | X23: =X17/X19 -> 2.5883829 | Y23: =Y17/Y19 -> 2.3684973
A25: Extra UE | B25: 2007 | C25: 2008 | D25: 2009 | E25: 2010 | F25: 2011 | G25: 2012 | H25: 2013 | I25: 2014 | J25: 2015 | K25: 2016 | L25: 2017 | M25: 2018 | N25: 2019 | O25: 2020 | P25: 2021 | Q25: 2022 | R25: 2023 | S25: 2024 | T25: 2025 | U25: Evolução anual | V25: =V14 -> jan-jul | X25: Ano Móvel
U26: =U4 -> 2007/2025 | V26: =V4 -> 2025 | W26: =W4 -> 2026 | X26: =X4 -> ago 2024 a jul 2025 | Y26: =Y4 -> ago 2025 a jul 2026
B27: 2007 | C27: 2008 | D27: 2009 | E27: 2010 | F27: 2011
A28: Exportações (1) | B28: 203692.63 | C28: 204985.9 | D28: 199789.29 | E28: 228223.55 | F28: 265930.69 | G28: 297441.74 | H28: 313195.51 | I28: 319331.63 | J28: 313646.51 | K28: 292708.82 | L28: 335676.55 | M28: 346139.44 | N28: 364472.39 | O28: 462235.53 | P28: 497984.02 | Q28: 520796.8 | R28: 520220.65 | S28: 557691.9 | T28: 549704.55 | V28: 305743.57 | W28: 291162.39 | X28: 549298.15 | Y28: 534796.39
A29: TVH | C29: =(C28-B28)/B28 -> 0.0063491252 | D29: =(D28-C28)/C28 -> -0.025351041 | E29: =(E28-D28)/D28 -> 0.14232124 | F29: =(F28-E28)/E28 -> 0.16522017 | G29: =(G28-F28)/F28 -> 0.11849348 | H29: =(H28-G28)/G28 -> 0.052964211 | I29: =(I28-H28)/H28 -> 0.019591999 | J29: =(J28-I28)/I28 -> -0.017803185 | ... T29: =(T28-S28)/S28 -> -0.01432215 | W29: =(W28-V28)/V28 -> -0.047690906 | Y29: =(Y28-X28)/X28 -> -0.026400524
A30: Importações (2) | B30: 575.605 | C30: 741.035 | D30: 1388.881 | E30: 899.436 | F30: 1170.349 | G30: 1022.737 | H30: 1030.066 | I30: 1010.02 | J30: 1183.202 | K30: 1121.55 | L30: 1027.2 | M30: 1322.664 | N30: 1463.875 | O30: 1908.09 | P30: 2403.679 | Q30: 2765.16 | R30: 2695.772 | S30: 3334.405 | T30: 2539.822 | V30: 1589.722 | W30: 2289.609 | X30: 3644.807 | Y30: 3219.237
A31: TVH | C31: =(C30-B30)/B30 -> 0.28740195 | D31: =(D30-C30)/C30 -> 0.87424481 | E31: =(E30-D30)/D30 -> -0.3524024 | F31: =(F30-E30)/E30 -> 0.3012032 | G31: =(G30-F30)/F30 -> -0.12612648 | H31: =(H30-G30)/G30 -> 0.0071660652 | I31: =(I30-H30)/H30 -> -0.019460889 | J31: =(J30-I30)/I30 -> 0.17146393 | ... T31: =(T30-S30)/S30 -> -0.23829829 | W31: =(W30-V30)/V30 -> 0.44025748 | Y31: =(Y30-X30)/X30 -> -0.11676064
A32: Saldo [ (1)-(2) ] | B32: =(B28-B30) -> 203117.02 | C32: =(C28-C30) -> 204244.86 | D32: =(D28-D30) -> 198400.41 | E32: =(E28-E30) -> 227324.12 | F32: =(F28-F30) -> 264760.34 | G32: =(G28-G30) -> 296419 | H32: =(H28-H30) -> 312165.44 | I32: =(I28-I30) -> 318321.61 | ... T32: =(T28-T30) -> 547164.73 | V32: =V28-V30 -> 304153.85 | W32: =W28-W30 -> 288872.78 | X32: =X28-X30 -> 545653.34 | Y32: =Y28-Y30 -> 531577.15
A33: TVH | C33: =(C32-B32)/B32 -> 0.0055526611 | D33: =(D32-C32)/C32 -> -0.028614928 | E33: =(E32-D32)/D32 -> 0.1457845 | F33: =(F32-E32)/E32 -> 0.16468214 | G33: =(G32-F32)/F32 -> 0.1195748 | H33: =(H32-G32)/G32 -> 0.053122228 | I33: =(I32-H32)/H32 -> 0.019720863 | J33: =(J32-I32)/I32 -> -0.01840372 | ... T33: =(T32-S32)/S32 -> -0.012974956 | W33: =(W32-V32)/V32 -> -0.050241267 | Y33: =(Y32-X32)/X32 -> -0.025796945
A34: Cobertura [ (1) / (2) ] | B34: =(B28/B30) -> 353.87571 | C34: =(C28/C30) -> 276.62108 | D34: =(D28/D30) -> 143.84911 | E34: =(E28/E30) -> 253.74074 | F34: =(F28/F30) -> 227.22341 | V34: =(V28/V30) -> 192.32518 | W34: =(W28/W30) -> 127.16686
A36: TVH - Taxa de Variação Homóloga

Sheet 2
A1: Evolução Mensal e Trimestral das Exportações
S3: HL | AM3: 1000 | BF3: € / Litro
A4: Intra + Extra UE | B4: Exportação | S4: D 2026/2025 | U4: Intra + Extra UE | V4: Exportação | AM4: D 2026/2025 | AO4: Exportação | BF4: D 2026/2025
B5: 2010 | C5: 2011 | D5: 2012 | E5: 2013 | F5: 2014 | G5: 2015 | H5: 2016 | I5: 2017 | J5: 2018 | K5: 2019 | L5: 2020 | M5: 2021 | N5: 2022 | O5: 2023 | P5: 2024 | Q5: 2025 | R5: 2026 | V5: 2010 | W5: 2011 | X5: 2012 | Y5: 2013 | Z5: 2014 | AA5: 2015 | AB5: 2016 | AC5: 2017 | AD5: 2018 | AE5: 2019 | AF5: 2020 | AG5: 2021 | AH5: 2022 | AI5: 2023 | AJ5: 2024 | AK5: 2025 | AL5: 2026 | AO5: 2010 | AP5: 2011 | AQ5: 2012 | AR5: 2013 | AS5: 2014 | AT5: 2015 | AU5: 2016 | AV5: 2017 | AW5: 2018 | AX5: 2019 | AY5: 2020 | AZ5: 2021 | BA5: 2022 | BB5: 2023 | BC5: 2024 | BD5: 2025 | BE5: 2026
V6: 2010 | W6: 2011 | X6: 2012
A7: janeiro | B7: 162618.45 | C7: 156534.07 | D7: 239190.2 | E7: 213768.75 | F7: 196345.2 | G7: 183217.21 | H7: 164354.56 | I7: 192935.98 | J7: 211445.75 | K7: 219278.33 | L7: 238978.53 | M7: 227977.61 | N7: 227139.87 | O7: 233829.63 | P7: 221549.68 | Q7: 244001.89 | R7: 208093.58 | S7: =(IF(R7="","",((R7-Q7)/Q7))) -> -0.14716406 | U7: janeiro | V7: 37448.925 | W7: 38839.966 | X7: 43280.929 | Y7: 45616.113 | Z7: 47446.347 | AA7: 44866.651 | AB7: 44731.008 | AC7: 48635.341 | AD7: 54050.858 | AE7: 57478.924 | AF7: 63485.804 | AG7: 59844.614 | AH7: 63073.41 | AI7: 62328.526 | AJ7: 66227.47 | AK7: 67131.155 | AL7: 58876.236 | AM7: =IF(AL7="","",(AL7-AK7)/AK7) -> -0.12296703 | AO7: =(V7/B7)*10 -> 2.3028706 | AP7: =(W7/C7)*10 -> 2.4812468 | AQ7: =(X7/D7)*10 -> 1.8094775 | AR7: =(Y7/E7)*10 -> 2.1339 | AS7: =(Z7/F7)*10 -> 2.416476 | AT7: =(AA7/G7)*10 -> 2.448823 | AU7: =(AB7/H7)*10 -> 2.7216165 | AV7: =(AC7/I7)*10 -> 2.520802 | ... BD7: =(AK7/Q7)*10 -> 2.7512555 | BE7: =IF(AL7="","",(AL7/R7)*10) -> 2.8293153 | BF7: =IF(BE7="","",(BE7-BD7)/BD7) -> 0.028372434
A8: fevereiro | B8: 161664.08 | C8: 214997.14 | D8: 230196.24 | E8: 260171.31 | F8: 219768.15 | G8: 191622.9 | H8: 187100.07 | I8: 187560.18 | J8: 245913.44 | K8: 226330.76 | L8: 217081.87 | M8: 235166.12 | N8: 245888.13 | O8: 225923.72 | P8: 259397.2 | Q8: 282330.73 | R8: 235363.32 | S8: =(IF(R8="","",((R8-Q8)/Q8))) -> -0.166356 | U8: fevereiro | V8: 39208.558 | W8: 43534.875 | X8: 46936.958 | Y8: 51921.968 | Z8: 51933.389 | AA8: 46937.145 | AB8: 48461.34 | AC8: 48751.32 | AD8: 57358.343 | AE8: 60378.148 | AF8: 54982.761 | AG8: 61551.606 | AH8: 68116.977 | AI8: 65467.732 | AJ8: 72469.3 | AK8: 73917.691 | AL8: 65211.168 | AM8: =IF(AL8="","",(AL8-AK8)/AK8) -> -0.11778673 | AO8: =(V8/B8)*10 -> 2.4253104 | AP8: =(W8/C8)*10 -> 2.0249048 | AQ8: =(X8/D8)*10 -> 2.0389976 | AR8: =(Y8/E8)*10 -> 1.9956838 | AS8: =(Z8/F8)*10 -> 2.363099 | AT8: =(AA8/G8)*10 -> 2.4494538 | AU8: =(AB8/H8)*10 -> 2.5901294 | AV8: =(AC8/I8)*10 -> 2.5992361 | ... BD8: =(AK8/Q8)*10 -> 2.6181242 | BE8: =IF(AL8="","",(AL8/R8)*10) -> 2.7706598 | BF8: =IF(BE8="","",(BE8-BD8)/BD8) -> 0.058261402
A9: março | B9: 247651.76 | C9: 229392.75 | D9: 306569.51 | E9: 231638.54 | F9: 216803.5 | G9: 258485.74 | H9: 249519.09 | I9: 240693.53 | J9: 242853 | K9: 231554.96 | L9: 255533.77 | M9: 314789.03 | N9: 282540.76 | O9: 287648.48 | P9: 282200.9 | Q9: 281682.13 | R9: 286620.56 | S9: =(IF(R9="","",((R9-Q9)/Q9))) -> 0.017531925 | U9: março | V9: 51168.477 | W9: 49454.936 | X9: 57419.121 | Y9: 50259.945 | Z9: 50881.622 | AA9: 62257.106 | AB9: 56423.886 | AC9: 66075.245 | AD9: 64577.566 | AE9: 61804.522 | AF9: 66953.593 | AG9: 87119.218 | AH9: 80072.687 | AI9: 82246.04 | AJ9: 78377.244 | AK9: 73408.961 | AL9: 78117.685 | AM9: =IF(AL9="","",(AL9-AK9)/AK9) -> 0.064143722 | AO9: =(V9/B9)*10 -> 2.0661463 | AP9: =(W9/C9)*10 -> 2.1559067 | AQ9: =(X9/D9)*10 -> 1.872956 | AR9: =(Y9/E9)*10 -> 2.1697575 | AS9: =(Z9/F9)*10 -> 2.3469004 | AT9: =(AA9/G9)*10 -> 2.4085315 | AU9: =(AB9/H9)*10 -> 2.2613054 | AV9: =(AC9/I9)*10 -> 2.7452024 | ... BD9: =(AK9/Q9)*10 -> 2.6060922 | BE9: =IF(AL9="","",(AL9/R9)*10) -> 2.7254739 | BF9: =IF(BE9="","",(BE9-BD9)/BD9) -> 0.045808683
A10: abril | B10: 215335.86 | C10: 234500.52 | D10: 245047.84 | E10: 295201.41 | F10: 217619.54 | G10: 264598.62 | H10: 251369.34 | I10: 225265.57 | J10: 280278.36 | K10: 242604.25 | L10: 221930.12 | M10: 289475 | N10: 262360.58 | O10: 242301.33 | P10: 321597.08 | Q10: 282174.21 | R10: 283860.34 | S10: =(IF(R10="","",((R10-Q10)/Q10))) -> 0.0059754929 | U10: abril | V10: 46025.075 | W10: 44904.889 | X10: 48943.746 | Y10: 56740.441 | Z10: 53780.959 | AA10: 62171.205 | AB10: 54315.156 | AC10: 53392.404 | AD10: 64781.76 | AE10: 61456.497 | AF10: 59545.285 | AG10: 77717.852 | AH10: 72456.436 | AI10: 68969.697 | AJ10: 85848.441 | AK10: 76086.711 | AL10: 78165.553 | AM10: =IF(AL10="","",(AL10-AK10)/AK10) -> 0.027322012 | AO10: =(V10/B10)*10 -> 2.1373623 | AP10: =(W10/C10)*10 -> 1.9149164 | AQ10: =(X10/D10)*10 -> 1.9973139 | AR10: =(Y10/E10)*10 -> 1.9220925 | AS10: =(Z10/F10)*10 -> 2.4713295 | AT10: =(AA10/G10)*10 -> 2.3496421 | AU10: =(AB10/H10)*10 -> 2.1607709 | AV10: =(AC10/I10)*10 -> 2.3701982 | ... BD10: =(AK10/Q10)*10 -> 2.6964445 | BE10: =IF(AL10="","",(AL10/R10)*10) -> 2.7536623 | BF10: =IF(BE10="","",(BE10-BD10)/BD10) -> 0.02121972
A11: maio | B11: 222013.68 | C11: 263893.26 | D11: 299190.63 | E11: 256106.35 | F11: 230811.05 | G11: 216672.05 | H11: 236802.17 | I11: 260243.39 | J11: 262127.07 | K11: 281547.48 | L11: 229388.95 | M11: 288153.11 | N11: 276301.92 | O11: 281804.58 | P11: 306293.24 | Q11: 319107.93 | R11: 250547.67 | S11: =(IF(R11="","",((R11-Q11)/Q11))) -> -0.21484975 | U11: maio | V11: 47205.196 | W11: 52842.769 | X11: 54431.923 | Y11: 55981.48 | Z11: 55053.41 | AA11: 55267.651 | AB11: 56035.016 | AC11: 66317.002 | AD11: 64324.446 | AE11: 68453.83 | AF11: 58256.008 | AG11: 77143.061 | AH11: 76795.082 | AI11: 80880.138 | AJ11: 80938.011 | AK11: 83332.546 | AL11: 68259.633 | AM11: =IF(AL11="","",(AL11-AK11)/AK11) -> -0.18087666 | AO11: =(V11/B11)*10 -> 2.1262292 | AP11: =(W11/C11)*10 -> 2.0024297 | AQ11: =(X11/D11)*10 -> 1.8193057 | AR11: =(Y11/E11)*10 -> 2.1858685 | AS11: =(Z11/F11)*10 -> 2.3852155 | AT11: =(AA11/G11)*10 -> 2.5507513 | AU11: =(AB11/H11)*10 -> 2.3663219 | AV11: =(AC11/I11)*10 -> 2.5482684 | ... BD11: =(AK11/Q11)*10 -> 2.611422 | BE11: =IF(AL11="","",(AL11/R11)*10) -> 2.724417 | BF11: =IF(BE11="","",(BE11-BD11)/BD11) -> 0.043269538
A12: junho | B12: 215680.73 | C12: 298357.37 | D12: 243274.91 | E12: 242334.35 | F12: 229301.41 | G12: 227631.28 | H12: 210795.04 | I12: 279141.12 | J12: 254074.62 | K12: 214797.02 | L12: 270265.61 | M12: 280199.61 | N12: 254653.79 | O12: 308172.17 | P12: 276915.73 | Q12: 281630.45 | R12: 264291.82 | S12: =(IF(R12="","",((R12-Q12)/Q12))) -> -0.061565182 | U12: junho | V12: 45837.497 | W12: 51105.701 | X12: 50899.005 | Y12: 50438.382 | Z12: 52151.922 | AA12: 56091.163 | AB12: 52714.073 | AC12: 64528.73 | AD12: 62742.375 | AE12: 55571.388 | AF12: 66351.211 | AG12: 74866.906 | AH12: 70242.043 | AI12: 86964.572 | AJ12: 72516.952 | AK12: 75977.716 | AL12: 72089.471 | AM12: =IF(AL12="","",(AL12-AK12)/AK12) -> -0.051176124 | AO12: =(V12/B12)*10 -> 2.1252477 | AP12: =(W12/C12)*10 -> 1.7129022 | AQ12: =(X12/D12)*10 -> 2.0922423 | AR12: =(Y12/E12)*10 -> 2.081355 | AS12: =(Z12/F12)*10 -> 2.274383 | AT12: =(AA12/G12)*10 -> 2.4641237 | AU12: =(AB12/H12)*10 -> 2.5007264 | AV12: =(AC12/I12)*10 -> 2.3116884 | ... BD12: =(AK12/Q12)*10 -> 2.6977806 | BE12: =IF(AL12="","",(AL12/R12)*10) -> 2.7276467 | BF12: =IF(BE12="","",(BE12-BD12)/BD12) -> 0.011070623
A13: julho | B13: 248639.3 | C13: 301296.24 | D13: 302219.03 | E13: 271364.14 | F13: 280219.01 | G13: 268822.42 | H13: 250739.99 | I13: 253691.2 | J13: 257419.71 | K13: 275641.56 | L13: 333531.09 | M13: 285935.8 | N13: 296026.54 | O13: 298746.17 | P13: 333986.91 | Q13: 332553.51 | R13: 291958.88 | S13: =(IF(R13="","",((R13-Q13)/Q13))) -> -0.12206947 | U13: julho | V13: 54364.509 | W13: 59788.319 | X13: 62714.639 | Y13: 65018.055 | Z13: 69122.018 | AA13: 69013.11 | AB13: 62444.104 | AC13: 64721.65 | AD13: 68976.124 | AE13: 78608.732 | AF13: 87158.587 | AG13: 82708.234 | AH13: 82133.286 | AI13: 86869.535 | AJ13: 91039.436 | AK13: 89445.25 | AL13: 83208.7 | AM13: =IF(AL13="","",(AL13-AK13)/AK13) -> -0.069724776 | AO13: =(V13/B13)*10 -> 2.1864809 | AP13: =(W13/C13)*10 -> 1.9843699 | AQ13: =(X13/D13)*10 -> 2.0751387 | AR13: =(Y13/E13)*10 -> 2.3959708 | AS13: =(Z13/F13)*10 -> 2.4667141 | AT13: =(AA13/G13)*10 -> 2.5672379 | AU13: =(AB13/H13)*10 -> 2.4903927 | AV13: =(AC13/I13)*10 -> 2.5511981 | ... BD13: =(AK13/Q13)*10 -> 2.6896499 | BE13: =IF(AL13="","",(AL13/R13)*10) -> 2.8500144 | BF13: =IF(BE13="","",(BE13-BD13)/BD13) -> 0.059622818
A14: agosto | B14: 188089.7 | C14: 220263.89 | D14: 238438.41 | E14: 192903.75 | F14: 168311.42 | G14: 186814.79 | H14: 210170.45 | I14: 215685.89 | J14: 216097.52 | K14: 196206.75 | L14: 214684.44 | M14: 233437.77 | N14: 250505.71 | O14: 265322.09 | P14: 262177.63 | Q14: 245103.13 | S14: =(IF(R14="","",((R14-Q14)/Q14))) | U14: agosto | V14: 39184.329 | W14: 43186.21 | X14: 48896.256 | Y14: 49231.409 | Z14: 41790.909 | AA14: 45062.925 | AB14: 49976.914 | AC14: 51045.448 | AD14: 55934.431 | AE14: 52837.048 | AF14: 57801.854 | AG14: 60956.923 | AH14: 70221.736 | AI14: 68408.922 | AJ14: 68952.827 | AK14: 64168.421 | AM14: =IF(AL14="","",(AL14-AK14)/AK14) | AO14: =(V14/B14)*10 -> 2.0832788 | AP14: =(W14/C14)*10 -> 1.9606577 | AQ14: =(X14/D14)*10 -> 2.0506871 | AR14: =(Y14/E14)*10 -> 2.552123 | AS14: =(Z14/F14)*10 -> 2.4829515 | AT14: =(AA14/G14)*10 -> 2.4121712 | AU14: =(AB14/H14)*10 -> 2.377923 | AV14: =(AC14/I14)*10 -> 2.3666568 | ... BD14: =(AK14/Q14)*10 -> 2.6180172 | BE14: =IF(AL14="","",(AL14/R14)*10) | BF14: =IF(BE14="","",(BE14-BD14)/BD14)
A15: setembro | B15: 276286.44 | C15: 291231.53 | D15: 295760.24 | E15: 290599.49 | F15: 290227.68 | G15: 248925.35 | H15: 261926.87 | I15: 267823.91 | J15: 219687.75 | K15: 266084.85 | L15: 301265 | M15: 280354.08 | N15: 303137.79 | O15: 266427.34 | P15: 253800.34 | Q15: 293879.07 | S15: =(IF(R15="","",((R15-Q15)/Q15))) | U15: setembro | V15: 64657.765 | W15: 67014.461 | X15: 62417.527 | Y15: 71596.117 | Z15: 76295.819 | AA15: 70793.574 | AB15: 69809.002 | AC15: 71866.598 | AD15: 67502.441 | AE15: 79059.754 | AF15: 84581.715 | AG15: 88913.321 | AH15: 91382.118 | AI15: 78672.27 | AJ15: 79762.331 | AK15: 86958.938 | AM15: =IF(AL15="","",(AL15-AK15)/AK15) | AO15: =(V15/B15)*10 -> 2.3402439 | AP15: =(W15/C15)*10 -> 2.3010716 | AQ15: =(X15/D15)*10 -> 2.1104097 | AR15: =(Y15/E15)*10 -> 2.4637386 | AS15: =(Z15/F15)*10 -> 2.6288264 | AT15: =(AA15/G15)*10 -> 2.843968 | AU15: =(AB15/H15)*10 -> 2.6652096 | AV15: =(AC15/I15)*10 -> 2.6833526 | ... BD15: =(AK15/Q15)*10 -> 2.9590041 | BE15: =IF(AL15="","",(AL15/R15)*10) | BF15: =IF(BE15="","",(BE15-BD15)/BD15)
A16: outubro | B16: 218413.53 | C16: 269385.37 | D16: 357795.17 | E16: 308575.82 | F16: 305395.49 | G16: 278553.35 | H16: 249519.28 | I16: 311771.16 | J16: 292724.18 | K16: 321608.54 | L16: 322467.65 | M16: 294277.01 | N16: 298545.54 | O16: 281897.7 | P16: 340111.73 | Q16: 340443.58 | S16: =(IF(R16="","",((R16-Q16)/Q16))) | U16: outubro | V16: 62505.199 | W16: 72259.178 | X16: 85069.484 | Y16: 87588.735 | Z16: 89099.01 | AA16: 82030.592 | AB16: 76031.939 | AC16: 87843.296 | AD16: 92024.978 | AE16: 97269.097 | AF16: 96078.873 | AG16: 90636.669 | AH16: 94985.398 | AI16: 88050.623 | AJ16: 108964.87 | AK16: 104951.54 | AM16: =IF(AL16="","",(AL16-AK16)/AK16) | AO16: =(V16/B16)*10 -> 2.8617824 | AP16: =(W16/C16)*10 -> 2.682372 | AQ16: =(X16/D16)*10 -> 2.3776029 | AR16: =(Y16/E16)*10 -> 2.8384834 | AS16: =(Z16/F16)*10 -> 2.9174959 | AT16: =(AA16/G16)*10 -> 2.944879 | AU16: =(AB16/H16)*10 -> 3.0471368 | AV16: =(AC16/I16)*10 -> 2.8175568 | ... BD16: =(AK16/Q16)*10 -> 3.082788 | BE16: =IF(AL16="","",(AL16/R16)*10) | BF16: =IF(BE16="","",(BE16-BD16)/BD16)
A17: novembro | B17: 283992.14 | C17: 340923.25 | D17: 307861.13 | E17: 286413.16 | F17: 274219.11 | G17: 273526.25 | H17: 315362.6 | I17: 306231.5 | J17: 274210.35 | K17: 273617.81 | L17: 319048.99 | M17: 318333.36 | N17: 339529.76 | O17: 295756.67 | P17: 295483.5 | Q17: 263112.82 | S17: =(IF(R17="","",((R17-Q17)/Q17))) | U17: novembro | V17: 75798.924 | W17: 78510.059 | X17: 82860.765 | Y17: 82287.182 | Z17: 81224.971 | AA17: 82936.982 | AB17: 94068.772 | AC17: 90812.541 | AD17: 85853.54 | AE17: 81718.175 | AF17: 93299.053 | AG17: 97861.879 | AH17: 103988.55 | AI17: 93005.015 | AJ17: 91560.633 | AK17: 87265.749 | AM17: =IF(AL17="","",(AL17-AK17)/AK17) | AO17: =(V17/B17)*10 -> 2.6690501 | AP17: =(W17/C17)*10 -> 2.3028661 | AQ17: =(X17/D17)*10 -> 2.6914981 | AR17: =(Y17/E17)*10 -> 2.8730238 | AS17: =(Z17/F17)*10 -> 2.9620463 | AT17: =(AA17/G17)*10 -> 3.0321398 | AU17: =(AB17/H17)*10 -> 2.9828766 | AV17: =(AC17/I17)*10 -> 2.9654866 | ... BD17: =(AK17/Q17)*10 -> 3.3166666 | BE17: =IF(AL17="","",(AL17/R17)*10) | BF17: =IF(BE17="","",(BE17-BD17)/BD17)
A18: dezembro | B18: 226068.23 | C18: 257835.05 | D18: 297135.57 | E18: 191538.03 | F18: 207146.77 | G18: 199318.67 | H18: 191845.39 | I18: 240526.04 | J18: 195141.51 | K18: 213937.47 | L18: 227207.97 | M18: 239927.22 | N18: 216943.65 | O18: 202121.92 | P18: 215837.91 | Q18: 225910.84 | S18: =(IF(R18="","",((R18-Q18)/Q18))) | U18: dezembro | V18: 50975.751 | W18: 55476.897 | X18: 59634.482 | Y18: 54113.735 | Z18: 57504.427 | AA18: 58105.801 | AB18: 58962.415 | AC18: 64051.425 | AD18: 62214.675 | AE18: 64766.223 | AF18: 67694.932 | AG18: 68116.868 | AH18: 65495.568 | AI18: 62769.23 | AJ18: 67355.898 | AK18: 67711.703 | AM18: =IF(AL18="","",(AL18-AK18)/AK18) | AO18: =(V18/B18)*10 -> 2.2548834 | AP18: =(W18/C18)*10 -> 2.151643 | AQ18: =(X18/D18)*10 -> 2.0069789 | AR18: =(Y18/E18)*10 -> 2.8252214 | AS18: =(Z18/F18)*10 -> 2.7760233 | AT18: =(AA18/G18)*10 -> 2.9152212 | AU18: =(AB18/H18)*10 -> 3.073434 | AV18: =(AC18/I18)*10 -> 2.6629726 | ... BD18: =(AK18/Q18)*10 -> 2.9972755 | BE18: =IF(AL18="","",(AL18/R18)*10) | BF18: =IF(BE18="","",(BE18-BD18)/BD18)
A19: jan-jul | B19: =SUM(B7:B13) -> 1473603.9 | C19: =SUM(C7:C13) -> 1698971.4 | D19: =SUM(D7:D13) -> 1865688.4 | E19: =SUM(E7:E13) -> 1770584.8 | F19: =SUM(F7:F13) -> 1590867.9 | G19: =SUM(G7:G13) -> 1611050.2 | H19: =SUM(H7:H13) -> 1550680.3 | I19: =SUM(I7:I13) -> 1639531 | ... R19: =SUM(R7:R13) -> 1820736.2 | S19: =(R19-Q19)/Q19 -> -0.100196 | V19: =SUM(V7:V13) -> 321258.24 | W19: =SUM(W7:W13) -> 340471.45 | X19: =SUM(X7:X13) -> 364626.32 | Y19: =SUM(Y7:Y13) -> 375976.38 | Z19: =SUM(Z7:Z13) -> 380369.67 | AA19: =SUM(AA7:AA13) -> 396604.03 | AB19: =SUM(AB7:AB13) -> 375124.58 | AC19: =SUM(AC7:AC13) -> 412421.69 | ... AL19: =SUM(AL7:AL13) -> 503928.45 | AM19: =IF(AL19="","",(AL19-AK19)/AK19) -> -0.065587951 | AO19: =(V19/B19)*10 -> 2.1800855 | AP19: =(W19/C19)*10 -> 2.0039859 | AQ19: =(X19/D19)*10 -> 1.9543796 | AR19: =(Y19/E19)*10 -> 2.1234587 | AS19: =(Z19/F19)*10 -> 2.390957 | AT19: =(AA19/G19)*10 -> 2.4617732 | AU19: =(AB19/H19)*10 -> 2.4190969 | AV19: =(AC19/I19)*10 -> 2.5154858 | ... BD19: =(AK19/Q19)*10 -> 2.6652095 | BE19: =IF(AL19="","",(AL19/R19)*10) -> 2.7677181 | BF19: =IF(BE19="","",(BE19-BD19)/BD19) -> 0.03846176
A20: 1ª Trim | B20: =SUM(B7:B9) -> 571934.29 | C20: =SUM(C7:C9) -> 600923.96 | D20: =SUM(D7:D9) -> 775955.95 | E20: =SUM(E7:E9) -> 705578.6 | F20: =SUM(F7:F9) -> 632916.85 | G20: =SUM(G7:G9) -> 633325.85 | H20: =SUM(H7:H9) -> 600973.72 | I20: =SUM(I7:I9) -> 621189.69 | ... Q20: =SUM(Q7:Q9) -> 808014.75 | R20: =IF(R9="","",SUM(R7:R9)) -> 730077.46 | S20: =IF(R20="","",(R20-Q20)/Q20) -> -0.096455281 | U20: 1ª Trim | V20: =SUM(V7:V9) -> 127825.96 | W20: =SUM(W7:W9) -> 131829.78 | X20: =SUM(X7:X9) -> 147637.01 | Y20: =SUM(Y7:Y9) -> 147798.03 | Z20: =SUM(Z7:Z9) -> 150261.36 | AA20: =SUM(AA7:AA9) -> 154060.9 | AB20: =SUM(AB7:AB9) -> 149616.23 | AC20: =SUM(AC7:AC9) -> 163461.91 | ... AK20: =SUM(AK7:AK9) -> 214457.81 | AL20: =IF(AL9="","",SUM(AL7:AL9)) -> 202205.09 | AM20: =IF(AL20="","",(AL20-AK20)/AK20) -> -0.057133467 | AO20: =(V20/B20)*10 -> 2.2349763 | AP20: =(W20/C20)*10 -> 2.1937847 | AQ20: =(X20/D20)*10 -> 1.9026468 | AR20: =(Y20/E20)*10 -> 2.0947068 | AS20: =(Z20/F20)*10 -> 2.374109 | AT20: =(AA20/G20)*10 -> 2.4325693 | AU20: =(AB20/H20)*10 -> 2.4895637 | AV20: =(AC20/I20)*10 -> 2.631433 | ... BD20: =(AK20/Q20)*10 -> 2.6541323 | BE20: =IF(AL20="","",(AL20/R20)*10) -> 2.7696388 | BF20: =IF(BE20="","",(BE20-BD20)/BD20) -> 0.0435195
A21: 2º Trim | B21: =SUM(B10:B12) -> 653030.27 | C21: =SUM(C10:C12) -> 796751.15 | D21: =SUM(D10:D12) -> 787513.38 | E21: =SUM(E10:E12) -> 793642.11 | F21: =SUM(F10:F12) -> 677732 | G21: =SUM(G10:G12) -> 708901.95 | H21: =SUM(H10:H12) -> 698966.55 | I21: =SUM(I10:I12) -> 764650.08 | ... R21: =SUM(R10:R12) -> 798699.83 | S21: =IF(R21="","",(R21-Q21)/Q21) -> -0.095380631 | U21: 2º Trim | V21: =SUM(V10:V12) -> 139067.77 | W21: =SUM(W10:W12) -> 148853.36 | X21: =SUM(X10:X12) -> 154274.67 | Y21: =SUM(Y10:Y12) -> 163160.3 | Z21: =SUM(Z10:Z12) -> 160986.29 | AA21: =SUM(AA10:AA12) -> 173530.02 | AB21: =SUM(AB10:AB12) -> 163064.25 | AC21: =SUM(AC10:AC12) -> 184238.14 | ... AK21: =SUM(AK10:AK12) -> 235396.97 | AL21: =IF(AL12="","",SUM(AL10:AL12)) -> 218514.66 | AM21: =IF(AL21="","",(AL21-AK21)/AK21) -> -0.071718492 | AO21: =(V21/B21)*10 -> 2.1295761 | AP21: =(W21/C21)*10 -> 1.8682541 | AQ21: =(X21/D21)*10 -> 1.9590102 | AR21: =(Y21/E21)*10 -> 2.0558423 | AS21: =(Z21/F21)*10 -> 2.375368 | AT21: =(AA21/G21)*10 -> 2.4478705 | AU21: =(AB21/H21)*10 -> 2.3329335 | AV21: =(AC21/I21)*10 -> 2.4094438 | ... BD21: =(AK21/Q21)*10 -> 2.6661413 | BE21: =IF(AL21="","",(AL21/R21)*10) -> 2.7358796 | BF21: =IF(BE21="","",(BE21-BD21)/BD21) -> 0.026157011
A22: 3º Trim | B22: =SUM(B13:B15) -> 713015.44 | C22: =SUM(C13:C15) -> 812791.66 | D22: =SUM(D13:D15) -> 836417.68 | E22: =SUM(E13:E15) -> 754867.38 | F22: =SUM(F13:F15) -> 738758.11 | G22: =SUM(G13:G15) -> 704562.56 | H22: =SUM(H13:H15) -> 722837.31 | I22: =SUM(I13:I15) -> 737201 | ... Q22: =SUM(Q13:Q15) -> 871535.71 | R22: =IF(R15="","",SUM(R13:R15)) | S22: =IF(R22="","",(R22-Q22)/Q22) | U22: 3º Trim | V22: =SUM(V13:V15) -> 158206.6 | W22: =SUM(W13:W15) -> 169988.99 | X22: =SUM(X13:X15) -> 174028.42 | Y22: =SUM(Y13:Y15) -> 185845.58 | Z22: =SUM(Z13:Z15) -> 187208.75 | AA22: =SUM(AA13:AA15) -> 184869.61 | AB22: =SUM(AB13:AB15) -> 182230.02 | AC22: =SUM(AC13:AC15) -> 187633.7 | ... AK22: =SUM(AK13:AK15) -> 240572.61 | AL22: =IF(AL15="","",SUM(AL13:AL15)) | AM22: =IF(AL22="","",(AL22-AK22)/AK22) | AO22: =(V22/B22)*10 -> 2.2188384 | AP22: =(W22/C22)*10 -> 2.0914214 | AQ22: =(X22/D22)*10 -> 2.0806402 | AR22: =(Y22/E22)*10 -> 2.4619633 | AS22: =(Z22/F22)*10 -> 2.5341007 | AT22: =(AA22/G22)*10 -> 2.623892 | AU22: =(AB22/H22)*10 -> 2.5210378 | AV22: =(AC22/I22)*10 -> 2.5452176 | ... BD22: =(AK22/Q22)*10 -> 2.7603299 | BE22: =IF(AL22="","",(AL22/R22)*10) | BF22: =IF(BE22="","",(BE22-BD22)/BD22)
A23: 4º Trim | B23: =SUM(B16:B18) -> 728473.9 | C23: =SUM(C16:C18) -> 868143.67 | D23: =SUM(D16:D18) -> 962791.87 | E23: =SUM(E16:E18) -> 786527.01 | F23: =SUM(F16:F18) -> 786761.37 | G23: =SUM(G16:G18) -> 751398.27 | H23: =SUM(H16:H18) -> 756727.27 | I23: =SUM(I16:I18) -> 858528.7 | ... Q23: =SUM(Q16:Q18) -> 829467.24 | R23: =IF(R18="","",(SUM(R16:R18))) | S23: =IF(R23="","",(R23-Q23)/Q23) | U23: 4º Trim | V23: =SUM(V16:V18) -> 189279.87 | W23: =SUM(W16:W18) -> 206246.13 | X23: =SUM(X16:X18) -> 227564.73 | Y23: =SUM(Y16:Y18) -> 223989.65 | Z23: =SUM(Z16:Z18) -> 227828.41 | AA23: =SUM(AA16:AA18) -> 223073.38 | AB23: =SUM(AB16:AB18) -> 229063.13 | AC23: =SUM(AC16:AC18) -> 242707.26 | ... AK23: =SUM(AK16:AK18) -> 259928.99 | AL23: =IF(AL18="","",SUM(AL16:AL18)) | AM23: =IF(AL23="","",(AL23-AK23)/AK23) | AO23: =(V23/B23)*10 -> 2.5983069 | AP23: =(W23/C23)*10 -> 2.3757143 | AQ23: =IF(X18="","",(X23/D23)*10) -> 2.3635922 | AR23: =IF(Y18="","",(Y23/E23)*10) -> 2.8478317 | AS23: =IF(Z18="","",(Z23/F23)*10) -> 2.8957752 | AT23: =IF(AA18="","",(AA23/G23)*10) -> 2.9687768 | AU23: =IF(AB18="","",(AB23/H23)*10) -> 3.0270235 | AV23: =IF(AC18="","",(AC23/I23)*10) -> 2.827014 | AW23: =IF(AD18="","",(AD23/J23)*10) -> 3.1505149 | AX23: =IF(AE18="","",(AE23/K23)*10) -> 3.0124122 | ... BD23: =IF(AK18="","",(AK23/Q23)*10) -> 3.133686 | BE23: =IF(AL23="","",(AL23/R23)*10) | BF23: =IF(BE23="","",(BE23-BD23)/BD23)
S25: HL | AM25: 1000 | BF25: € / Litro
A26: Intra UE | B26: Exportação | S26: D 2026/2025 | U26: Intra + Extra UE | V26: Exportação | AM26: D 2026/2025 | AO26: Exportação | BF26: =AM26 -> D 2026/2025
B27: 2010 | C27: 2011 | D27: 2012 | E27: 2013 | F27: 2014 | G27: 2015 | H27: 2016 | I27: 2017 | J27: 2018 | K27: 2019 | L27: 2020 | M27: 2021 | N27: 2022 | O27: 2023 | P27: 2024 | Q27: 2025 | R27: 2026 | V27: 2010 | W27: 2011 | X27: 2012 | Y27: 2013 | Z27: 2014 | AA27: 2015 | AB27: 2016 | AC27: 2017 | AD27: 2018 | AE27: 2019 | AF27: 2020 | AG27: 2021 | AH27: 2022 | AI27: 2023 | AJ27: 2024 | AK27: 2025 | AL27: 2026 | AO27: 2010 | AP27: 2011 | AQ27: 2012 | AR27: 2013 | AS27: 2014 | AT27: 2015 | AU27: 2016 | AV27: 2017 | AW27: 2018 | AX27: 2019 | AY27: 2020 | AZ27: 2021 | BA27: 2022 | BB27: 2023 | BC27: 2024 | BD27: 2025 | BE27: 2026
A28: mês | V28: 2010 | W28: 2011 | X28: 2012
A29: janeiro | B29: 85580.32 | C29: 80916.8 | D29: 125346.1 | E29: 120157.8 | F29: 101957.16 | G29: 91780.27 | H29: 94208.58 | I29: 96265.58 | J29: 124755.04 | K29: 116531.86 | L29: 101982.03 | M29: 106330.95 | N29: 98697.34 | O29: 97718.04 | P29: 99971.11 | Q29: 108434.15 | R29: 84083.65 | S29: =IF(R29="","",(R29-Q29)/Q29) -> -0.22456486 | U29: janeiro | V29: 23270.866 | W29: 22495.121 | X29: 24799.76 | Y29: 25615.48 | Z29: 29400.613 | AA29: 25803.076 | AB29: 26846.137 | AC29: 26379.177 | AD29: 31298.861 | AE29: 31619.379 | AF29: 28181.773 | AG29: 29969.556 | AH29: 27448.124 | AI29: 27409.352 | AJ29: 29052.252 | AK29: 29550.58 | AL29: 25232.371 | AM29: =(AL29-AK29)/AK29 -> -0.14612942 | AO29: =(V29/B29)*10 -> 2.7191843 | AP29: =(W29/C29)*10 -> 2.780031 | AQ29: =(X29/D29)*10 -> 1.9785027 | AR29: =(Y29/E29)*10 -> 2.13182 | AS29: =(Z29/F29)*10 -> 2.8836242 | AT29: =(AA29/G29)*10 -> 2.8113968 | AU29: =(AB29/H29)*10 -> 2.8496488 | AV29: =(AC29/I29)*10 -> 2.7402501 | ... BE29: =(AL29/R29)*10 -> 3.0008653 | BF29: =IF(BE29="","",(BE29-BD29)/BD29) -> 0.10115024
A30: fevereiro | B30: 88844.74 | C30: 127722.3 | D30: 128469.04 | E30: 149512.52 | F30: 109776.65 | G30: 98756.11 | H30: 114532.43 | I30: 102519.81 | J30: 148191.61 | K30: 114647.41 | L30: 104015.04 | M30: 110889.25 | N30: 107266.16 | O30: 99149.02 | P30: 116909.73 | Q30: 127283.01 | R30: 101565.59 | S30: =IF(R30="","",(R30-Q30)/Q30) -> -0.20204912 | U30: fevereiro | V30: 24769.379 | W30: 26090.181 | X30: 26845.964 | Y30: 29407.369 | Z30: 29868.045 | AA30: 27835.926 | AB30: 29206.41 | AC30: 26234.002 | AD30: 31644.39 | AE30: 32055.04 | AF30: 26905.675 | AG30: 29964.092 | AH30: 30612.233 | AI30: 27807.315 | AJ30: 32092.276 | AK30: 31439.42 | AL30: 29426.489 | AM30: =IF(AL30="","",(AL30-AK30)/AK30) -> -0.064025704 | AO30: =(V30/B30)*10 -> 2.7879398 | AP30: =(W30/C30)*10 -> 2.0427272 | AQ30: =(X30/D30)*10 -> 2.0896836 | AR30: =(Y30/E30)*10 -> 1.9668834 | AS30: =(Z30/F30)*10 -> 2.7208013 | AT30: =(AA30/G30)*10 -> 2.8186535 | AU30: =(AB30/H30)*10 -> 2.5500559 | AV30: =(AC30/I30)*10 -> 2.5589203 | ... BE30: =(AL30/R30)*10 -> 2.8972892 | BF30: =IF(BE30="","",(BE30-BD30)/BD30) -> 0.17297232
A31: março | B31: 163017.8 | C31: 124161.33 | D31: 181017.39 | E31: 128321.88 | F31: 109180.22 | G31: 128703.72 | H31: 167047.15 | I31: 131035.78 | J31: 136350.33 | K31: 131403.34 | L31: 117972.88 | M31: 154297.81 | N31: 137828.99 | O31: 137733.08 | P31: 135113.56 | Q31: 136482.9 | R31: 119231.63 | S31: =IF(R31="","",(R31-Q31)/Q31) -> -0.12639876 | U31: março | V31: 34176.325 | W31: 30181.554 | X31: 34669.633 | Y31: 29423.861 | Z31: 29544.088 | AA31: 34831.202 | AB31: 34959.244 | AC31: 36752.835 | AD31: 36699.917 | AE31: 35665.699 | AF31: 30966.272 | AG31: 41575.408 | AH31: 38835.72 | AI31: 38540.09 | AJ31: 34052.204 | AK31: 33745.111 | AL31: 33436.954 | AM31: =IF(AL31="","",(AL31-AK31)/AK31) -> -0.0091319006 | AO31: =(V31/B31)*10 -> 2.0964781 | AP31: =(W31/C31)*10 -> 2.4308337 | AQ31: =(X31/D31)*10 -> 1.9152653 | AR31: =(Y31/E31)*10 -> 2.292973 | AS31: =(Z31/F31)*10 -> 2.7059927 | AT31: =(AA31/G31)*10 -> 2.7063089 | AU31: =(AB31/H31)*10 -> 2.092777 | AV31: =(AC31/I31)*10 -> 2.8047939 | ... BE31: =(AL31/R31)*10 -> 2.8043694 | BF31: =IF(BE31="","",(BE31-BD31)/BD31) -> 0.13423386
A32: abril | B32: 129054.23 | C32: 143928.7 | D32: 130551.3 | E32: 168057.09 | F32: 116200.56 | G32: 126285.8 | H32: 162799.5 | I32: 135156.71 | J32: 164204.01 | K32: 132405.87 | L32: 104241.92 | M32: 136765.2 | N32: 132267.32 | O32: 116649.26 | P32: 147483 | Q32: 144441.72 | R32: 115165.4 | S32: =IF(R32="","",(R32-Q32)/Q32) -> -0.20268604 | U32: abril | V32: 29571.835 | W32: 27556.182 | X32: 27462.67 | Y32: 33693.253 | Z32: 31434.276 | AA32: 35272.599 | AB32: 32738.879 | AC32: 32002.926 | AD32: 37177.172 | AE32: 34138.759 | AF32: 27197.233 | AG32: 36264.787 | AH32: 35088.123 | AI32: 31355.767 | AJ32: 35430.792 | AK32: 34722.978 | AL32: 33451.464 | AM32: =IF(AL32="","",(AL32-AK32)/AK32) -> -0.036618806 | AO32: =(V32/B32)*10 -> 2.291427 | AP32: =(W32/C32)*10 -> 1.9145717 | AQ32: =(X32/D32)*10 -> 2.1035922 | AR32: =(Y32/E32)*10 -> 2.0048695 | AS32: =(Z32/F32)*10 -> 2.7051742 | AT32: =(AA32/G32)*10 -> 2.7930772 | AU32: =(AB32/H32)*10 -> 2.0109938 | AV32: =(AC32/I32)*10 -> 2.3678385 | ... BE32: =(AL32/R32)*10 -> 2.9046453 | BF32: =IF(BE32="","",(BE32-BD32)/BD32) -> 0.20828336
A33: maio | B33: 118132.11 | C33: 147173.67 | D33: 167545.44 | E33: 131905.74 | F33: 115807.5 | G33: 114798.86 | H33: 138304.1 | I33: 134536.2 | J33: 144042.04 | K33: 143487.68 | L33: 113189.6 | M33: 129682.75 | N33: 128958.66 | O33: 128808.55 | P33: 152707.31 | Q33: 148720.04 | R33: 102346.37 | S33: =IF(R33="","",(R33-Q33)/Q33) -> -0.31181857 | U33: maio | V33: 29004.791 | W33: 32396.498 | X33: 31705.72 | Y33: 31122.39 | Z33: 31058.1 | AA33: 31539.869 | AB33: 33068.364 | AC33: 35573.934 | AD33: 34606.109 | AE33: 36493.042 | AF33: 28939.76 | AG33: 35107.968 | AH33: 34502.496 | AI33: 34636.105 | AJ33: 36279.495 | AK33: 37883.006 | AL33: 28720.084 | AM33: =IF(AL33="","",(AL33-AK33)/AK33) -> -0.24187421 | AO33: =(V33/B33)*10 -> 2.4552843 | AP33: =(W33/C33)*10 -> 2.2012428 | AQ33: =(X33/D33)*10 -> 1.8923654 | AR33: =(Y33/E33)*10 -> 2.3594417 | AS33: =(Z33/F33)*10 -> 2.6818729 | AT33: =(AA33/G33)*10 -> 2.7474026 | AU33: =(AB33/H33)*10 -> 2.3909894 | AV33: =(AC33/I33)*10 -> 2.6441905 | ... BE33: =(AL33/R33)*10 -> 2.8061654 | BF33: =IF(BE33="","",(BE33-BD33)/BD33) -> 0.10163652
A34: junho | B34: 135211.28 | C34: 175317.34 | D34: 118154.39 | E34: 152399.24 | F34: 114737.73 | G34: 115427.67 | H34: 126613.06 | I34: 156897.32 | J34: 146611.98 | K34: 114891.17 | L34: 131146.99 | M34: 136351.88 | N34: 120909.86 | O34: 127966.81 | P34: 136448.88 | Q34: 132166.73 | R34: 102486.55 | S34: =IF(R34="","",(R34-Q34)/Q34) -> -0.2245662 | U34: junho | V34: 28421.635 | W34: 31101.468 | X34: 27821.58 | Y34: 30041.77 | Z34: 29496.788 | AA34: 31068.588 | AB34: 31963.874 | AC34: 36419.878 | AD34: 35474.751 | AE34: 29960.278 | AF34: 34243.893 | AG34: 37052.936 | AH34: 32003.355 | AI34: 34450.578 | AJ34: 32505.955 | AK34: 33338.595 | AL34: 29296.339 | AM34: =IF(AL34="","",(AL34-AK34)/AK34) -> -0.12124854 | AO34: =(V34/B34)*10 -> 2.1020166 | AP34: =(W34/C34)*10 -> 1.7740098 | AQ34: =(X34/D34)*10 -> 2.3546802 | AR34: =(Y34/E34)*10 -> 1.9712546 | AS34: =(Z34/F34)*10 -> 2.5708011 | AT34: =(AA34/G34)*10 -> 2.6916066 | AU34: =(AB34/H34)*10 -> 2.5245321 | AV34: =(AC34/I34)*10 -> 2.3212556 | ... BE34: =(AL34/R34)*10 -> 2.8585545 | BF34: =IF(BE34="","",(BE34-BD34)/BD34) -> 0.13323853
A35: julho | B35: 127394.08 | C35: 153173.2 | D35: 157184.51 | E35: 153334.56 | F35: 127866.06 | G35: 125620.07 | H35: 136980 | I35: 143925.01 | J35: 137723 | K35: 141500.09 | L35: 149245.17 | M35: 119980.09 | N35: 129976 | O35: 123984.85 | P35: 131488.37 | Q35: 117679.45 | R35: 115226.65 | S35: =IF(R35="","",(R35-Q35)/Q35) -> -0.020843061 | U35: julho | V35: 32779.412 | W35: 32399.375 | X35: 32672.659 | Y35: 33859.817 | Z35: 36267.967 | AA35: 36630.705 | AB35: 36275.367 | AC35: 35138.282 | AD35: 35499.514 | AE35: 41925.195 | AF35: 39852.699 | AG35: 35007.288 | AH35: 33825.857 | AI35: 33345.653 | AJ35: 33866.553 | AK35: 32876.766 | AL35: 33202.359 | AM35: =IF(AL35="","",(AL35-AK35)/AK35) -> 0.0099034376 | AO35: =(V35/B35)*10 -> 2.5730718 | AP35: =(W35/C35)*10 -> 2.1152117 | AQ35: =(X35/D35)*10 -> 2.0786182 | AR35: =(Y35/E35)*10 -> 2.2082313 | AS35: =(Z35/F35)*10 -> 2.836403 | AT35: =(AA35/G35)*10 -> 2.9159914 | AU35: =(AB35/H35)*10 -> 2.6482236 | AV35: =(AC35/I35)*10 -> 2.4414299 | ... BE35: =(AL35/R35)*10 -> 2.8814826 | BF35: =IF(BE35="","",(BE35-BD35)/BD35) -> 0.031400992
A36: agosto | B36: 84144.9 | C36: 93566.7 | D36: 109659.02 | E36: 85683.41 | F36: 75119.59 | G36: 77720.05 | H36: 113987.73 | I36: 109779.22 | J36: 115223.08 | K36: 101102.38 | L36: 89495.02 | M36: 89788.39 | N36: 107932.03 | O36: 101620.35 | P36: 102661.22 | Q36: 82804.69 | S36: =IF(R36="","",(R36-Q36)/Q36) | U36: agosto | V36: 21851.236 | W36: 23756.941 | X36: 26722.863 | Y36: 25745.833 | Z36: 21196.857 | AA36: 23742.382 | AB36: 27458.443 | AC36: 27213.074 | AD36: 30488.754 | AE36: 28270.807 | AF36: 25817.175 | AG36: 25658.437 | AH36: 28965.705 | AI36: 27884.359 | AJ36: 25359.5 | AK36: 22997.19 | AM36: =IF(AL36="","",(AL36-AK36)/AK36) | AO36: =(V36/B36)*10 -> 2.596858 | AP36: =(W36/C36)*10 -> 2.539038 | AQ36: =(X36/D36)*10 -> 2.4369051 | AR36: =(Y36/E36)*10 -> 3.0047629 | AS36: =(Z36/F36)*10 -> 2.8217482 | AT36: =(AA36/G36)*10 -> 3.0548593 | AU36: =(AB36/H36)*10 -> 2.4088946 | AV36: =(AC36/I36)*10 -> 2.4788912 | ... BD36: =(AK36/Q36)*10 -> 2.7772811
A37: setembro | B37: 138558.8 | C37: 155834.77 | D37: 166910.13 | E37: 141021.51 | F37: 123949.06 | G37: 108934.94 | H37: 146959.93 | I37: 147602.31 | J37: 117229.17 | K37: 135705.83 | L37: 125178.35 | M37: 127375.37 | N37: 118928.4 | O37: 115776.09 | P37: 108156.84 | Q37: 123334.31 | S37: =IF(R37="","",(R37-Q37)/Q37) | U37: setembro | V37: 36869.315 | W37: 38144.778 | X37: 35747.971 | Y37: 35405.064 | Z37: 39468.506 | AA37: 36656.013 | AB37: 39730.442 | AC37: 38905.268 | AD37: 37110.973 | AE37: 44437.182 | AF37: 35516.306 | AG37: 38379.319 | AH37: 36707.814 | AI37: 33975.414 | AJ37: 33978.917 | AK37: 36427.985 | AM37: =IF(AL37="","",(AL37-AK37)/AK37) | AO37: =(V37/B37)*10 -> 2.6609147 | AP37: =(W37/C37)*10 -> 2.4477707 | AQ37: =(X37/D37)*10 -> 2.1417496 | AR37: =(Y37/E37)*10 -> 2.5106144 | AS37: =(Z37/F37)*10 -> 3.1842521 | AT37: =(AA37/G37)*10 -> 3.3649454 | AU37: =(AB37/H37)*10 -> 2.7034881 | AV37: =(AC37/I37)*10 -> 2.635817 | ... BD37: =(AK37/Q37)*10 -> 2.953597
A38: outubro | B38: 122092.13 | C38: 129989.21 | D38: 213923.47 | E38: 143278.99 | F38: 142422.69 | G38: 143940.28 | H38: 138455.72 | I38: 171460.05 | J38: 167779.67 | K38: 161547.52 | L38: 125255.68 | M38: 127232.09 | N38: 129569.24 | O38: 126334.53 | P38: 138124.55 | Q38: 132160.82 | S38: =IF(R38="","",(R38-Q38)/Q38) | U38: outubro | V38: 39727.942 | W38: 40734.827 | X38: 48266.112 | Y38: 48573.177 | Z38: 47199.01 | AA38: 49361.276 | AB38: 45412.628 | AC38: 51801.628 | AD38: 54582.834 | AE38: 54939.107 | AF38: 39610.615 | AG38: 40227.444 | AH38: 41068.91 | AI38: 40260.319 | AJ38: 44298.18 | AK38: 40148.472 | AM38: =IF(AL38="","",(AL38-AK38)/AK38) | AO38: =(V38/B38)*10 -> 3.2539314 | AP38: =(W38/C38)*10 -> 3.1337083 | AQ38: =(X38/D38)*10 -> 2.2562327 | AR38: =(Y38/E38)*10 -> 3.3901116 | AS38: =(Z38/F38)*10 -> 3.3140092 | AT38: =(AA38/G38)*10 -> 3.4292886 | AU38: =(AB38/H38)*10 -> 3.2799387 | AV38: =(AC38/I38)*10 -> 3.0212069 | ... BD38: =(AK38/Q38)*10 -> 3.0378498
A39: novembro | B39: 155283.11 | C39: 190846.29 | D39: 164476.11 | E39: 155784.03 | F39: 141171.97 | G39: 154005.31 | H39: 193124.44 | I39: 201827.39 | J39: 161829.7 | K39: 150815.31 | L39: 141955.06 | M39: 153861.87 | N39: 147150.82 | O39: 145513.09 | P39: 122992.67 | Q39: 115648.8 | S39: =IF(R39="","",(R39-Q39)/Q39) | U39: novembro | V39: 50334.872 | W39: 48986.579 | X39: 51362.042 | Y39: 51289.856 | Z39: 48284.936 | AA39: 53105.857 | AB39: 59549.021 | AC39: 59908.97 | AD39: 53697.078 | AE39: 48381.74 | AF39: 43825.399 | AG39: 46964.612 | AH39: 46669.292 | AI39: 47917.59 | AJ39: 39793.081 | AK39: 37946.359 | AM39: =IF(AL39="","",(AL39-AK39)/AK39) | AO39: =(V39/B39)*10 -> 3.2414905 | AP39: =(W39/C39)*10 -> 2.566808 | AQ39: =IF(X39="","",(X39/D39)*10) -> 3.1227661 | AR39: =IF(Y39="","",(Y39/E39)*10) -> 3.2923693 | AS39: =IF(Z39="","",(Z39/F39)*10) -> 3.420292 | AT39: =IF(AA39="","",(AA39/G39)*10) -> 3.4483134 | AU39: =IF(AB39="","",(AB39/H39)*10) -> 3.0834534 | AV39: =IF(AC39="","",(AC39/I39)*10) -> 2.968327 | AW39: =IF(AD39="","",(AD39/J39)*10) -> 3.3181226 | AX39: =IF(AE39="","",(AE39/K39)*10) -> 3.2080125 | ... BD39: =IF(AK39="","",(AK39/Q39)*10) -> 3.2811719
A40: dezembro | B40: 149645.84 | C40: 159202.3 | D40: 203434.65 | E40: 108594.95 | F40: 106301.55 | G40: 116548.94 | H40: 113772.8 | I40: 147624.21 | J40: 117569.23 | K40: 123931.32 | L40: 108069.52 | M40: 116171.73 | N40: 109122.84 | O40: 91498.37 | P40: 98421.51 | Q40: 101688.21 | S40: =IF(R40="","",(R40-Q40)/Q40) | U40: dezembro | V40: 35379.044 | W40: 37144.068 | X40: 37986.12 | Y40: 33420.184 | Z40: 33733.983 | AA40: 36039.898 | AB40: 34055.992 | AC40: 36034.478 | AD40: 35921.742 | AE40: 37043.724 | AF40: 32897.342 | AG40: 33474.043 | AH40: 32438.861 | AI40: 26829.104 | AJ40: 29612.304 | AK40: 29902.338 | AM40: =IF(AL40="","",(AL40-AK40)/AK40) | AO40: =(V40/B40)*10 -> 2.3641849 | AP40: =(W40/C40)*10 -> 2.3331364 | AQ40: =IF(X40="","",(X40/D40)*10) -> 1.8672394 | AR40: =IF(Y40="","",(Y40/E40)*10) -> 3.0775081 | AS40: =IF(Z40="","",(Z40/F40)*10) -> 3.1734234 | AT40: =IF(AA40="","",(AA40/G40)*10) -> 3.0922545 | AU40: =IF(AB40="","",(AB40/H40)*10) -> 2.9933334 | AV40: =IF(AC40="","",(AC40/I40)*10) -> 2.4409599 | AW40: =IF(AD40="","",(AD40/J40)*10) -> 3.0553693 | AX40: =IF(AE40="","",(AE40/K40)*10) -> 2.9890526 | ... BE40: =IF(AL40="","",(AL40/R40)*10) | BF40: =IF(BE40="","",(BE40-BD40)/BD40)
A41: =A19 -> jan-jul | B41: =SUM(B29:B35) -> 847234.56 | C41: =SUM(C29:C35) -> 952393.34 | D41: =SUM(D29:D35) -> 1008268.2 | E41: =SUM(E29:E35) -> 1003688.8 | F41: =SUM(F29:F35) -> 795525.88 | G41: =SUM(G29:G35) -> 801372.5 | H41: =SUM(H29:H35) -> 940484.82 | I41: =SUM(I29:I35) -> 900336.41 | ... R41: =SUM(R29:R35) -> 740105.84 | S41: =IF(R41="","",(R41-Q41)/Q41) -> -0.19132499 | V41: =SUM(V29:V35) -> 201994.24 | W41: =SUM(W29:W35) -> 202220.38 | X41: =SUM(X29:X35) -> 205977.99 | Y41: =SUM(Y29:Y35) -> 213163.94 | Z41: =SUM(Z29:Z35) -> 217069.88 | AA41: =SUM(AA29:AA35) -> 222981.96 | AB41: =SUM(AB29:AB35) -> 225058.27 | AC41: =SUM(AC29:AC35) -> 228501.03 | ... AL41: =SUM(AL29:AL35) -> 212766.06 | AM41: =IF(AL41="","",(AL41-AK41)/AK41) -> -0.089016576 | AO41: =(V41/B41)*10 -> 2.3841596 | AP41: =(W41/C41)*10 -> 2.1232864 | AQ41: =IF(X41="","",(X41/D41)*10) -> 2.0428889 | AR41: =IF(Y41="","",(Y41/E41)*10) -> 2.123805 | AS41: =IF(Z41="","",(Z41/F41)*10) -> 2.7286338 | AT41: =IF(AA41="","",(AA41/G41)*10) -> 2.7825008 | AU41: =IF(AB41="","",(AB41/H41)*10) -> 2.3930027 | AV41: =IF(AC41="","",(AC41/I41)*10) -> 2.5379517 | AW41: =IF(AD41="","",(AD41/J41)*10) -> 2.4194634 | AX41: =IF(AE41="","",(AE41/K41)*10) -> 2.7027176 | ... BE41: =IF(AL41="","",(AL41/R41)*10) -> 2.8748059 | BF41: =IF(BE41="","",(BE41-BD41)/BD41) -> 0.12651363
A42: 1ª Trim | B42: =SUM(B29:B31) -> 337442.86 | C42: =SUM(C29:C31) -> 332800.43 | D42: =SUM(D29:D31) -> 434832.53 | E42: =SUM(E29:E31) -> 397992.2 | F42: =SUM(F29:F31) -> 320914.03 | G42: =SUM(G29:G31) -> 319240.1 | H42: =SUM(H29:H31) -> 375788.16 | I42: =SUM(I29:I31) -> 329821.17 | ... P42: =SUM(P29:P31) -> 351994.4 | Q42: =IF(Q31="","",SUM(Q29:Q31)) -> 372200.06 | R42: =IF(R31="","",SUM(R29:R31)) -> 304880.87 | S42: =IF(R42="","",(R42-Q42)/Q42) -> -0.18086829 | U42: 1ª Trim | V42: =SUM(V29:V31) -> 82216.57 | W42: =SUM(W29:W31) -> 78766.856 | X42: =SUM(X29:X31) -> 86315.357 | Y42: =SUM(Y29:Y31) -> 84446.71 | Z42: =SUM(Z29:Z31) -> 88812.746 | AA42: =SUM(AA29:AA31) -> 88470.204 | AB42: =SUM(AB29:AB31) -> 91011.791 | AC42: =SUM(AC29:AC31) -> 89366.014 | ... AK42: =SUM(AK29:AK31) -> 94735.111 | AL42: =IF(AL31="","",SUM(AL29:AL31)) -> 88095.814 | AM42: =IF(AL42="","",(AL42-AK42)/AK42) -> -0.070082749 | AO42: =(V42/B42)*10 -> 2.436459 | AP42: =(W42/C42)*10 -> 2.3667895 | AQ42: =(X42/D42)*10 -> 1.9850253 | AR42: =(Y42/E42)*10 -> 2.1218182 | AS42: =(Z42/F42)*10 -> 2.7674934 | AT42: =(AA42/G42)*10 -> 2.7712748 | AU42: =(AB42/H42)*10 -> 2.4218909 | AV42: =(AC42/I42)*10 -> 2.7095293 | ... BE42: =(AL42/R42)*10 -> 2.889516 | BF42: =IF(BE42="","",(BE42-BD42)/BD42) -> 0.13524754
A43: 2º Trim | B43: =SUM(B32:B34) -> 382397.62 | C43: =SUM(C32:C34) -> 466419.71 | D43: =SUM(D32:D34) -> 416251.13 | E43: =SUM(E32:E34) -> 452362.07 | F43: =SUM(F32:F34) -> 346745.79 | G43: =SUM(G32:G34) -> 356512.33 | H43: =SUM(H32:H34) -> 427716.66 | I43: =SUM(I32:I34) -> 426590.23 | ... P43: =SUM(P32:P34) -> 436639.19 | Q43: =IF(Q34="","",SUM(Q32:Q34)) -> 425328.49 | R43: =IF(R34="","",SUM(R32:R34)) -> 319998.32 | S43: =IF(R43="","",(R43-Q43)/Q43) -> -0.24764429 | U43: 2º Trim | V43: =SUM(V32:V34) -> 86998.261 | W43: =SUM(W32:W34) -> 91054.148 | X43: =SUM(X32:X34) -> 86989.97 | Y43: =SUM(Y32:Y34) -> 94857.413 | Z43: =SUM(Z32:Z34) -> 91989.164 | AA43: =SUM(AA32:AA34) -> 97881.056 | AB43: =SUM(AB32:AB34) -> 97771.117 | AC43: =SUM(AC32:AC34) -> 103996.74 | ... AK43: =SUM(AK32:AK34) -> 105944.58 | AL43: =IF(AL34="","",SUM(AL32:AL34)) -> 91467.887 | AM43: =IF(AL43="","",(AL43-AK43)/AK43) -> -0.13664401 | AO43: =(V43/B43)*10 -> 2.2750733 | AP43: =(W43/C43)*10 -> 1.9521934 | AQ43: =(X43/D43)*10 -> 2.0898435 | AR43: =(Y43/E43)*10 -> 2.0969356 | AS43: =(Z43/F43)*10 -> 2.6529281 | AT43: =(AA43/G43)*10 -> 2.7455167 | AU43: =(AB43/H43)*10 -> 2.2858852 | AV43: =(AC43/I43)*10 -> 2.4378603 | ... BE43: =(AL43/R43)*10 -> 2.8583865 | BF43: =IF(BE43="","",(BE43-BD43)/BD43) -> 0.14753696
A44: 3º Trim | B44: =SUM(B35:B37) -> 350097.78 | C44: =SUM(C35:C37) -> 402574.67 | D44: =SUM(D35:D37) -> 433753.66 | E44: =SUM(E35:E37) -> 380039.48 | F44: =SUM(F35:F37) -> 326934.71 | G44: =SUM(G35:G37) -> 312275.06 | H44: =SUM(H35:H37) -> 397927.66 | I44: =SUM(I35:I37) -> 401306.54 | ... P44: =SUM(P35:P37) -> 342306.43 | Q44: =IF(Q37="","",SUM(Q35:Q37)) -> 323818.45 | R44: =IF(R37="","",SUM(R35:R37)) | S44: =IF(R44="","",(R44-Q44)/Q44) | U44: 3º Trim | V44: =SUM(V35:V37) -> 91499.963 | W44: =SUM(W35:W37) -> 94301.094 | X44: =SUM(X35:X37) -> 95143.493 | Y44: =SUM(Y35:Y37) -> 95010.714 | Z44: =SUM(Z35:Z37) -> 96933.33 | AA44: =SUM(AA35:AA37) -> 97029.1 | AB44: =SUM(AB35:AB37) -> 103464.25 | AC44: =SUM(AC35:AC37) -> 101256.62 | ... AK44: =SUM(AK35:AK37) -> 92301.941 | AL44: =IF(AL35="","",SUM(AL33:AL35)) -> 91218.782 | AM44: =IF(AL44="","",(AL44-AK44)/AK44) -> -0.011734954 | AO44: =(V44/B44)*10 -> 2.6135545 | AP44: =(W44/C44)*10 -> 2.3424498 | AQ44: =(X44/D44)*10 -> 2.1934914 | AR44: =(Y44/E44)*10 -> 2.5000222 | AS44: =(Z44/F44)*10 -> 2.964914 | AT44: =(AA44/G44)*10 -> 3.1071678 | AU44: =(AB44/H44)*10 -> 2.6000769 | AV44: =(AC44/I44)*10 -> 2.523174 | ... BD44: =(AK44/Q44)*10 -> 2.8504225 | BF44: =IF(BE44="","",(BE44-BD44)/BD44)
A45: 4º Trim | B45: =SUM(B38:B40) -> 427021.08 | C45: =SUM(C38:C40) -> 480037.8 | D45: =IF(D40="","",SUM(D38:D40)) -> 581834.23 | E45: =IF(E40="","",SUM(E38:E40)) -> 407657.97 | F45: =IF(F40="","",SUM(F38:F40)) -> 389896.21 | G45: =IF(G40="","",SUM(G38:G40)) -> 414494.53 | H45: =IF(H40="","",SUM(H38:H40)) -> 445352.96 | I45: =IF(I40="","",SUM(I38:I40)) -> 520911.65 | J45: =IF(J40="","",SUM(J38:J40)) -> 447178.6 | K45: =IF(K40="","",SUM(K38:K40)) -> 436294.15 | ... R45: =IF(R40="","",SUM(R38:R40)) | S45: =IF(R45="","",(R45-Q45)/Q45) | U45: 4º Trim | V45: =SUM(V38:V40) -> 125441.86 | W45: =SUM(W38:W40) -> 126865.47 | X45: =IF(X40="","",SUM(X38:X40)) -> 137614.27 | Y45: =IF(Y40="","",SUM(Y38:Y40)) -> 133283.22 | Z45: =IF(Z40="","",SUM(Z38:Z40)) -> 129217.93 | AA45: =IF(AA40="","",SUM(AA38:AA40)) -> 138507.03 | AB45: =IF(AB40="","",SUM(AB38:AB40)) -> 139017.64 | AC45: =IF(AC40="","",SUM(AC38:AC40)) -> 147745.08 | AD45: =IF(AD40="","",SUM(AD38:AD40)) -> 144201.65 | AE45: =IF(AE40="","",SUM(AE38:AE40)) -> 140364.57 | ... AL45: =IF(AL40="","",SUM(AL38:AL40)) | AM45: =IF(AL45="","",(AL45-AK45)/AK45) | AO45: =(V45/B45)*10 -> 2.9376034 | AP45: =(W45/C45)*10 -> 2.6428226 | AQ45: =IF(X40="","",(X45/D45)*10) -> 2.3651801 | AR45: =IF(Y40="","",(Y45/E45)*10) -> 3.2694864 | AS45: =IF(Z40="","",(Z45/F45)*10) -> 3.3141622 | AT45: =IF(AA40="","",(AA45/G45)*10) -> 3.3415889 | AU45: =IF(AB40="","",(AB45/H45)*10) -> 3.121516 | AV45: =IF(AC40="","",(AC45/I45)*10) -> 2.836279 | AW45: =IF(AD40="","",(AD45/J45)*10) -> 3.2246993 | AX45: =IF(AE40="","",(AE45/K45)*10) -> 3.2172004 | ... BE45: =IF(AL40="","",(AL45/R45)*10) | BF45: =IF(BE45="","",(BE45-BD45)/BD45)
S47: HL | AM47: 1000 | BF47: € / Litro
A48: Extra UE | B48: Exportação | S48: D 2026/2025 | U48: Intra + Extra UE | V48: Exportação | AM48: D 2026/2025 | AO48: Exportação | BF48: =AM48 -> D 2026/2025
B49: 2010 | C49: 2011 | D49: 2012 | E49: 2013 | F49: 2014 | G49: 2015 | H49: 2016 | I49: 2017 | J49: 2018 | K49: 2019 | L49: 2020 | M49: 2021 | N49: 2022 | O49: 2023 | P49: 2024 | Q49: 2025 | R49: 2026 | V49: 2010 | W49: 2011 | X49: 2012 | Y49: 2013 | Z49: 2014 | AA49: 2015 | AB49: 2016 | AC49: 2017 | AD49: 2018 | AE49: 2019 | AF49: 2020 | AG49: 2021 | AH49: 2022 | AI49: 2023 | AJ49: 2024 | AK49: 2025 | AL49: 2026 | AO49: 2010 | AP49: 2011 | AQ49: 2012 | AR49: 2013 | AS49: 2014 | AT49: 2015 | AU49: 2017 | AV49: 2017 | AW49: 2018 | AX49: 2019 | AY49: 2020 | AZ49: 2021 | BA49: 2022 | BB49: 2023 | BC49: 2024 | BD49: 2025 | BE49: 2026
A50: Mês | V50: 2010 | W50: 2011 | X50: 2012
A51: janeiro | B51: 77038.13 | C51: 75617.27 | D51: 113844.1 | E51: 93610.95 | F51: 94388.04 | G51: 91436.94 | H51: 70145.98 | I51: 96670.4 | J51: 86690.71 | K51: 102746.47 | L51: 136996.5 | M51: 121646.66 | N51: 128442.53 | O51: 136111.59 | P51: 121578.57 | Q51: 135567.74 | R51: 124009.93 | S51: =IF(R51="","",(R51-Q51)/Q51) -> -0.08525487 | U51: janeiro | V51: 14178.059 | W51: 16344.845 | X51: 18481.169 | Y51: 20000.633 | Z51: 18045.734 | AA51: 19063.575 | AB51: 17884.871 | AC51: 22256.164 | AD51: 22751.997 | AE51: 25859.545 | AF51: 35304.031 | AG51: 29875.058 | AH51: 35625.286 | AI51: 34919.174 | AJ51: 37175.218 | AK51: 37580.575 | AL51: 33643.865 | AM51: =(AL51-AK51)/AK51 -> -0.10475385 | AO51: =(V51/B51)*10 -> 1.840395 | AP51: =(W51/C51)*10 -> 2.1615228 | AQ51: =(X51/D51)*10 -> 1.6233752 | AR51: =(Y51/E51)*10 -> 2.1365698 | AS51: =(Z51/F51)*10 -> 1.9118666 | AT51: =(AA51/G51)*10 -> 2.0848877 | AU51: =(AB51/H51)*10 -> 2.5496644 | AV51: =(AC51/I51)*10 -> 2.3022729 | ... BE51: =(AL51/R51)*10 -> 2.7129977 | BF51: =IF(BE51="","",(BE51-BD51)/BD51) -> -0.021316301
A52: fevereiro | B52: 72819.34 | C52: 87274.84 | D52: 101727.2 | E52: 110658.79 | F52: 109991.5 | G52: 92866.79 | H52: 72567.64 | I52: 85040.37 | J52: 97721.83 | K52: 111683.35 | L52: 113066.83 | M52: 124276.87 | N52: 138621.97 | O52: 126774.7 | P52: 142487.47 | Q52: 155047.72 | R52: 133797.73 | S52: =IF(R52="","",(R52-Q52)/Q52) -> -0.13705451 | U52: fevereiro | V52: 14439.179 | W52: 17444.694 | X52: 20090.994 | Y52: 22514.599 | Z52: 22065.344 | AA52: 19101.219 | AB52: 19254.93 | AC52: 22517.318 | AD52: 25713.953 | AE52: 28323.108 | AF52: 28077.086 | AG52: 31587.514 | AH52: 37504.744 | AI52: 37660.417 | AJ52: 40377.024 | AK52: 42478.271 | AL52: 35784.679 | AM52: =IF(AL52="","",(AL52-AK52)/AK52) -> -0.15757685 | AO52: =(V52/B52)*10 -> 1.9828769 | AP52: =(W52/C52)*10 -> 1.9988228 | AQ52: =(X52/D52)*10 -> 1.9749874 | AR52: =(Y52/E52)*10 -> 2.0345965 | AS52: =(Z52/F52)*10 -> 2.0060954 | AT52: =(AA52/G52)*10 -> 2.0568407 | AU52: =(AB52/H52)*10 -> 2.6533769 | AV52: =(AC52/I52)*10 -> 2.6478387 | ... BE52: =(AL52/R52)*10 -> 2.6745356 | BF52: =IF(BE52="","",(BE52-BD52)/BD52) -> -0.023781725
A53: março | B53: 84633.96 | C53: 105231.42 | D53: 125552.12 | E53: 103316.66 | F53: 107623.28 | G53: 129782.02 | H53: 82471.94 | I53: 109657.75 | J53: 106502.67 | K53: 100151.62 | L53: 137560.89 | M53: 160491.22 | N53: 144711.77 | O53: 149915.4 | P53: 147087.34 | Q53: 145199.23 | R53: 167388.93 | S53: =IF(R53="","",(R53-Q53)/Q53) -> 0.15282244 | U53: março | V53: 16992.152 | W53: 19273.382 | X53: 22749.488 | Y53: 20836.084 | Z53: 21337.534 | AA53: 27425.904 | AB53: 21464.642 | AC53: 29322.41 | AD53: 27877.649 | AE53: 26138.823 | AF53: 35987.321 | AG53: 45543.81 | AH53: 41236.967 | AI53: 43705.95 | AJ53: 44325.04 | AK53: 39663.85 | AL53: 44680.731 | AM53: =IF(AL53="","",(AL53-AK53)/AK53) -> 0.12648497 | AO53: =(V53/B53)*10 -> 2.0077227 | AP53: =(W53/C53)*10 -> 1.8315235 | AQ53: =(X53/D53)*10 -> 1.8119557 | AR53: =(Y53/E53)*10 -> 2.0167206 | AS53: =(Z53/F53)*10 -> 1.9826132 | AT53: =(AA53/G53)*10 -> 2.1132283 | AU53: =(AB53/H53)*10 -> 2.60266 | AV53: =(AC53/I53)*10 -> 2.6739934 | ... BE53: =(AL53/R53)*10 -> 2.6692763 | BF53: =IF(BE53="","",(BE53-BD53)/BD53) -> -0.022846071
A54: abril | B54: 86281.63 | C54: 90571.82 | D54: 114496.54 | E54: 127144.32 | F54: 101418.98 | G54: 138312.82 | H54: 88569.84 | I54: 90108.86 | J54: 116074.35 | K54: 110198.38 | L54: 117688.2 | M54: 152709.8 | N54: 130093.26 | O54: 125652.07 | P54: 174114.08 | Q54: 137732.49 | R54: 168694.94 | S54: =IF(R54="","",(R54-Q54)/Q54) -> 0.22480135 | U54: abril | V54: 16453.24 | W54: 17348.707 | X54: 21481.076 | Y54: 23047.188 | Z54: 22346.683 | AA54: 26898.606 | AB54: 21576.277 | AC54: 21389.478 | AD54: 27604.588 | AE54: 27317.738 | AF54: 32348.052 | AG54: 41453.065 | AH54: 37368.313 | AI54: 37613.93 | AJ54: 50417.649 | AK54: 41363.733 | AL54: 44714.089 | AM54: =IF(AL54="","",(AL54-AK54)/AK54) -> 0.080997428 | AO54: =(V54/B54)*10 -> 1.9069227 | AP54: =(W54/C54)*10 -> 1.9154641 | AQ54: =(X54/D54)*10 -> 1.8761332 | AR54: =(Y54/E54)*10 -> 1.8126793 | AS54: =(Z54/F54)*10 -> 2.2034025 | AT54: =(AA54/G54)*10 -> 1.9447659 | AU54: =(AB54/H54)*10 -> 2.436075 | AV54: =(AC54/I54)*10 -> 2.3737375 | ... BE54: =(AL54/R54)*10 -> 2.6505886 | BF54: =IF(BE54="","",(BE54-BD54)/BD54) -> -0.11741
A55: maio | B55: 103881.57 | C55: 116719.59 | D55: 131645.19 | E55: 124200.61 | F55: 115003.55 | G55: 101873.19 | H55: 98498.07 | I55: 125707.19 | J55: 118085.03 | K55: 138059.8 | L55: 116199.35 | M55: 158470.36 | N55: 147343.26 | O55: 152996.03 | P55: 153585.93 | Q55: 170387.89 | R55: 148201.3 | S55: =IF(R55="","",(R55-Q55)/Q55) -> -0.13021225 | U55: maio | V55: 18200.405 | W55: 20446.271 | X55: 22726.203 | Y55: 24859.09 | Z55: 23995.31 | AA55: 23727.782 | AB55: 22966.652 | AC55: 30743.068 | AD55: 29718.337 | AE55: 31960.788 | AF55: 29316.248 | AG55: 42035.093 | AH55: 42292.586 | AI55: 46244.033 | AJ55: 44658.516 | AK55: 45449.54 | AL55: 39539.549 | AM55: =IF(AL55="","",(AL55-AK55)/AK55) -> -0.13003412 | AO55: =(V55/B55)*10 -> 1.7520341 | AP55: =(W55/C55)*10 -> 1.7517429 | AQ55: =(X55/D55)*10 -> 1.7263223 | AR55: =(Y55/E55)*10 -> 2.0015272 | AS55: =(Z55/F55)*10 -> 2.0864843 | AT55: =(AA55/G55)*10 -> 2.3291488 | AU55: =(AB55/H55)*10 -> 2.3316855 | AV55: =(AC55/I55)*10 -> 2.4456094 | ... BE55: =(AL55/R55)*10 -> 2.6679624 | BF55: =IF(BE55="","",(BE55-BD55)/BD55) -> 0.00020479195
A56: junho | B56: 80469.45 | C56: 123040.03 | D56: 125120.52 | E56: 89935.11 | F56: 114563.68 | G56: 112203.61 | H56: 84181.98 | I56: 122243.8 | J56: 107462.64 | K56: 99905.85 | L56: 139118.62 | M56: 143847.73 | N56: 133743.93 | O56: 180205.36 | P56: 140466.85 | Q56: 149463.72 | R56: 161805.27 | S56: =IF(R56="","",(R56-Q56)/Q56) -> 0.082572212 | U56: junho | V56: 17415.862 | W56: 20004.233 | X56: 23077.425 | Y56: 20396.612 | Z56: 22655.134 | AA56: 25022.575 | AB56: 20750.199 | AC56: 28108.852 | AD56: 27267.624 | AE56: 25611.11 | AF56: 32107.318 | AG56: 37813.97 | AH56: 38238.688 | AI56: 52513.994 | AJ56: 40010.997 | AK56: 42639.121 | AL56: 42793.132 | AM56: =IF(AL56="","",(AL56-AK56)/AK56) -> 0.0036119647 | AO56: =(V56/B56)*10 -> 2.1642825 | AP56: =(W56/C56)*10 -> 1.6258313 | AQ56: =(X56/D56)*10 -> 1.8444157 | AR56: =(Y56/E56)*10 -> 2.2679254 | AS56: =(Z56/F56)*10 -> 1.9775145 | AT56: =(AA56/G56)*10 -> 2.2301043 | AU56: =(AB56/H56)*10 -> 2.4649217 | AV56: =(AC56/I56)*10 -> 2.2994092 | ... BE56: =(AL56/R56)*10 -> 2.6447304 | BF56: =IF(BE56="","",(BE56-BD56)/BD56) -> -0.072937626
A57: julho | B57: 121245.22 | C57: 148123.04 | D57: 145034.52 | E57: 118029.58 | F57: 152352.95 | G57: 143202.35 | H57: 113759.99 | I57: 109766.19 | J57: 119696.71 | K57: 134141.47 | L57: 184285.92 | M57: 165955.71 | N57: 166050.54 | O57: 174761.32 | P57: 202498.54 | Q57: 214874.06 | R57: 176732.23 | S57: =IF(R57="","",(R57-Q57)/Q57) -> -0.17750784 | U57: julho | V57: 21585.097 | W57: 27388.944 | X57: 30041.98 | Y57: 31158.238 | Z57: 32854.051 | AA57: 32382.405 | AB57: 26168.737 | AC57: 29583.368 | AD57: 33476.61 | AE57: 36683.537 | AF57: 47305.888 | AG57: 47700.946 | AH57: 48307.429 | AI57: 53523.882 | AJ57: 57172.883 | AK57: 56568.484 | AL57: 50006.341 | AM57: =IF(AL57="","",(AL57-AK57)/AK57) -> -0.11600352 | AO57: =(V57/B57)*10 -> 1.7802844 | AP57: =(W57/C57)*10 -> 1.8490671 | AQ57: =(X57/D57)*10 -> 2.0713676 | AR57: =(Y57/E57)*10 -> 2.6398669 | AS57: =(Z57/F57)*10 -> 2.1564434 | AT57: =(AA57/G57)*10 -> 2.261304 | AU57: =(AB57/H57)*10 -> 2.3003463 | AV57: =(AC57/I57)*10 -> 2.6951257 | ... BE57: =(AL57/R57)*10 -> 2.8294975 | BF57: =IF(BE57="","",(BE57-BD57)/BD57) -> 0.074778006
A58: agosto | B58: 103944.8 | C58: 126697.19 | D58: 128779.39 | E58: 107220.34 | F58: 93191.83 | G58: 109094.74 | H58: 96182.72 | I58: 105906.67 | J58: 100874.44 | K58: 95104.37 | L58: 125189.42 | M58: 143649.38 | N58: 142573.68 | O58: 163701.74 | P58: 159516.41 | Q58: 162298.44 | S58: =IF(R58="","",(R58-Q58)/Q58) | U58: agosto | V58: 17333.093 | W58: 19429.269 | X58: 22173.393 | Y58: 23485.576 | Z58: 20594.052 | AA58: 21320.543 | AB58: 22518.471 | AC58: 23832.374 | AD58: 25445.677 | AE58: 24566.241 | AF58: 31984.679 | AG58: 35298.486 | AH58: 41256.031 | AI58: 40524.563 | AJ58: 43593.327 | AK58: 41171.231 | AM58: =IF(AL58="","",(AL58-AK58)/AK58) | AO58: =(V58/B58)*10 -> 1.6675286 | AP58: =(W58/C58)*10 -> 1.5335201 | AQ58: =(X58/D58)*10 -> 1.7218122 | AR58: =(Y58/E58)*10 -> 2.1904031 | AS58: =(Z58/F58)*10 -> 2.2098559 | AT58: =(AA58/G58)*10 -> 1.9543145 | AU58: =(AB58/H58)*10 -> 2.3412179 | AV58: =(AC58/I58)*10 -> 2.2503185 | ... BD58: =(AK58/Q58)*10 -> 2.5367607
A59: setembro | B59: 137727.64 | C59: 135396.76 | D59: 128850.11 | E59: 149577.98 | F59: 166278.62 | G59: 139990.41 | H59: 114966.94 | I59: 120221.6 | J59: 102458.58 | K59: 130379.02 | L59: 176086.65 | M59: 152978.71 | N59: 184209.39 | O59: 150651.25 | P59: 145643.5 | Q59: 170544.76 | S59: =IF(R59="","",(R59-Q59)/Q59) | U59: setembro | V59: 27788.45 | W59: 28869.683 | X59: 26669.556 | Y59: 36191.053 | Z59: 36827.313 | AA59: 34137.561 | AB59: 30078.56 | AC59: 32961.33 | AD59: 30391.468 | AE59: 34622.572 | AF59: 49065.409 | AG59: 50534.002 | AH59: 54674.304 | AI59: 44696.856 | AJ59: 45783.414 | AK59: 50530.953 | AM59: =IF(AL59="","",(AL59-AK59)/AK59) | AO59: =(V59/B59)*10 -> 2.0176379 | AP59: =(W59/C59)*10 -> 2.1322285 | AQ59: =(X59/D59)*10 -> 2.0698124 | AR59: =(Y59/E59)*10 -> 2.4195442 | AS59: =(Z59/F59)*10 -> 2.2147954 | AT59: =(AA59/G59)*10 -> 2.4385643 | AU59: =(AB59/H59)*10 -> 2.6162791 | AV59: =(AC59/I59)*10 -> 2.7417145 | ... BD59: =(AK59/Q59)*10 -> 2.9629144
A60: outubro | B60: 96321.4 | C60: 139396.16 | D60: 143871.7 | E60: 165296.83 | F60: 162972.8 | G60: 134613.07 | H60: 111063.56 | I60: 140311.11 | J60: 124944.51 | K60: 160061.02 | L60: 197211.97 | M60: 167044.92 | N60: 168976.3 | O60: 155563.17 | P60: 201987.18 | Q60: 208282.76 | S60: =IF(R60="","",(R60-Q60)/Q60) | U60: outubro | V60: 22777.257 | W60: 31524.351 | X60: 36803.372 | Y60: 39015.558 | Z60: 41900 | AA60: 32669.316 | AB60: 30619.311 | AC60: 36041.668 | AD60: 37442.144 | AE60: 42329.99 | AF60: 56468.258 | AG60: 50409.225 | AH60: 53916.488 | AI60: 47790.304 | AJ60: 64666.688 | AK60: 64803.065 | AM60: =IF(AL60="","",(AL60-AK60)/AK60) | AO60: =(V60/B60)*10 -> 2.3647141 | AP60: =(W60/C60)*10 -> 2.2614935 | AQ60: =(X60/D60)*10 -> 2.5580689 | AR60: =(Y60/E60)*10 -> 2.3603331 | AS60: =(Z60/F60)*10 -> 2.5709812 | AT60: =(AA60/G60)*10 -> 2.4269052 | AU60: =(AB60/H60)*10 -> 2.7569178 | AV60: =(AC60/I60)*10 -> 2.5686967 | ... BD60: =(AK60/Q60)*10 -> 3.1113024
A61: novembro | B61: 128709.03 | C61: 150076.96 | D61: 143385.02 | E61: 130629.13 | F61: 133047.14 | G61: 119520.94 | H61: 122238.16 | I61: 104404.11 | J61: 112380.65 | K61: 122802.5 | L61: 177093.93 | M61: 164471.49 | N61: 192378.94 | O61: 150243.58 | P61: 172490.83 | Q61: 147464.02 | S61: =IF(R61="","",(R61-Q61)/Q61) | U61: novembro | V61: 25464.052 | W61: 29523.48 | X61: 31498.723 | Y61: 30997.326 | Z61: 32940.035 | AA61: 29831.125 | AB61: 34519.751 | AC61: 30903.571 | AD61: 32156.462 | AE61: 33336.435 | AF61: 49473.654 | AG61: 50897.267 | AH61: 57319.255 | AI61: 45087.425 | AJ61: 51767.552 | AK61: 49319.39 | AM61: =IF(AL61="","",(AL61-AK61)/AK61) | AO61: =(V61/B61)*10 -> 1.97842 | AP61: =(W61/C61)*10 -> 1.9672227 | AQ61: =IF(X61="","",(X61/D61)*10) -> 2.1967932 | AR61: =IF(Y61="","",(Y61/E61)*10) -> 2.372926 | AS61: =IF(Z61="","",(Z61/F61)*10) -> 2.4758168 | AT61: =IF(AA61="","",(AA61/G61)*10) -> 2.4958911 | AU61: =IF(AB61="","",(AB61/H61)*10) -> 2.823975 | AV61: =IF(AC61="","",(AC61/I61)*10) -> 2.9599956 | AW61: =IF(AD61="","",(AD61/J61)*10) -> 2.8613878 | AX61: =IF(AE61="","",(AE61/K61)*10) -> 2.7146381 | ... BE61: =IF(AL61="","",(AL61/R61)*10) | BF61: =IF(BE61="","",(BE61-BD61)/BD61)
A62: dezembro | B62: 76422.39 | C62: 98632.75 | D62: 93700.92 | E62: 82943.08 | F62: 100845.22 | G62: 82769.73 | H62: 78072.59 | I62: 92901.83 | J62: 77572.28 | K62: 90006.15 | L62: 119138.45 | M62: 123755.49 | N62: 107820.81 | O62: 110623.55 | P62: 117416.4 | Q62: 124222.63 | S62: =IF(R62="","",(R62-Q62)/Q62) | U62: dezembro | V62: 15596.707 | W62: 18332.829 | X62: 21648.362 | Y62: 20693.551 | Z62: 23770.444 | AA62: 22065.903 | AB62: 24906.423 | AC62: 28016.947 | AD62: 26292.933 | AE62: 27722.499 | AF62: 34797.59 | AG62: 34642.825 | AH62: 33056.707 | AI62: 35940.126 | AJ62: 37743.594 | AK62: 37809.365 | AM62: =IF(AL62="","",(AL62-AK62)/AK62) | AO62: =(V62/B62)*10 -> 2.0408557 | AP62: =(W62/C62)*10 -> 1.8586959 | AQ62: =IF(X62="","",(X62/D62)*10) -> 2.3103681 | AR62: =IF(Y62="","",(Y62/E62)*10) -> 2.4949099 | AS62: =IF(Z62="","",(Z62/F62)*10) -> 2.3571215 | AT62: =IF(AA62="","",(AA62/G62)*10) -> 2.6659387 | AU62: =IF(AB62="","",(AB62/H62)*10) -> 3.1901623 | AV62: =IF(AC62="","",(AC62/I62)*10) -> 3.0157584 | AW62: =IF(AD62="","",(AD62/J62)*10) -> 3.3894753 | AX62: =IF(AE62="","",(AE62/K62)*10) -> 3.0800672 | ... BE62: =IF(AL62="","",(AL62/R62)*10) | BF62: =IF(BE62="","",(BE62-BD62)/BD62)
A63: =A19 -> jan-jul | B63: =SUM(B51:B57) -> 626369.3 | C63: =SUM(C51:C57) -> 746578.01 | D63: =SUM(D51:D57) -> 857420.19 | E63: =SUM(E51:E57) -> 766896.02 | F63: =SUM(F51:F57) -> 795341.98 | G63: =SUM(G51:G57) -> 809677.72 | H63: =SUM(H51:H57) -> 610195.44 | I63: =SUM(I51:I57) -> 739194.56 | ... R63: =SUM(R51:R57) -> 1080630.3 | S63: =IF(R63="","",(R63-Q63)/Q63) -> -0.024941981 | V63: =SUM(V51:V57) -> 119263.99 | W63: =SUM(W51:W57) -> 138251.08 | X63: =SUM(X51:X57) -> 158648.34 | Y63: =SUM(Y51:Y57) -> 162812.44 | Z63: =SUM(Z51:Z57) -> 163299.79 | AA63: =SUM(AA51:AA57) -> 173622.07 | AB63: =SUM(AB51:AB57) -> 150066.31 | AC63: =SUM(AC51:AC57) -> 183920.66 | ... AL63: =SUM(AL51:AL57) -> 291162.39 | AM63: =IF(AL63="","",(AL63-AK63)/AK63) -> -0.047690906 | AO63: =(V63/B63)*10 -> 1.9040524 | AP63: =(W63/C63)*10 -> 1.8517968 | AQ63: =IF(X63="","",(X63/D63)*10) -> 1.8502986 | AR63: =IF(Y63="","",(Y63/E63)*10) -> 2.1230055 | AS63: =IF(Z63="","",(Z63/F63)*10) -> 2.0532022 | AT63: =IF(AA63="","",(AA63/G63)*10) -> 2.1443355 | AU63: =IF(AB63="","",(AB63/H63)*10) -> 2.4593155 | AV63: =IF(AC63="","",(AC63/I63)*10) -> 2.4881225 | AW63: =IF(AD63="","",(AD63/J63)*10) -> 2.5844454 | AX63: =IF(AE63="","",(AE63/K63)*10) -> 2.5335419 | ... BE63: =IF(AL63="","",(AL63/R63)*10) -> 2.6943755 | BF63: =IF(BE63="","",(BE63-BD63)/BD63) -> -0.023330843
A64: 1ª Trim | B64: =SUM(B51:B53) -> 234491.43 | C64: =SUM(C51:C53) -> 268123.53 | D64: =SUM(D51:D53) -> 341123.42 | E64: =SUM(E51:E53) -> 307586.4 | F64: =SUM(F51:F53) -> 312002.82 | G64: =SUM(G51:G53) -> 314085.75 | H64: =SUM(H51:H53) -> 225185.56 | I64: =SUM(I51:I53) -> 291368.52 | ... Q64: =SUM(Q51:Q53) -> 435814.69 | R64: =IF(R53="","",SUM(R51:R53)) -> 425196.59 | S64: =IF(R64="","",(R64-Q64)/Q64) -> -0.024363796 | U64: 1ª Trim | V64: =SUM(V51:V53) -> 45609.39 | W64: =SUM(W51:W53) -> 53062.921 | X64: =SUM(X51:X53) -> 61321.651 | Y64: =SUM(Y51:Y53) -> 63351.316 | Z64: =SUM(Z51:Z53) -> 61448.612 | AA64: =SUM(AA51:AA53) -> 65590.698 | AB64: =SUM(AB51:AB53) -> 58604.443 | AC64: =SUM(AC51:AC53) -> 74095.892 | ... AK64: =SUM(AK51:AK53) -> 119722.7 | AL64: =IF(AL53="","",SUM(AL51:AL53)) -> 114109.27 | AM64: =IF(AL64="","",(AL64-AK64)/AK64) -> -0.046886858 | AO64: =(V64/B64)*10 -> 1.9450344 | AP64: =(W64/C64)*10 -> 1.9790475 | AQ64: =(X64/D64)*10 -> 1.7976383 | AR64: =(Y64/E64)*10 -> 2.0596267 | AS64: =(Z64/F64)*10 -> 1.969489 | AT64: =(AA64/G64)*10 -> 2.0883054 | AU64: =(AB64/H64)*10 -> 2.6024956 | AV64: =(AC64/I64)*10 -> 2.5430301 | ... BE64: =(AL64/R64)*10 -> 2.6836827 | BF64: =IF(BE64="","",(BE64-BD64)/BD64) -> -0.023085513
A65: 2º Trim | B65: =SUM(B54:B56) -> 270632.65 | C65: =SUM(C54:C56) -> 330331.44 | D65: =SUM(D54:D56) -> 371262.25 | E65: =SUM(E54:E56) -> 341280.04 | F65: =SUM(F54:F56) -> 330986.21 | G65: =SUM(G54:G56) -> 352389.62 | H65: =SUM(H54:H56) -> 271249.89 | I65: =SUM(I54:I56) -> 338059.85 | ... Q65: =SUM(Q54:Q56) -> 457584.1 | R65: =IF(R56="","",SUM(R54:R56)) -> 478701.51 | S65: =IF(R65="","",(R65-Q65)/Q65) -> 0.04614979 | U65: 2º Trim | V65: =SUM(V54:V56) -> 52069.507 | W65: =SUM(W54:W56) -> 57799.211 | X65: =SUM(X54:X56) -> 67284.704 | Y65: =SUM(Y54:Y56) -> 68302.89 | Z65: =SUM(Z54:Z56) -> 68997.127 | AA65: =SUM(AA54:AA56) -> 75648.963 | AB65: =SUM(AB54:AB56) -> 65293.128 | AC65: =SUM(AC54:AC56) -> 80241.398 | ... AK65: =SUM(AK54:AK56) -> 129452.39 | AL65: =IF(AL56="","",SUM(AL54:AL56)) -> 127046.77 | AM65: =IF(AL65="","",(AL65-AK65)/AK65) -> -0.018583079 | AO65: =(V65/B65)*10 -> 1.9239921 | AP65: =(W65/C65)*10 -> 1.7497339 | AQ65: =(X65/D65)*10 -> 1.8123228 | AR65: =(Y65/E65)*10 -> 2.0013737 | AS65: =(Z65/F65)*10 -> 2.0845922 | AT65: =(AA65/G65)*10 -> 2.1467421 | AU65: =(AB65/H65)*10 -> 2.4071209 | AV65: =(AC65/I65)*10 -> 2.3735856 | ... BD65: =(AK65/Q65)*10 -> 2.8290405 | BE65: =IF(AL65="","",(AL65/R65)*10) -> 2.6539872 | BF65: =IF(BE65="","",(BE65-BD65)/BD65) -> -0.061877246
A66: 3º Trim | B66: =SUM(B57:B59) -> 362917.66 | C66: =SUM(C57:C59) -> 410216.99 | D66: =SUM(D57:D59) -> 402664.02 | E66: =SUM(E57:E59) -> 374827.9 | F66: =SUM(F57:F59) -> 411823.4 | G66: =SUM(G57:G59) -> 392287.5 | H66: =SUM(H57:H59) -> 324909.65 | I66: =SUM(I57:I59) -> 335894.46 | ... Q66: =SUM(Q57:Q59) -> 547717.26 | R66: =IF(R59="","",SUM(R57:R59)) | S66: =IF(R66="","",(R66-Q66)/Q66) | U66: 3º Trim | V66: =SUM(V57:V59) -> 66706.64 | W66: =SUM(W57:W59) -> 75687.896 | X66: =SUM(X57:X59) -> 78884.929 | Y66: =SUM(Y57:Y59) -> 90834.867 | Z66: =SUM(Z57:Z59) -> 90275.416 | AA66: =SUM(AA57:AA59) -> 87840.509 | AB66: =SUM(AB57:AB59) -> 78765.768 | AC66: =SUM(AC57:AC59) -> 86377.072 | ... AK66: =SUM(AK57:AK59) -> 148270.67 | AL66: =IF(AL59="","",SUM(AL57:AL59)) | AM66: =IF(AL66="","",(AL66-AK66)/AK66) | AO66: =(V66/B66)*10 -> 1.8380654 | AP66: =(W66/C66)*10 -> 1.8450698 | AQ66: =(X66/D66)*10 -> 1.9590757 | AR66: =(Y66/E66)*10 -> 2.4233753 | AS66: =(Z66/F66)*10 -> 2.1920905 | AT66: =(AA66/G66)*10 -> 2.2391871 | AU66: =(AB66/H66)*10 -> 2.424236 | AV66: =(AC66/I66)*10 -> 2.5715539 | ... BD66: =(AK66/Q66)*10 -> 2.7070658 | BE66: =IF(AL66="","",(AL66/R66)*10) | BF66: =IF(BE66="","",(BE66-BD66)/BD66)
A67: 4º Trim | B67: =SUM(B60:B62) -> 301452.82 | C67: =SUM(C60:C62) -> 388105.87 | D67: =IF(D62="","",SUM(D60:D62)) -> 380957.64 | E67: =IF(E62="","",SUM(E60:E62)) -> 378869.04 | F67: =IF(F62="","",SUM(F60:F62)) -> 396865.16 | G67: =IF(G62="","",SUM(G60:G62)) -> 336903.74 | H67: =IF(H62="","",SUM(H60:H62)) -> 311374.31 | I67: =IF(I62="","",SUM(I60:I62)) -> 337617.05 | J67: =IF(J62="","",SUM(J60:J62)) -> 314897.44 | K67: =IF(K62="","",SUM(K60:K62)) -> 372869.67 | ... R67: =IF(R62="","",SUM(R60:R62)) | S67: =IF(R67="","",(R67-Q67)/Q67) | U67: 4º Trim | V67: =SUM(V60:V62) -> 63838.016 | W67: =SUM(W60:W62) -> 79380.66 | X67: =IF(X62="","",SUM(X60:X62)) -> 89950.457 | Y67: =IF(Y62="","",SUM(Y60:Y62)) -> 90706.435 | Z67: =IF(Z62="","",SUM(Z60:Z62)) -> 98610.479 | AA67: =IF(AA62="","",SUM(AA60:AA62)) -> 84566.344 | AB67: =IF(AB62="","",SUM(AB60:AB62)) -> 90045.485 | AC67: =IF(AC62="","",SUM(AC60:AC62)) -> 94962.186 | AD67: =IF(AD62="","",SUM(AD60:AD62)) -> 95891.539 | AE67: =IF(AE62="","",SUM(AE60:AE62)) -> 103388.92 | ... AL67: =IF(AL62="","",SUM(AL60:AL62)) | AM67: =IF(AL67="","",(AL67-AK67)/AK67) | AO67: =(V67/B67)*10 -> 2.1176785 | AP67: =(W67/C67)*10 -> 2.0453352 | AQ67: =IF(X62="","",(X67/D67)*10) -> 2.3611669 | AR67: =IF(Y62="","",(Y67/E67)*10) -> 2.3941369 | AS67: =IF(Z62="","",(Z67/F67)*10) -> 2.4847351 | AT67: =IF(AA62="","",(AA67/G67)*10) -> 2.510104 | AU67: =IF(AB62="","",(AB67/H67)*10) -> 2.8918726 | AV67: =IF(AC62="","",(AC67/I67)*10) -> 2.8127189 | AW67: =IF(AD62="","",(AD67/J67)*10) -> 3.0451673 | AX67: =IF(AE62="","",(AE67/K67)*10) -> 2.7727899 | ... BD67: =IF(AK62="","",(AK67/Q67)*10) -> 3.165448 | BE67: =IF(AL67="","",(AL67/R67)*10) | BF67: =IF(BE67="","",(BE67-BD67)/BD67)

Sheet 3
A1: Evolução Mensal e Trimestral das Importações
S3: HL | AM3: 1000 | BF3: € / Litro
A4: Intra + Extra UE | B4: Importação | S4: D 2026/2025 | U4: Intra + Extra UE | V4: Importação | AM4: D 2026/2025 | AO4: Importação | BF4: D 2026/2025
B5: 2010 | C5: 2011 | D5: 2012 | E5: 2013 | F5: 2014 | G5: 2015 | H5: 2016 | I5: 2017 | J5: 2018 | K5: 2019 | L5: 2020 | M5: 2021 | N5: 2022 | O5: 2023 | P5: 2024 | Q5: 2025 | R5: 2026 | V5: 2010 | W5: 2011 | X5: 2012 | Y5: 2013 | Z5: 2014 | AA5: 2015 | AB5: 2016 | AC5: 2017 | AD5: 2018 | AE5: 2019 | AF5: 2020 | AG5: 2021 | AH5: 2022 | AI5: 2023 | AJ5: 2024 | AK5: 2025 | AL5: 2026 | AO5: 2010 | AP5: 2011 | AQ5: 2012 | AR5: 2013 | AS5: 2014 | AT5: 2015 | AU5: 2016 | AV5: 2017 | AW5: 2018 | AX5: 2019 | AY5: 2020 | AZ5: 2021 | BA5: 2022 | BB5: 2023 | BC5: 2024 | BD5: 2025 | BE5: 2026 | BH5: 2013 | BI5: 2014
A7: janeiro | B7: 112208.21 | C7: 125412.47 | D7: 111648.51 | E7: 101032.49 | F7: 181499.09 | G7: 165515.39 | H7: 127441.33 | I7: 165564.64 | J7: 108022.51 | K7: 201133.06 | L7: 231418.47 | M7: 214311.47 | N7: 189490.68 | O7: 210798.97 | P7: 144430.94 | Q7: 143184.46 | R7: 147090.98 | S7: =IF(R7="","",(R7-Q7)/Q7) -> 0.027283128 | U7: janeiro | V7: 5046.812 | W7: 5419.878 | X7: 5376.692 | Y7: 8185.97 | Z7: 9253.711 | AA7: 8018.458 | AB7: 7549.526 | AC7: 9256.76 | AD7: 8429.653 | AE7: 12162.243 | AF7: 14395.187 | AG7: 11537.556 | AH7: 12256.629 | AI7: 14702.6 | AJ7: 10034.434 | AK7: 11749.783 | AL7: 11587.227 | AM7: =IF(AL7="","",(AL7-AK7)/AK7) -> -0.013834809 | AO7: =(V7/B7)*10 -> 0.44977208 | AP7: =(W7/C7)*10 -> 0.4321642 | AQ7: =(X7/D7)*10 -> 0.48157311 | AR7: =(Y7/E7)*10 -> 0.81023144 | AS7: =(Z7/F7)*10 -> 0.50984889 | AT7: =(AA7/G7)*10 -> 0.48445392 | AU7: =(AB7/H7)*10 -> 0.59239228 | AV7: =(AC7/I7)*10 -> 0.55910248 | ... BE7: =(AL7/R7)*10 -> 0.78775918 | BF7: =IF(BE7="","",(BE7-BD7)/BD7) -> -0.040025905
A8: fevereiro | B8: 103876.34 | C8: 109703.68 | D8: 90718.43 | E8: 91462.49 | F8: 178750.52 | G8: 189327.79 | H8: 161032.97 | I8: 180460.42 | J8: 101175.85 | K8: 239012.21 | L8: 200385.87 | M8: 256727.7 | N8: 265654.02 | O8: 255504.86 | P8: 163866.37 | Q8: 157871.74 | R8: 154981.71 | S8: =IF(R8="","",(R8-Q8)/Q8) -> -0.01830619 | U8: fevereiro | V8: 4875.4 | W8: 5047.22 | X8: 4979.249 | Y8: 7645.078 | Z8: 9124.948 | AA8: 9271.596 | AB8: 8398.791 | AC8: 10079.532 | AD8: 9460.135 | AE8: 13827.452 | AF8: 13178.782 | AG8: 12834.916 | AH8: 17027.524 | AI8: 16408.732 | AJ8: 11476.99 | AK8: 11587.445 | AL8: 12691.486 | AM8: =IF(AL8="","",(AL8-AK8)/AK8) -> 0.095279071 | AO8: =(V8/B8)*10 -> 0.46934653 | AP8: =(W8/C8)*10 -> 0.46007755 | AQ8: =(X8/D8)*10 -> 0.54886852 | AR8: =(Y8/E8)*10 -> 0.83587031 | AS8: =(Z8/F8)*10 -> 0.51048512 | AT8: =(AA8/G8)*10 -> 0.48971131 | AU8: =(AB8/H8)*10 -> 0.52155723 | AV8: =(AC8/I8)*10 -> 0.5585453 | ... BE8: =(AL8/R8)*10 -> 0.81890218 | BF8: =IF(BE8="","",(BE8-BD8)/BD8) -> 0.11570335
A9: março | B9: 167912.45 | C9: 125645.37 | D9: 135794.11 | E9: 78438.49 | F9: 159258.74 | G9: 179781.26 | H9: 158298.96 | I9: 184761.43 | J9: 131254.86 | K9: 209750.07 | L9: 209116.09 | M9: 346835.91 | N9: 197485.25 | O9: 307519.83 | P9: 152411.76 | Q9: 141321.04 | R9: 146624.05 | S9: =IF(R9="","",(R9-Q9)/Q9) -> 0.037524561 | U9: março | V9: 7464.392 | W9: 5720.51 | X9: 6851.938 | Y9: 7142.321 | Z9: 8172.495 | AA9: 8953.706 | AB9: 8549.025 | AC9: 9978.13 | AD9: 10309.046 | AE9: 11853.176 | AF9: 12973.125 | AG9: 17902.007 | AH9: 13839.738 | AI9: 20309.122 | AJ9: 12319.741 | AK9: 12363.313 | AL9: 13653.688 | AM9: =IF(AL9="","",(AL9-AK9)/AK9) -> 0.1043713 | AO9: =(V9/B9)*10 -> 0.44454071 | AP9: =(W9/C9)*10 -> 0.45529016 | AQ9: =(X9/D9)*10 -> 0.50458286 | AR9: =(Y9/E9)*10 -> 0.9105633 | AS9: =(Z9/F9)*10 -> 0.51315834 | AT9: =(AA9/G9)*10 -> 0.49803333 | AU9: =(AB9/H9)*10 -> 0.54005566 | AV9: =(AC9/I9)*10 -> 0.54005482 | ... BE9: =(AL9/R9)*10 -> 0.93120385 | BF9: =IF(BE9="","",(BE9-BD9)/BD9) -> 0.064429063
A10: abril | B10: 170409.85 | C10: 125525.65 | D10: 131142.06 | E10: 111314.48 | F10: 139455.4 | G10: 172871.54 | H10: 120913.15 | I10: 195875.86 | J10: 150373.06 | K10: 244932.88 | L10: 233003.39 | M10: 238556.85 | N10: 208933.38 | O10: 266354.15 | P10: 162890.09 | Q10: 153077.32 | R10: 147205.44 | S10: =IF(R10="","",(R10-Q10)/Q10) -> -0.038358916 | U10: abril | V10: 7083.52 | W10: 5734.776 | X10: 6986.215 | Y10: 8949.286 | Z10: 7735.429 | AA10: 8580.402 | AB10: 6742.456 | AC10: 10425.911 | AD10: 11410.679 | AE10: 13024.389 | AF10: 14120.863 | AG10: 13171.961 | AH10: 15339.621 | AI10: 17054.146 | AJ10: 12259.46 | AK10: 12418.106 | AL10: 13102.222 | AM10: =IF(AL10="","",(AL10-AK10)/AK10) -> 0.055090205 | AO10: =(V10/B10)*10 -> 0.4156755 | AP10: =(W10/C10)*10 -> 0.45686089 | AQ10: =(X10/D10)*10 -> 0.53272116 | AR10: =(Y10/E10)*10 -> 0.80396423 | AS10: =(Z10/F10)*10 -> 0.55468838 | AT10: =(AA10/G10)*10 -> 0.49634555 | AU10: =(AB10/H10)*10 -> 0.55762802 | AV10: =(AC10/I10)*10 -> 0.53227136 | ... BE10: =(AL10/R10)*10 -> 0.89006371 | BF10: =IF(BE10="","",(BE10-BD10)/BD10) -> 0.097176714
A11: maio | B11: 105742.87 | C11: 146772.36 | D11: 106191.61 | E11: 156740.31 | F11: 208322.55 | G11: 182102.75 | H11: 156318.05 | I11: 208364.82 | J11: 123404.02 | K11: 228431.58 | L11: 207366.91 | M11: 271945.74 | N11: 298254.8 | O11: 272003.79 | P11: 165110.75 | Q11: 152457.49 | R11: 125905.58 | S11: =IF(R11="","",(R11-Q11)/Q11) -> -0.17415943 | U11: maio | V11: 5269.908 | W11: 6791.511 | X11: 6331.175 | Y11: 12356.189 | Z11: 10013.188 | AA11: 9709.343 | AB11: 9074.424 | AC11: 11193.306 | AD11: 12194.198 | AE11: 12392.851 | AF11: 10554.121 | AG11: 14483.972 | AH11: 20503.535 | AI11: 18469.306 | AJ11: 12356.936 | AK11: 13352.638 | AL11: 11319.396 | AM11: =IF(AL11="","",(AL11-AK11)/AK11) -> -0.15227268 | AO11: =(V11/B11)*10 -> 0.49837006 | AP11: =(W11/C11)*10 -> 0.46272411 | AQ11: =(X11/D11)*10 -> 0.59620294 | AR11: =(Y11/E11)*10 -> 0.78832235 | AS11: =(Z11/F11)*10 -> 0.4806579 | AT11: =(AA11/G11)*10 -> 0.53317937 | AU11: =(AB11/H11)*10 -> 0.58051031 | AV11: =(AC11/I11)*10 -> 0.5371975 | ... BE11: =(AL11/R11)*10 -> 0.89903847 | BF11: =IF(BE11="","",(BE11-BD11)/BD11) -> 0.026502393
A12: junho | B12: 173043.08 | C12: 88557.57 | D12: 121066.39 | E12: 142381.43 | F12: 163673.45 | G12: 227727.18 | H12: 161332.92 | I12: 247351.11 | J12: 159573.16 | K12: 248865.21 | L12: 200988.74 | M12: 276889.7 | N12: 225840.25 | O12: 318138.08 | P12: 158638.54 | Q12: 129300.67 | R12: 119078.77 | S12: =IF(R12="","",(R12-Q12)/Q12) -> -0.079055275 | U12: junho | V12: 8468.746 | W12: 4467.674 | X12: 6989.148 | Y12: 11275.522 | Z12: 8874.612 | AA12: 11770.861 | AB12: 9513.233 | AC12: 14562.612 | AD12: 13054.882 | AE12: 13834.111 | AF12: 12299.128 | AG12: 14683.354 | AH12: 14797.464 | AI12: 19672.213 | AJ12: 13628.671 | AK12: 11331.96 | AL12: 12016.246 | AM12: =IF(AL12="","",(AL12-AK12)/AK12) -> 0.060385494 | AO12: =(V12/B12)*10 -> 0.48940102 | AP12: =(W12/C12)*10 -> 0.50449374 | AQ12: =(X12/D12)*10 -> 0.57729879 | AR12: =(Y12/E12)*10 -> 0.79192364 | AS12: =(Z12/F12)*10 -> 0.54221451 | AT12: =(AA12/G12)*10 -> 0.51688433 | AU12: =(AB12/H12)*10 -> 0.58966471 | AV12: =(AC12/I12)*10 -> 0.58874254 | ... BE12: =(AL12/R12)*10 -> 1.0091006 | BF12: =IF(BE12="","",(BE12-BD12)/BD12) -> 0.15141057
A13: julho | B13: 153878.58 | C13: 146271.1 | D13: 129654.33 | E13: 179800.26 | F13: 269493.01 | G13: 237770.31 | H13: 147807.46 | I13: 207312.04 | J13: 176243.62 | K13: 278687.17 | L13: 285820.33 | M13: 278908.12 | N13: 236057.13 | O13: 293975.4 | P13: 162936.16 | Q13: 221857.65 | R13: 183677.05 | S13: =IF(R13="","",(R13-Q13)/Q13) -> -0.17209503 | U13: julho | V13: 8304.439 | W13: 7350.922 | X13: 8610.477 | Y13: 14121.92 | Z13: 13262.654 | AA13: 12363.967 | AB13: 8473.603 | AC13: 11749.729 | AD13: 14285.174 | AE13: 14287.105 | AF13: 16611.901 | AG13: 15670.152 | AH13: 16724.077 | AI13: 19188.491 | AJ13: 13356.521 | AK13: 19778.193 | AL13: 16942.16 | AM13: =IF(AL13="","",(AL13-AK13)/AK13) -> -0.14339192 | AO13: =(V13/B13)*10 -> 0.53967479 | AP13: =(W13/C13)*10 -> 0.50255464 | AQ13: =(X13/D13)*10 -> 0.66411025 | AR13: =(Y13/E13)*10 -> 0.78542267 | AS13: =(Z13/F13)*10 -> 0.49213351 | AT13: =(AA13/G13)*10 -> 0.51999625 | AU13: =(AB13/H13)*10 -> 0.57328656 | AV13: =(AC13/I13)*10 -> 0.56676539 | ... BE13: =(AL13/R13)*10 -> 0.92238851 | BF13: =IF(BE13="","",(BE13-BD13)/BD13) -> 0.034669581
A14: agosto | B14: 172907.81 | C14: 197865.86 | D14: 108818.48 | E14: 128700.31 | F14: 196874.73 | G14: 236496.19 | H14: 161286.67 | I14: 171590.04 | J14: 180155.07 | K14: 296232.94 | L14: 286301.55 | M14: 219196.89 | N14: 242636.12 | O14: 251267.45 | P14: 160873.86 | Q14: 113872.28 | S14: =IF(R14="","",(R14-Q14)/Q14) | U14: agosto | V14: 7854.738 | W14: 8326.222 | X14: 7079.451 | Y14: 9224.363 | Z14: 8588.844 | AA14: 10903.497 | AB14: 9835.298 | AC14: 10047.06 | AD14: 13857.926 | AE14: 14770.592 | AF14: 15842.408 | AG14: 12842.719 | AH14: 16614.627 | AI14: 17015.244 | AJ14: 12453.349 | AK14: 11748.458 | AM14: =IF(AL14="","",(AL14-AK14)/AK14) | AO14: =(V14/B14)*10 -> 0.45427318 | AP14: =(W14/C14)*10 -> 0.42080134 | AQ14: =(X14/D14)*10 -> 0.65057433 | AR14: =(Y14/E14)*10 -> 0.716732 | AS14: =(Z14/F14)*10 -> 0.43625934 | AT14: =(AA14/G14)*10 -> 0.46104324 | AU14: =(AB14/H14)*10 -> 0.60980229 | AV14: =(AC14/I14)*10 -> 0.58552699 | ... BD14: =(AK14/Q14)*10 -> 1.0317224 | BF14: =IF(BE14="","",(BE14-BD14)/BD14)
A15: setembro | B15: 184668.65 | C15: 144340.82 | D15: 80105.52 | E15: 122946.3 | F15: 216355.29 | G15: 152646.59 | H15: 149729.01 | I15: 137518.24 | J15: 158081.72 | K15: 248455.11 | L15: 193947.61 | M15: 185986.1 | N15: 274125.1 | O15: 171167.99 | P15: 160588.73 | Q15: 135834.81 | S15: =IF(R15="","",(R15-Q15)/Q15) | U15: setembro | V15: 8976.539 | W15: 8231.497 | X15: 7380.053 | Y15: 9158.015 | Z15: 11920.681 | AA15: 8611.905 | AB15: 9047.37 | AC15: 10872.128 | AD15: 13645.628 | AE15: 13484.313 | AF15: 12902.21 | AG15: 12615.415 | AH15: 19603.92 | AI15: 13282.67 | AJ15: 13379.387 | AK15: 13380.134 | AM15: =IF(AL15="","",(AL15-AK15)/AK15) | AO15: =(V15/B15)*10 -> 0.48608895 | AP15: =(W15/C15)*10 -> 0.57028199 | AQ15: =(X15/D15)*10 -> 0.92129144 | AR15: =(Y15/E15)*10 -> 0.74487927 | AS15: =(Z15/F15)*10 -> 0.5509771 | AT15: =(AA15/G15)*10 -> 0.56417277 | AU15: =(AB15/H15)*10 -> 0.60424964 | AV15: =(AC15/I15)*10 -> 0.79059534 | ... BD15: =(AK15/Q15)*10 -> 0.98502983 | BF15: =IF(BE15="","",(BE15-BD15)/BD15)
A16: outubro | B16: 175049.22 | C16: 101082.92 | D16: 69030.89 | E16: 154535.31 | F16: 191998.53 | G16: 123638.51 | H16: 139323.21 | I16: 159510.35 | J16: 217871.62 | K16: 280257.64 | L16: 221165.12 | M16: 222116.84 | N16: 259394.99 | O16: 168628.74 | P16: 145909.32 | Q16: 149500.89 | S16: =IF(R16="","",(R16-Q16)/Q16) | U16: outubro | V16: 8917.157 | W16: 6317.984 | X16: 6844.755 | Y16: 12425.312 | Z16: 11852.689 | AA16: 8900.436 | AB16: 10677.083 | AC16: 13098.086 | AD16: 16740.395 | AE16: 17459.429 | AF16: 14265.806 | AG16: 13945.046 | AH16: 17808.54 | AI16: 12604.263 | AJ16: 12015.866 | AK16: 15159.848 | AM16: =IF(AL16="","",(AL16-AK16)/AK16) | AO16: =(V16/B16)*10 -> 0.50940855 | AP16: =(W16/C16)*10 -> 0.62502983 | AQ16: =(X16/D16)*10 -> 0.99154958 | AR16: =(Y16/E16)*10 -> 0.80404355 | AS16: =(Z16/F16)*10 -> 0.61733228 | AT16: =(AA16/G16)*10 -> 0.71987571 | AU16: =(AB16/H16)*10 -> 0.7663535 | AV16: =(AC16/I16)*10 -> 0.82114333 | ... BD16: =(AK16/Q16)*10 -> 1.0140306 | BF16: =IF(BE16="","",(BE16-BD16)/BD16)
A17: novembro | B17: 143652.41 | C17: 108321.03 | D17: 126056.69 | E17: 102105.75 | F17: 191150.96 | G17: 143866.03 | H17: 151239.86 | I17: 135902.22 | J17: 269362.65 | K17: 228067.11 | L17: 226213.38 | M17: 214361.35 | N17: 276512.3 | O17: 185303.78 | P17: 187411.53 | Q17: 192198.36 | S17: =IF(R17="","",(R17-Q17)/Q17) | U17: novembro | V17: 8623.664 | W17: 7729.324 | X17: 10518.219 | Y17: 7756.178 | Z17: 12715.098 | AA17: 10229.967 | AB17: 10778.717 | AC17: 11138.637 | AD17: 17757.596 | AE17: 15905.198 | AF17: 14901.102 | AG17: 15769.84 | AH17: 21137.471 | AI17: 15377.04 | AJ17: 16310.606 | AK17: 17136.769 | AM17: =IF(AL17="","",(AL17-AK17)/AK17) | AO17: =(V17/B17)*10 -> 0.60031461 | AP17: =(W17/C17)*10 -> 0.7135571 | AQ17: =IF(X17="","",(X17/D17)*10) -> 0.83440387 | AR17: =IF(Y17="","",(Y17/E17)*10) -> 0.75962206 | AS17: =IF(Z17="","",(Z17/F17)*10) -> 0.6651862 | AT17: =IF(AA17="","",(AA17/G17)*10) -> 0.71107592 | AU17: =(AB17/H17)*10 -> 0.71269023 | AV17: =(AC17/I17)*10 -> 0.8196067 | AW17: =(AD17/J17)*10 -> 0.65924493 | AX17: =(AE17/K17)*10 -> 0.69739113 | AY17: =(AF17/L17)*10 -> 0.65871886 | AZ17: =(AG17/M17)*10 -> 0.7356662 | BA17: =(AH17/N17)*10 -> 0.76443149 | BB17: =(AI17/O17)*10 -> 0.82982873 | ... BD17: =(AK17/Q17)*10 -> 0.8916189 | BF17: =IF(BE17="","",(BE17-BD17)/BD17)
A18: dezembro | B18: 152913.45 | C18: 216589.6 | D18: 85917.55 | E18: 230072.32 | F18: 233366.15 | G18: 149347.9 | H18: 169726.71 | I18: 161609.72 | J18: 201683.16 | K18: 231436.16 | L18: 249510.86 | M18: 245114.83 | N18: 297038.52 | O18: 192094.97 | P18: 178113.22 | Q18: 172320.06 | S18: =IF(R18="","",(R18-Q18)/Q18) | U18: dezembro | V18: 8608.05 | W18: 10777.051 | X18: 8423.928 | Y18: 14158.847 | Z18: 13639.642 | AA18: 9440.771 | AB18: 11551.01 | AC18: 14804.035 | AD18: 13581.739 | AE18: 16207.479 | AF18: 14210.08 | AG18: 17409.101 | AH18: 19690.529 | AI18: 13497.762 | AJ18: 13990.055 | AK18: 15000.426 | AM18: =IF(AL18="","",(AL18-AK18)/AK18) | AO18: =(V18/B18)*10 -> 0.56293609 | AP18: =(W18/C18)*10 -> 0.49757934 | AQ18: =IF(X18="","",(X18/D18)*10) -> 0.98046651 | AR18: =IF(Y18="","",(Y18/E18)*10) -> 0.61540854 | AS18: =IF(Z18="","",(Z18/F18)*10) -> 0.58447388 | AT18: =IF(AA18="","",(AA18/G18)*10) -> 0.63213283 | AU18: =(AB18/H18)*10 -> 0.68056525 | AV18: =(AC18/I18)*10 -> 0.91603618 | AW18: =(AD18/J18)*10 -> 0.67341959 | AX18: =(AE18/K18)*10 -> 0.7003002 | AY18: =(AF18/L18)*10 -> 0.5695175 | AZ18: =(AG18/M18)*10 -> 0.71024266 | BA18: =(AH18/N18)*10 -> 0.6628948 | BB18: =(AI18/O18)*10 -> 0.70266088 | ... BD18: =(AK18/Q18)*10 -> 0.87049796 | BF18: =IF(BE18="","",(BE18-BD18)/BD18)
A19: ='2'!A19 -> jan-jul | B19: =SUM(B7:B13) -> 987071.38 | C19: =SUM(C7:C13) -> 867888.2 | D19: =SUM(D7:D13) -> 826215.44 | E19: =SUM(E7:E13) -> 861169.95 | F19: =SUM(F7:F13) -> 1300452.8 | G19: =SUM(G7:G13) -> 1355096.2 | H19: =SUM(H7:H13) -> 1033144.8 | I19: =SUM(I7:I13) -> 1389690.3 | ... R19: =SUM(R7:R13) -> 1024563.6 | S19: =IF(R19="","",(R19-Q19)/Q19) -> -0.067790737 | V19: =SUM(V7:V13) -> 46513.217 | W19: =SUM(W7:W13) -> 40532.491 | X19: =SUM(X7:X13) -> 46124.894 | Y19: =SUM(Y7:Y13) -> 69676.286 | Z19: =SUM(Z7:Z13) -> 66437.037 | AA19: =SUM(AA7:AA13) -> 68668.333 | AB19: =SUM(AB7:AB13) -> 58301.058 | AC19: =SUM(AC7:AC13) -> 77245.98 | ... AL19: =SUM(AL7:AL13) -> 91312.425 | AM19: =SUM(AM7:AM11) -> 0.088633081 | AO19: =(V19/B19)*10 -> 0.47122445 | AP19: =(W19/C19)*10 -> 0.46702434 | AQ19: =IF(X19="","",(X19/D19)*10) -> 0.55826715 | AR19: =IF(Y19="","",(Y19/E19)*10) -> 0.80908868 | AS19: =IF(Z19="","",(Z19/F19)*10) -> 0.5108762 | AT19: =IF(AA19="","",(AA19/G19)*10) -> 0.50674138 | AU19: =(AB19/H19)*10 -> 0.56430672 | AV19: =(AC19/I19)*10 -> 0.55585031 | AW19: =(AD19/J19)*10 -> 0.833051 | AX19: =(AE19/K19)*10 -> 0.55355375 | AY19: =(AF19/L19)*10 -> 0.60030048 | AZ19: =(AG19/M19)*10 -> 0.53224298 | BA19: =(AH19/N19)*10 -> 0.68130685 | BB19: =(AI19/O19)*10 -> 0.65376985 | ... BE19: =(AL19/R19)*10 -> 0.89123239 | BF19: =IF(BE19="","",(BE19-BD19)/BD19) -> 0.058016743
A20: 1ª Trim | B20: =SUM(B7:B9) -> 383997 | C20: =SUM(C7:C9) -> 360761.52 | D20: =SUM(D7:D9) -> 338161.05 | E20: =SUM(E7:E9) -> 270933.47 | F20: =SUM(F7:F9) -> 519508.35 | G20: =SUM(G7:G9) -> 534624.44 | H20: =SUM(H7:H9) -> 446773.26 | I20: =SUM(I7:I9) -> 530786.49 | ... Q20: =SUM(Q7:Q9) -> 442377.24 | R20: =IF(R9="","",SUM(R7:R9)) -> 448696.74 | S20: =IF(R20="","",(R20-Q20)/Q20) -> 0.014285319 | U20: 1ª Trim | V20: =SUM(V7:V9) -> 17386.604 | W20: =SUM(W7:W9) -> 16187.608 | X20: =SUM(X7:X9) -> 17207.879 | Y20: =SUM(Y7:Y9) -> 22973.369 | Z20: =SUM(Z7:Z9) -> 26551.154 | AA20: =SUM(AA7:AA9) -> 26243.76 | AB20: =SUM(AB7:AB9) -> 24497.342 | AC20: =SUM(AC7:AC9) -> 29314.422 | ... AK20: =SUM(AK7:AK9) -> 35700.541 | AL20: =IF(AL9="","",SUM(AL7:AL9)) -> 37932.401 | AM20: =IF(AL20="","",(AL20-AK20)/AK20) -> 0.062516139 | AO20: =(V20/B20)*10 -> 0.45277968 | AP20: =(W20/C20)*10 -> 0.44870661 | AQ20: =(X20/D20)*10 -> 0.50886638 | AR20: =(Y20/E20)*10 -> 0.84793396 | AS20: =(Z20/F20)*10 -> 0.51108233 | AT20: =(AA20/G20)*10 -> 0.49088216 | AU20: =(AB20/H20)*10 -> 0.5483171 | AV20: =(AC20/I20)*10 -> 0.55228275 | ... BE20: =(AL20/R20)*10 -> 0.84539061 | BF20: =IF(BE20="","",(BE20-BD20)/BD20) -> 0.047551532
A21: 2º Trim | B21: =SUM(B10:B12) -> 449195.8 | C21: =SUM(C10:C12) -> 360855.58 | D21: =SUM(D10:D12) -> 358400.06 | E21: =SUM(E10:E12) -> 410436.22 | F21: =SUM(F10:F12) -> 511451.4 | G21: =SUM(G10:G12) -> 582701.47 | H21: =SUM(H10:H12) -> 438564.12 | I21: =SUM(I10:I12) -> 651591.79 | ... Q21: =SUM(Q10:Q12) -> 434835.48 | R21: =IF(R12="","",SUM(R10:R12)) -> 392189.79 | S21: =IF(R21="","",(R21-Q21)/Q21) -> -0.098073161 | U21: 2º Trim | V21: =SUM(V10:V12) -> 20822.174 | W21: =SUM(W10:W12) -> 16993.961 | X21: =SUM(X10:X12) -> 20306.538 | Y21: =SUM(Y10:Y12) -> 32580.997 | Z21: =SUM(Z10:Z12) -> 26623.229 | AA21: =SUM(AA10:AA12) -> 30060.606 | AB21: =SUM(AB10:AB12) -> 25330.113 | AC21: =SUM(AC10:AC12) -> 36181.829 | ... AK21: =SUM(AK10:AK12) -> 37102.704 | AL21: =IF(AL12="","",SUM(AL10:AL12)) -> 36437.864 | AM21: =IF(AL21="","",(AL21-AK21)/AK21) -> -0.01791891 | AO21: =(V21/B21)*10 -> 0.46354338 | AP21: =(W21/C21)*10 -> 0.47093524 | AQ21: =(X21/D21)*10 -> 0.56658858 | AR21: =(Y21/E21)*10 -> 0.79381388 | AS21: =(Z21/F21)*10 -> 0.52054269 | AT21: =(AA21/G21)*10 -> 0.51588348 | AU21: =(AB21/H21)*10 -> 0.5775692 | AV21: =(AC21/I21)*10 -> 0.55528368 | ... BE21: =(AL21/R21)*10 -> 0.92908752 | BF21: =IF(BE21="","",(BE21-BD21)/BD21) -> 0.088870015
A22: 3º Trim | B22: =SUM(B13:B15) -> 511455.04 | C22: =SUM(C13:C15) -> 488477.78 | D22: =SUM(D13:D15) -> 318578.33 | E22: =SUM(E13:E15) -> 431446.87 | F22: =SUM(F13:F15) -> 682723.03 | G22: =SUM(G13:G15) -> 626913.09 | H22: =SUM(H13:H15) -> 458823.14 | I22: =SUM(I13:I15) -> 516420.32 | ... Q22: =SUM(Q13:Q15) -> 471564.74 | R22: =IF(R15="","",SUM(R13:R15)) | S22: =IF(R22="","",(R22-Q22)/Q22) | U22: 3º Trim | V22: =SUM(V13:V15) -> 25135.716 | W22: =SUM(W13:W15) -> 23908.641 | X22: =SUM(X13:X15) -> 23069.981 | Y22: =SUM(Y13:Y15) -> 32504.298 | Z22: =SUM(Z13:Z15) -> 33772.179 | AA22: =SUM(AA13:AA15) -> 31879.369 | AB22: =SUM(AB13:AB15) -> 27356.271 | AC22: =SUM(AC13:AC15) -> 32668.917 | ... AK22: =SUM(AK13:AK15) -> 44906.785 | AL22: =IF(AL15="","",SUM(AL13:AL15)) | AM22: =IF(AL22="","",(AL22-AK22)/AK22) | AO22: =(V22/B22)*10 -> 0.49145505 | AP22: =(W22/C22)*10 -> 0.48945197 | AQ22: =(X22/D22)*10 -> 0.72415412 | AR22: =(Y22/E22)*10 -> 0.75337893 | AS22: =(Z22/F22)*10 -> 0.49466881 | AT22: =(AA22/G22)*10 -> 0.50851337 | AU22: =(AB22/H22)*10 -> 0.59622693 | AV22: =(AC22/I22)*10 -> 0.63260324 | ... BD22: =(AK22/Q22)*10 -> 0.9522931 | BF22: =IF(BE22="","",(BE22-BD22)/BD22)
A23: 4º Trim | B23: =SUM(B16:B18) -> 471615.08 | C23: =SUM(C16:C18) -> 425993.55 | D23: =SUM(D16:D18) -> 281005.13 | E23: =SUM(E16:E18) -> 486713.38 | F23: =SUM(F16:F18) -> 616515.64 | G23: =SUM(G16:G18) -> 416852.44 | H23: =SUM(H16:H18) -> 460289.78 | I23: =SUM(I16:I18) -> 457022.29 | ... Q23: =SUM(Q16:Q18) -> 514019.31 | R23: =IF(R18="","",SUM(R16:R18)) | S23: =IF(R23="","",(R23-Q23)/Q23) | U23: 4º Trim | V23: =SUM(V16:V18) -> 26148.871 | W23: =SUM(W16:W18) -> 24824.359 | X23: =SUM(X16:X18) -> 25786.902 | Y23: =SUM(Y16:Y18) -> 34340.337 | Z23: =SUM(Z16:Z18) -> 38207.429 | AA23: =SUM(AA16:AA18) -> 28571.174 | AB23: =SUM(AB16:AB18) -> 33006.81 | AC23: =SUM(AC16:AC18) -> 39040.758 | ... AK23: =SUM(AK16:AK18) -> 47297.043 | AL23: =IF(AL18="","",SUM(AL16:AL18)) | AM23: =IF(AL23="","",(AL23-AK23)/AK23) | AO23: =(V23/B23)*10 -> 0.55445367 | AP23: =(W23/C23)*10 -> 0.58274026 | AQ23: =IF(AQ18="","",(X23/D23)*10) -> 0.91766659 | AR23: =IF(AR18="","",(Y23/E23)*10) -> 0.70555564 | AS23: =IF(AS18="","",(Z23/F23)*10) -> 0.61973171 | AT23: =IF(AT18="","",(AA23/G23)*10) -> 0.68540259 | AU23: =IF(AU18="","",(AB23/H23)*10) -> 0.71708761 | AV23: =IF(AV18="","",(AC23/I23)*10) -> 0.85424188 | AW23: =IF(AW18="","",(AD23/J23)*10) -> 0.69790265 | AX23: =IF(AX18="","",(AE23/K23)*10) -> 0.67010983 | ... BD23: =IF(BD18="","",(AK23/Q23)*10) -> 0.92014137 | BF23: =IF(BE23="","",(BE23-BD23)/BD23)
U24: =SUM(V7:V18) -> 89493.365
S25: HL | AM25: 1000 | BF25: € / Litro
A26: Intra UE | B26: Importação | S26: =S4 -> D 2026/2025 | U26: Intra + Extra UE | V26: Importação | AM26: =S26 -> D 2026/2025 | AO26: Importação | BF26: =AM26 -> D 2026/2025
B27: 2010 | C27: 2011 | D27: 2012 | E27: 2013 | F27: 2014 | G27: 2015 | H27: 2016 | I27: 2017 | J27: 2018 | K27: 2019 | L27: 2020 | M27: 2021 | N27: 2022 | O27: 2023 | P27: 2024 | Q27: 2025 | R27: 2026 | V27: 2010 | W27: 2011 | X27: 2012 | Y27: 2013 | Z27: 2014 | AA27: 2015 | AB27: 2016 | AC27: 2017 | AD27: 2018 | AE27: 2019 | AF27: 2020 | AG27: 2021 | AH27: 2022 | AI27: 2023 | AJ27: 2024 | AK27: 2025 | AL27: 2026 | AO27: 2010 | AP27: 2011 | AQ27: 2012 | AR27: 2013 | AS27: 2014 | AT27: 2015 | AU27: 2016 | AV27: 2017 | AW27: 2018 | AX27: 2019 | AY27: 2020 | AZ27: 2021 | BA27: 2022 | BB27: 2023 | BC27: 2024 | BD27: 2025 | BE27: 2026
A28: mês | V28: 2010 | W28: 2011 | X28: 2012
A29: janeiro | B29: 112112.93 | C29: 124900.3 | D29: 111319.12 | E29: 99935.37 | F29: 181139.11 | G29: 165328.65 | H29: 127338.22 | I29: 165367.62 | J29: 107872.66 | K29: 201062.91 | L29: 231082.82 | M29: 214265.47 | N29: 189330.2 | O29: 210592.18 | P29: 144226.97 | Q29: 143075.55 | R29: 146732.2 | S29: =IF(R29="","",(R29-Q29)/Q29) -> 0.025557476 | U29: janeiro | V29: 5016.997 | W29: 5270.674 | X29: 5254.514 | Y29: 8076.409 | Z29: 9156.59 | AA29: 7918.55 | AB29: 7480.996 | AC29: 9138.478 | AD29: 8324.856 | AE29: 11927.749 | AF29: 14184.974 | AG29: 11496.756 | AH29: 12141.41 | AI29: 14522.108 | AJ29: 9776.634 | AK29: 11426.242 | AL29: 11416.086 | AM29: =IF(AL29="","",(AL29-AK29)/AK29) -> -0.00088883117 | AO29: =(V29/B29)*10 -> 0.44749495 | AP29: =(W29/C29)*10 -> 0.4219905 | AQ29: =(X29/D29)*10 -> 0.4720226 | AR29: =(Y29/E29)*10 -> 0.80816322 | AS29: =(Z29/F29)*10 -> 0.50550044 | AT29: =(AA29/G29)*10 -> 0.47895812 | AU29: =(AB29/H29)*10 -> 0.58749023 | AV29: =(AC29/I29)*10 -> 0.55261592 | ... BE29: =(AL29/R29)*10 -> 0.77802187 | BF29: =IF(BE29="","",(BE29-BD29)/BD29) -> -0.025787251
A30: fevereiro | B30: 103555.23 | C30: 109603.08 | D30: 90618.02 | E30: 91080.09 | F30: 178641.27 | G30: 189277.91 | H30: 160923.91 | I30: 180001.23 | J30: 100965.82 | K30: 238795.01 | L30: 200191.73 | M30: 256636.25 | N30: 265295.47 | O30: 254936.75 | P30: 163816.98 | Q30: 157689.06 | R30: 154141.59 | S30: =IF(R30="","",(R30-Q30)/Q30) -> -0.022496615 | U30: fevereiro | V30: 4768.419 | W30: 5015.133 | X30: 4911.15 | Y30: 7549.505 | Z30: 9045.733 | AA30: 9256.72 | AB30: 8296.744 | AC30: 9856.138 | AD30: 9306.154 | AE30: 13709.667 | AF30: 12449.267 | AG30: 12684.448 | AH30: 16621.907 | AI30: 15950.191 | AJ30: 11404.307 | AK30: 11442.051 | AL30: 12318.922 | AM30: =IF(AL30="","",(AL30-AK30)/AK30) -> 0.076635823 | AO30: =(V30/B30)*10 -> 0.46047109 | AP30: =(W30/C30)*10 -> 0.45757227 | AQ30: =(X30/D30)*10 -> 0.54196174 | AR30: =(Y30/E30)*10 -> 0.82888642 | AS30: =(Z30/F30)*10 -> 0.506363 | AT30: =(AA30/G30)*10 -> 0.48905443 | AU30: =(AB30/H30)*10 -> 0.51556938 | AV30: =(AC30/I30)*10 -> 0.54755948 | ... BD30: =(AK30/Q30)*10 -> 0.72560842 | BE30: =IF(AL30="","",(AL30/R30)*10) -> 0.79919521 | BF30: =IF(BE30="","",(BE30-BD30)/BD30) -> 0.10141391
A31: março | B31: 167818.01 | C31: 125233.35 | D31: 135773.27 | E31: 78339.37 | F31: 159104.78 | G31: 179761.26 | H31: 158233.02 | I31: 184735.59 | J31: 131251.34 | K31: 209712.58 | L31: 208979.29 | M31: 346550.24 | N31: 197385.47 | O31: 307397.88 | P31: 152254.79 | Q31: 141265.74 | R31: 145153.13 | S31: =IF(R31="","",(R31-Q31)/Q31) -> 0.027518279 | U31: março | V31: 7424.447 | W31: 5510.354 | X31: 6830.231 | Y31: 7114.539 | Z31: 8082.255 | AA31: 8938.91 | AB31: 8489.652 | AC31: 9926.735 | AD31: 10260.373 | AE31: 11780.023 | AF31: 12880.835 | AG31: 17712.749 | AH31: 13728.199 | AI31: 20045.862 | AJ31: 12012.421 | AK31: 12195.084 | AL31: 13249.278 | AM31: =IF(AL31="","",(AL31-AK31)/AK31) -> 0.086444177 | AO31: =(V31/B31)*10 -> 0.44241062 | AP31: =(W31/C31)*10 -> 0.44000692 | AQ31: =(X31/D31)*10 -> 0.50306154 | AR31: =(Y31/E31)*10 -> 0.90816903 | AS31: =(Z31/F31)*10 -> 0.50798317 | AT31: =(AA31/G31)*10 -> 0.49726565 | AU31: =(AB31/H31)*10 -> 0.53652847 | AV31: =(AC31/I31)*10 -> 0.53734827 | ... BD31: =(AK31/Q31)*10 -> 0.86327258 | BE31: =IF(AL31="","",(AL31/R31)*10) -> 0.91277935 | BF31: =IF(BE31="","",(BE31-BD31)/BD31) -> 0.057347786
A32: abril | B32: 169960.15 | C32: 125324.62 | D32: 131109.87 | E32: 110880.58 | F32: 139339.33 | G32: 172769 | H32: 120807.59 | I32: 195865.48 | J32: 150352.84 | K32: 244663.82 | L32: 232991.84 | M32: 238327.95 | N32: 208852.24 | O32: 266098.18 | P32: 162872 | Q32: 152922.04 | R32: 144421.37 | S32: =IF(R32="","",(R32-Q32)/Q32) -> -0.055588259 | U32: abril | V32: 6997.906 | W32: 5641.779 | X32: 6955.663 | Y32: 8794.502 | Z32: 7652.642 | AA32: 8505.646 | AB32: 6662.399 | AC32: 10370.893 | AD32: 11386.056 | AE32: 12901.989 | AF32: 14090.422 | AG32: 12972.173 | AH32: 15175.933 | AI32: 16823.398 | AJ32: 12183.119 | AK32: 12174.358 | AL32: 12864.54 | AM32: =IF(AL32="","",(AL32-AK32)/AK32) -> 0.056691449 | AO32: =(V32/B32)*10 -> 0.41173805 | AP32: =(W32/C32)*10 -> 0.45017324 | AQ32: =(X32/D32)*10 -> 0.53052169 | AR32: =(Y32/E32)*10 -> 0.79315079 | AS32: =(Z32/F32)*10 -> 0.54920904 | AT32: =(AA32/G32)*10 -> 0.4923132 | AU32: =(AB32/H32)*10 -> 0.55148845 | AV32: =(AC32/I32)*10 -> 0.5294906 | ... BD32: =(AK32/Q32)*10 -> 0.79611533 | BE32: =IF(AL32="","",(AL32/R32)*10) -> 0.8907643 | BF32: =IF(BE32="","",(BE32-BD32)/BD32) -> 0.11888851
A33: maio | B33: 105627.74 | C33: 146684.47 | D33: 105806.45 | E33: 156736.07 | F33: 207228.25 | G33: 181747.01 | H33: 156060.43 | I33: 208341.2 | J33: 123112.9 | K33: 228011.36 | L33: 207260.46 | M33: 271668.91 | N33: 297743.68 | O33: 271889.82 | P33: 165042.38 | Q33: 151844.9 | R33: 124109.81 | S33: =IF(R33="","",(R33-Q33)/Q33) -> -0.18265408 | U33: maio | V33: 5233.592 | W33: 6774.583 | X33: 6184.925 | Y33: 12346.015 | Z33: 9823.543 | AA33: 9567.418 | AB33: 8927.27 | AC33: 11110.942 | AD33: 11997.332 | AE33: 12224.24 | AF33: 10503.532 | AG33: 13714.957 | AH33: 20165.159 | AI33: 18190.896 | AJ33: 12209.924 | AK33: 12975.047 | AL33: 10993.234 | AM33: =IF(AL33="","",(AL33-AK33)/AK33) -> -0.15274033 | AO33: =(V33/B33)*10 -> 0.49547515 | AP33: =(W33/C33)*10 -> 0.46184732 | AQ33: =(X33/D33)*10 -> 0.58455085 | AR33: =(Y33/E33)*10 -> 0.78769456 | AS33: =(Z33/F33)*10 -> 0.47404459 | AT33: =(AA33/G33)*10 -> 0.52641405 | AU33: =(AB33/H33)*10 -> 0.57203931 | AV33: =(AC33/I33)*10 -> 0.53330508 | ... BD33: =(AK33/Q33)*10 -> 0.85449343 | BE33: =IF(AL33="","",(AL33/R33)*10) -> 0.88576673 | BF33: =IF(BE33="","",(BE33-BD33)/BD33) -> 0.036598633
A34: junho | B34: 172955.39 | C34: 88363.71 | D34: 120306.19 | E34: 142180.06 | F34: 163672.62 | G34: 227414.28 | H34: 160527.01 | I34: 247253.33 | J34: 159193.67 | K34: 248660.13 | L34: 200913.28 | M34: 276808.69 | N34: 225711.81 | O34: 318057.7 | P34: 158434.6 | Q34: 129233.75 | R34: 110948.73 | S34: =IF(R34="","",(R34-Q34)/Q34) -> -0.14148796 | U34: junho | V34: 8418.234 | W34: 4390.689 | X34: 6848.407 | Y34: 11167.328 | Z34: 8872.285 | AA34: 11662.62 | AB34: 9423.99 | AC34: 14481.375 | AD34: 12803.287 | AE34: 13718.046 | AF34: 12228.947 | AG34: 14526.822 | AH34: 14534.652 | AI34: 19521.573 | AJ34: 13387.991 | AK34: 11178.229 | AL34: 11484.698 | AM34: =IF(AL34="","",(AL34-AK34)/AK34) -> 0.027416597 | AO34: =(V34/B34)*10 -> 0.48672863 | AP34: =(W34/C34)*10 -> 0.49688826 | AQ34: =(X34/D34)*10 -> 0.5692481 | AR34: =(Y34/E34)*10 -> 0.78543559 | AS34: =(Z34/F34)*10 -> 0.54207509 | AT34: =(AA34/G34)*10 -> 0.51283587 | AU34: =(AB34/H34)*10 -> 0.58706569 | AV34: =(AC34/I34)*10 -> 0.58568979 | ... BD34: =(AK34/Q34)*10 -> 0.86496206 | BE34: =IF(AL34="","",(AL34/R34)*10) -> 1.0351356 | BF34: =IF(BE34="","",(BE34-BD34)/BD34) -> 0.19674105
A35: julho | B35: 153575.38 | C35: 146031.1 | D35: 129411.22 | E35: 179559.89 | F35: 269358.04 | G35: 237433.11 | H35: 147722.47 | I35: 207140.08 | J35: 176201.44 | K35: 278510.38 | L35: 285531.5 | M35: 278816.86 | N35: 235748.02 | O35: 293866.69 | P35: 162795.84 | Q35: 221763.13 | R35: 183278.27 | S35: =IF(R35="","",(R35-Q35)/Q35) -> -0.17354039 | U35: julho | V35: 8202.557 | W35: 7142.672 | X35: 8489.888 | Y35: 14058.684 | Z35: 13129.382 | AA35: 12275.063 | AB35: 8407.09 | AC35: 11587.89 | AD35: 14215.772 | AE35: 14177.262 | AF35: 16500.631 | AG35: 15555.111 | AH35: 16599.759 | AI35: 19060.911 | AJ35: 13179.037 | AK35: 19600.705 | AL35: 16696.058 | AM35: =IF(AL35="","",(AL35-AK35)/AK35) -> -0.14819095 | AO35: =(V35/B35)*10 -> 0.53410625 | AP35: =(W35/C35)*10 -> 0.48911992 | AQ35: =(X35/D35)*10 -> 0.65603956 | AR35: =(Y35/E35)*10 -> 0.78295236 | AS35: =(Z35/F35)*10 -> 0.48743234 | AT35: =(AA35/G35)*10 -> 0.51699036 | AU35: =(AB35/H35)*10 -> 0.56911383 | AV35: =(AC35/I35)*10 -> 0.55942288 | ... BD35: =(AK35/Q35)*10 -> 0.8838577 | BE35: =IF(AL35="","",(AL35/R35)*10) -> 0.91096768 | BF35: =IF(BE35="","",(BE35-BD35)/BD35) -> 0.030672333
A36: agosto | B36: 172174.7 | C36: 197846.86 | D36: 108041.17 | E36: 128500.73 | F36: 196762.29 | G36: 236160.22 | H36: 161077.75 | I36: 171433.78 | J36: 180051.81 | K36: 296230.03 | L36: 286249.11 | M36: 219148.09 | N36: 242415.38 | O36: 251261.66 | P36: 160575.11 | Q36: 113653.6 | S36: =IF(R36="","",(R36-Q36)/Q36) | U36: agosto | V36: 7606.056 | W36: 8313.087 | X36: 6909.056 | Y36: 9139.007 | Z36: 8531.686 | AA36: 10841.423 | AB36: 9653.151 | AC36: 9956.318 | AD36: 13765.152 | AE36: 14750.276 | AF36: 15789.423 | AG36: 12744.038 | AH36: 16420.568 | AI36: 16962.045 | AJ36: 12223.618 | AK36: 11554.954 | AM36: =IF(AL36="","",(AL36-AK36)/AK36) | AO36: =(V36/B36)*10 -> 0.44176386 | AP36: =(W36/C36)*10 -> 0.42017786 | AQ36: =(X36/D36)*10 -> 0.63948363 | AR36: =(Y36/E36)*10 -> 0.71120273 | AS36: =(Z36/F36)*10 -> 0.43360372 | AT36: =(AA36/G36)*10 -> 0.45907067 | AU36: =(AB36/H36)*10 -> 0.59928519 | AV36: =(AC36/I36)*10 -> 0.58076757 | ... BD36: =(AK36/Q36)*10 -> 1.0166817 | BE36: =IF(AL36="","",(AL36/R36)*10) | BF36: =IF(BE36="","",(BE36-BD36)/BD36)
A37: setembro | B37: 184593.24 | C37: 144138.27 | D37: 79979.25 | E37: 122753.58 | F37: 216171.58 | G37: 152140.34 | H37: 149450.12 | I37: 137515.65 | J37: 157796.11 | K37: 248422.99 | L37: 193839.01 | M37: 185628.21 | N37: 273711.03 | O37: 170890.12 | P37: 160298.75 | Q37: 135792.69 | S37: =IF(R37="","",(R37-Q37)/Q37) | U37: setembro | V37: 8950.255 | W37: 8091.361 | X37: 7317.626 | Y37: 9009.786 | Z37: 11821.655 | AA37: 8422.754 | AB37: 8932.46 | AC37: 10856.737 | AD37: 13503.767 | AE37: 13395.533 | AF37: 12829.428 | AG37: 12358.696 | AH37: 19295.446 | AI37: 12913.838 | AJ37: 13223.329 | AK37: 13157.571 | AM37: =IF(AL37="","",(AL37-AK37)/AK37) | AO37: =(V37/B37)*10 -> 0.48486364 | AP37: =(W37/C37)*10 -> 0.56136105 | AQ37: =(X37/D37)*10 -> 0.91494056 | AR37: =(Y37/E37)*10 -> 0.73397338 | AS37: =(Z37/F37)*10 -> 0.54686444 | AT37: =(AA37/G37)*10 -> 0.5536174 | AU37: =(AB37/H37)*10 -> 0.59768838 | AV37: =(AC37/I37)*10 -> 0.78949101 | ... BD37: =(AK37/Q37)*10 -> 0.96894546 | BE37: =IF(AL37="","",(AL37/R37)*10) | BF37: =IF(BE37="","",(BE37-BD37)/BD37)
A38: outubro | B38: 174808.5 | C38: 100779.39 | D38: 69029.49 | E38: 154336.01 | F38: 191835.92 | G38: 123373.28 | H38: 139248.32 | I38: 159507.65 | J38: 217628.21 | K38: 280094.85 | L38: 221001.44 | M38: 221954.72 | N38: 259229.09 | O38: 168577.84 | P38: 145688.36 | Q38: 149348.45 | S38: =IF(R38="","",(R38-Q38)/Q38) | U38: outubro | V38: 8836.216 | W38: 6184.245 | X38: 6843.859 | Y38: 12325.401 | Z38: 11790.633 | AA38: 8857.458 | AB38: 10603.755 | AC38: 13090.348 | AD38: 16694.899 | AE38: 17343.397 | AF38: 14141.987 | AG38: 13795.06 | AH38: 17489.276 | AI38: 12546.419 | AJ38: 11867.11 | AK38: 15005.707 | AM38: =IF(AL38="","",(AL38-AK38)/AK38) | AO38: =(V38/B38)*10 -> 0.50547977 | AP38: =(W38/C38)*10 -> 0.61364184 | AQ38: =(X38/D38)*10 -> 0.99143989 | AR38: =(Y38/E38)*10 -> 0.79860824 | AS38: =(Z38/F38)*10 -> 0.61462071 | AT38: =(AA38/G38)*10 -> 0.71793974 | AU38: =(AB38/H38)*10 -> 0.76149967 | AV38: =(AC38/I38)*10 -> 0.82067211 | ... BD38: =(AK38/Q38)*10 -> 1.0047447 | BE38: =IF(AL38="","",(AL38/R38)*10) | BF38: =IF(BE38="","",(BE38-BD38)/BD38)
A39: novembro | B39: 143517.88 | C39: 108144.17 | D39: 125852.9 | E39: 102029.79 | F39: 191064.2 | G39: 143527.38 | H39: 151132.13 | I39: 135712.66 | J39: 269199.01 | K39: 227951.96 | L39: 225932.47 | M39: 214073.62 | N39: 276422.24 | O39: 185077.01 | P39: 187198.09 | Q39: 192145.3 | S39: =IF(R39="","",(R39-Q39)/Q39) | U39: novembro | V39: 8561.616 | W39: 7679.905 | X39: 10402.912 | Y39: 7707.629 | Z39: 12654.747 | AA39: 9979.347 | AB39: 10712.687 | AC39: 11080.006 | AD39: 17646.002 | AE39: 15712.195 | AF39: 14615.516 | AG39: 15584.514 | AH39: 20862.162 | AI39: 15077.397 | AJ39: 15289.811 | AK39: 16952.003 | AM39: =IF(AL39="","",(AL39-AK39)/AK39) | AO39: =(V39/B39)*10 -> 0.59655396 | AP39: =(W39/C39)*10 -> 0.71015432 | AQ39: =IF(X39="","",(X39/D39)*10) -> 0.82659295 | AR39: =IF(Y39="","",(Y39/E39)*10) -> 0.75542927 | AS39: =IF(Z39="","",(Z39/F39)*10) -> 0.66232957 | AT39: =IF(AA39="","",(AA39/G39)*10) -> 0.69529222 | AU39: =IF(AB39="","",(AB39/H39)*10) -> 0.70882922 | AV39: =IF(AC39="","",(AC39/I39)*10) -> 0.81643127 | AW39: =IF(AD39="","",(AD39/J39)*10) -> 0.65550026 | AX39: =IF(AE39="","",(AE39/K39)*10) -> 0.68927659 | ... BE39: =IF(AL39="","",(AL39/R39)*10) | BF39: =IF(BE39="","",(BE39-BD39)/BD39)
A40: dezembro | B40: 152820.21 | C40: 216465.14 | D40: 85804.43 | E40: 229961.75 | F40: 233293.19 | G40: 149139.45 | H40: 169639.47 | I40: 161502.75 | J40: 201567.8 | K40: 231272.66 | L40: 249366.14 | M40: 245043.78 | N40: 297016.51 | O40: 191789.17 | P40: 177960.39 | Q40: 172136.08 | S40: =IF(R40="","",(R40-Q40)/Q40) | U40: dezembro | V40: 8577.634 | W40: 10729.738 | X40: 8400.332 | Y40: 14080.13 | Z40: 13582.82 | AA40: 9345.798 | AB40: 11478.792 | AC40: 14722.866 | AD40: 13500.737 | AE40: 16104.086 | AF40: 14131.661 | AG40: 17317.553 | AH40: 19544.044 | AI40: 13271.179 | AJ40: 13490.31 | AK40: 14825.772 | AM40: =IF(AL40="","",(AL40-AK40)/AK40) | AO40: =(V40/B40)*10 -> 0.56128924 | AP40: =(W40/C40)*10 -> 0.49567972 | AQ40: =IF(X40="","",(X40/D40)*10) -> 0.97900913 | AR40: =IF(Y40="","",(Y40/E40)*10) -> 0.61228139 | AS40: =IF(Z40="","",(Z40/F40)*10) -> 0.58222102 | AT40: =IF(AA40="","",(AA40/G40)*10) -> 0.62664828 | AU40: =IF(AB40="","",(AB40/H40)*10) -> 0.67665809 | AV40: =IF(AC40="","",(AC40/I40)*10) -> 0.91161705 | AW40: =IF(AD40="","",(AD40/J40)*10) -> 0.66978639 | AX40: =IF(AE40="","",(AE40/K40)*10) -> 0.69632468 | ... BE40: =IF(AL40="","",(AL40/R40)*10) | BF40: =IF(BE40="","",(BE40-BD40)/BD40)
A41: =A19 -> jan-jul | B41: =SUM(B29:B35) -> 985604.83 | C41: =SUM(C29:C35) -> 866140.63 | D41: =SUM(D29:D35) -> 824344.14 | E41: =SUM(E29:E35) -> 858711.43 | F41: =SUM(F29:F35) -> 1298483.4 | G41: =SUM(G29:G35) -> 1353731.2 | H41: =SUM(H29:H35) -> 1031612.7 | I41: =SUM(I29:I35) -> 1388704.5 | ... R41: =SUM(R29:R35) -> 1008785.1 | S41: =IF(R41="","",(R41-Q41)/Q41) -> -0.081079926 | V41: =SUM(V29:V35) -> 46062.152 | W41: =SUM(W29:W35) -> 39745.884 | X41: =SUM(X29:X35) -> 45474.778 | Y41: =SUM(Y29:Y35) -> 69106.982 | Z41: =SUM(Z29:Z35) -> 65762.43 | AA41: =SUM(AA29:AA35) -> 68124.927 | AB41: =SUM(AB29:AB35) -> 57688.141 | AC41: =SUM(AC29:AC35) -> 76472.451 | ... AL41: =SUM(AL29:AL35) -> 89022.816 | AM41: =IF(AL41="","",(AL41-AK41)/AK41) -> -0.021638234 | AO41: =(V41/B41)*10 -> 0.46734909 | AP41: =(W41/C41)*10 -> 0.45888488 | AQ41: =IF(X41="","",(X41/D41)*10) -> 0.55164798 | AR41: =IF(Y41="","",(Y41/E41)*10) -> 0.80477538 | AS41: =IF(Z41="","",(Z41/F41)*10) -> 0.50645569 | AT41: =IF(AA41="","",(AA41/G41)*10) -> 0.50323821 | AU41: =IF(AB41="","",(AB41/H41)*10) -> 0.55920351 | AV41: =IF(AC41="","",(AC41/I41)*10) -> 0.55067474 | AW41: =IF(AD41="","",(AD41/J41)*10) -> 0.8250569 | AX41: =IF(AE41="","",(AE41/K41)*10) -> 0.54830901 | ... BE41: =IF(AL41="","",(AL41/R41)*10) -> 0.88247552 | BF41: =IF(BE41="","",(BE41-BD41)/BD41) -> 0.064686466
A42: 1ª Trim | B42: =SUM(B29:B31) -> 383486.17 | C42: =SUM(C29:C31) -> 359736.73 | D42: =SUM(D29:D31) -> 337710.41 | E42: =SUM(E29:E31) -> 269354.83 | F42: =SUM(F29:F31) -> 518885.16 | G42: =SUM(G29:G31) -> 534367.82 | H42: =SUM(H29:H31) -> 446495.15 | I42: =SUM(I29:I31) -> 530104.44 | ... Q42: =SUM(Q29:Q31) -> 442030.35 | R42: =IF(R31="","",SUM(R29:R31)) -> 446026.92 | S42: =IF(R42="","",(R42-Q42)/Q42) -> 0.0090413927 | U42: 1ª Trim | V42: =SUM(V29:V31) -> 17209.863 | W42: =SUM(W29:W31) -> 15796.161 | X42: =SUM(X29:X31) -> 16995.895 | Y42: =SUM(Y29:Y31) -> 22740.453 | Z42: =SUM(Z29:Z31) -> 26284.578 | AA42: =SUM(AA29:AA31) -> 26114.18 | AB42: =SUM(AB29:AB31) -> 24267.392 | AC42: =SUM(AC29:AC31) -> 28921.351 | ... AK42: =SUM(AK29:AK31) -> 35063.377 | AL42: =IF(AL31="","",SUM(AL29:AL31)) -> 36984.286 | AM42: =IF(AL42="","",(AL42-AK42)/AK42) -> 0.054783913 | AO42: =(V42/B42)*10 -> 0.44877402 | AP42: =(W42/C42)*10 -> 0.43910337 | AQ42: =(X42/D42)*10 -> 0.50326832 | AR42: =(Y42/E42)*10 -> 0.84425637 | AS42: =(Z42/F42)*10 -> 0.50655868 | AT42: =(AA42/G42)*10 -> 0.48869298 | AU42: =(AB42/H42)*10 -> 0.54350852 | AV42: =(AC42/I42)*10 -> 0.54557836 | ... BE42: =(AL42/R42)*10 -> 0.82919403 | BF42: =IF(BE42="","",(BE42-BD42)/BD42) -> 0.04533265
A43: 2º Trim | B43: =SUM(B32:B34) -> 448543.28 | C43: =SUM(C32:C34) -> 360372.8 | D43: =SUM(D32:D34) -> 357222.51 | E43: =SUM(E32:E34) -> 409796.71 | F43: =SUM(F32:F34) -> 510240.2 | G43: =SUM(G32:G34) -> 581930.29 | H43: =SUM(H32:H34) -> 437395.03 | I43: =SUM(I32:I34) -> 651460.01 | ... Q43: =SUM(Q32:Q34) -> 434000.69 | R43: =IF(R34="","",SUM(R32:R34)) -> 379479.91 | S43: =IF(R43="","",(R43-Q43)/Q43) -> -0.12562372 | U43: 2º Trim | V43: =SUM(V32:V34) -> 20649.732 | W43: =SUM(W32:W34) -> 16807.051 | X43: =SUM(X32:X34) -> 19988.995 | Y43: =SUM(Y32:Y34) -> 32307.845 | Z43: =SUM(Z32:Z34) -> 26348.47 | AA43: =SUM(AA32:AA34) -> 29735.684 | AB43: =SUM(AB32:AB34) -> 25013.659 | AC43: =SUM(AC32:AC34) -> 35963.21 | ... AK43: =SUM(AK32:AK34) -> 36327.634 | AL43: =IF(AL34="","",SUM(AL32:AL34)) -> 35342.472 | AM43: =IF(AL43="","",(AL43-AK43)/AK43) -> -0.027118804 | AO43: =(V43/B43)*10 -> 0.46037323 | AP43: =(W43/C43)*10 -> 0.46637957 | AQ43: =(X43/D43)*10 -> 0.55956706 | AR43: =(Y43/E43)*10 -> 0.78838712 | AS43: =(Z43/F43)*10 -> 0.51639346 | AT43: =(AA43/G43)*10 -> 0.51098361 | AU43: =(AB43/H43)*10 -> 0.57187799 | AV43: =(AC43/I43)*10 -> 0.55204018 | ... BD43: =(AK43/Q43)*10 -> 0.83704093 | BE43: =IF(AL43="","",(AL43/R43)*10) -> 0.93133974 | BF43: =IF(BE43="","",(BE43-BD43)/BD43) -> 0.11265735
A44: 3º Trim | B44: =SUM(B35:B37) -> 510343.32 | C44: =SUM(C35:C37) -> 488016.23 | D44: =SUM(D35:D37) -> 317431.64 | E44: =SUM(E35:E37) -> 430814.2 | F44: =SUM(F35:F37) -> 682291.91 | G44: =SUM(G35:G37) -> 625733.67 | H44: =SUM(H35:H37) -> 458250.34 | I44: =SUM(I35:I37) -> 516089.51 | ... Q44: =SUM(Q35:Q37) -> 471209.42 | R44: =IF(R37="","",SUM(R35:R37)) | S44: =IF(R44="","",(R44-Q44)/Q44) | U44: 3º Trim | V44: =SUM(V35:V37) -> 24758.868 | W44: =SUM(W35:W37) -> 23547.12 | X44: =SUM(X35:X37) -> 22716.57 | Y44: =SUM(Y35:Y37) -> 32207.477 | Z44: =SUM(Z35:Z37) -> 33482.723 | AA44: =SUM(AA35:AA37) -> 31539.24 | AB44: =SUM(AB35:AB37) -> 26992.701 | AC44: =SUM(AC35:AC37) -> 32400.945 | ... AK44: =SUM(AK35:AK37) -> 44313.23 | AL44: =IF(AL37="","",SUM(AL35:AL37)) | AM44: =IF(AL44="","",(AL44-AK44)/AK44) | AO44: =(V44/B44)*10 -> 0.48514141 | AP44: =(W44/C44)*10 -> 0.4825069 | AQ44: =(X44/D44)*10 -> 0.7156366 | AR44: =(Y44/E44)*10 -> 0.74759553 | AS44: =(Z44/F44)*10 -> 0.49073897 | AT44: =(AA44/G44)*10 -> 0.50403617 | AU44: =(AB44/H44)*10 -> 0.58903832 | AV44: =(AC44/I44)*10 -> 0.62781638 | ... BD44: =(AK44/Q44)*10 -> 0.94041477 | BE44: =IF(AL44="","",(AL44/R44)*10) | BF44: =IF(BE44="","",(BE44-BD44)/BD44)
A45: 4º Trim | B45: =SUM(B38:B40) -> 471146.59 | C45: =SUM(C38:C40) -> 425388.7 | D45: =IF(D40="","",SUM(D38:D40)) -> 280686.82 | E45: =IF(E40="","",SUM(E38:E40)) -> 486327.55 | F45: =IF(F40="","",SUM(F38:F40)) -> 616193.31 | G45: =IF(G40="","",SUM(G38:G40)) -> 416040.11 | H45: =IF(H40="","",SUM(H38:H40)) -> 460019.92 | I45: =IF(I40="","",SUM(I38:I40)) -> 456723.06 | J45: =IF(J40="","",SUM(J38:J40)) -> 688395.02 | K45: =IF(K40="","",SUM(K38:K40)) -> 739319.47 | ... R45: =IF(R40="","",SUM(R38:R40)) | S45: =IF(R45="","",(R45-Q45)/Q45) | U45: 4º Trim | V45: =SUM(V38:V40) -> 25975.466 | W45: =SUM(W38:W40) -> 24593.888 | X45: =IF(X40="","",SUM(X38:X40)) -> 25647.103 | Y45: =IF(Y40="","",SUM(Y38:Y40)) -> 34113.16 | Z45: =IF(Z40="","",SUM(Z38:Z40)) -> 38028.2 | AA45: =IF(AA40="","",SUM(AA38:AA40)) -> 28182.603 | AB45: =IF(AB40="","",SUM(AB38:AB40)) -> 32795.234 | AC45: =IF(AC40="","",SUM(AC38:AC40)) -> 38893.22 | AD45: =IF(AD40="","",SUM(AD38:AD40)) -> 47841.638 | AE45: =IF(AE40="","",SUM(AE38:AE40)) -> 49159.678 | ... AL45: =IF(AL40="","",SUM(AL38:AL40)) | AM45: =IF(AL45="","",(AL45-AK45)/AK45) | AO45: =(V45/B45)*10 -> 0.5513245 | AP45: =(W45/C45)*10 -> 0.57815095 | AQ45: =IF(X40="","",(X45/D45)*10) -> 0.91372666 | AR45: =IF(Y40="","",(Y45/E45)*10) -> 0.70144412 | AS45: =IF(Z40="","",(Z45/F45)*10) -> 0.61714724 | AT45: =IF(AA40="","",(AA45/G45)*10) -> 0.6774011 | AU45: =IF(AB40="","",(AB45/H45)*10) -> 0.712909 | AV45: =IF(AC40="","",(AC45/I45)*10) -> 0.85157119 | AW45: =IF(AD40="","",(AD45/J45)*10) -> 0.69497362 | AX45: =IF(AE40="","",(AE45/K45)*10) -> 0.66493147 | ... BD45: =IF(AK40="","",(AK45/Q45)*10) -> 0.91084044 | BE45: =IF(AL45="","",(AL45/R45)*10) | BF45: =IF(BE45="","",(BE45-BD45)/BD45)
S47: HL | AM47: 1000 | BF47: € / Litro
A48: Extra UE | B48: Importação | S48: =S26 -> D 2026/2025 | U48: Intra + Extra UE | V48: Importação | AM48: =S48 -> D 2026/2025 | AO48: Importação | BF48: =AM48 -> D 2026/2025
B49: 2010 | C49: 2011 | D49: 2012 | E49: 2013 | F49: 2014 | G49: 2015 | H49: 2016 | I49: 2017 | J49: 2018 | K49: 2019 | L49: 2020 | M49: 2021 | N49: 2022 | O49: 2023 | P49: 2024 | Q49: 2025 | R49: 2026 | V49: 2010 | W49: 2011 | X49: 2012 | Y49: 2013 | Z49: 2014 | AA49: 2015 | AB49: 2016 | AC49: 2017 | AD49: 2018 | AE49: 2019 | AF49: 2020 | AG49: 2021 | AH49: 2022 | AI49: 2023 | AJ49: 2024 | AK49: 2025 | AL49: 2026 | AO49: 2010 | AP49: 2011 | AQ49: 2012 | AR49: 2013 | AS49: 2014 | AT49: 2015 | AU49: 2016 | AV49: 2017 | AW49: 2018 | AX49: 2019 | AY49: 2020 | AZ49: 2021 | BA49: 2022 | BB49: 2023 | BC49: 2024 | BD49: 2025 | BE49: 2026
A50: Mês | V50: 2010 | W50: 2011 | X50: 2012
A51: janeiro | B51: 95.28 | C51: 512.17 | D51: 329.39 | E51: 1097.12 | F51: 359.98 | G51: 186.74 | H51: 103.11 | I51: 197.02 | J51: 149.85 | K51: 70.15 | L51: 335.65 | M51: 46 | N51: 160.48 | O51: 206.79 | P51: 203.97 | Q51: 108.91 | R51: 358.78 | S51: =(R51-Q51)/Q51 -> 2.2942797 | U51: janeiro | V51: 29.815 | W51: 149.204 | X51: 122.178 | Y51: 109.561 | Z51: 97.121 | AA51: 99.908 | AB51: 68.53 | AC51: 118.282 | AD51: 104.797 | AE51: 234.494 | AF51: 210.213 | AG51: 40.8 | AH51: 115.219 | AI51: 180.492 | AJ51: 257.8 | AK51: 323.541 | AL51: 171.141 | AM51: =IF(AL51="","",(AL51-AK51)/AK51) -> -0.47103767 | AO51: =(V51/B51)*10 -> 3.1291982 | AP51: =(W51/C51)*10 -> 2.9131734 | AQ51: =(X51/D51)*10 -> 3.7092201 | AR51: =(Y51/E51)*10 -> 0.99862367 | AS51: =(Z51/F51)*10 -> 2.6979554 | AT51: =(AA51/G51)*10 -> 5.3501125 | AU51: =(AB51/H51)*10 -> 6.6463001 | AV51: =(AC51/I51)*10 -> 6.0035529 | ... BE51: =(AL51/R51)*10 -> 4.7700819 | BF51: =IF(BE51="","",(BE51-BD51)/BD51) -> -0.83943005
A52: fevereiro | B52: 321.11 | C52: 100.6 | D52: 100.41 | E52: 382.4 | F52: 109.25 | G52: 49.88 | H52: 109.06 | I52: 459.19 | J52: 210.03 | K52: 217.2 | L52: 194.14 | M52: 91.45 | N52: 358.55 | O52: 568.11 | P52: 49.39 | Q52: 182.68 | R52: 840.12 | S52: =(R52-Q52)/Q52 -> 3.5988614 | U52: fevereiro | V52: 106.981 | W52: 32.087 | X52: 68.099 | Y52: 95.573 | Z52: 79.215 | AA52: 14.876 | AB52: 102.047 | AC52: 223.394 | AD52: 153.981 | AE52: 117.785 | AF52: 729.515 | AG52: 150.468 | AH52: 405.617 | AI52: 458.541 | AJ52: 72.683 | AK52: 145.394 | AL52: 372.564 | AM52: =IF(AL52="","",(AL52-AK52)/AK52) -> 1.5624441 | AO52: =(V52/B52)*10 -> 3.3315998 | AP52: =(W52/C52)*10 -> 3.1895626 | AQ52: =(X52/D52)*10 -> 6.7820934 | AR52: =(Y52/E52)*10 -> 2.4992939 | AS52: =(Z52/F52)*10 -> 7.2508009 | AT52: =(AA52/G52)*10 -> 2.9823577 | AU52: =(AB52/H52)*10 -> 9.3569595 | AV52: =(AC52/I52)*10 -> 4.8649579 | ... BD52: =(AK52/Q52)*10 -> 7.9589446 | BE52: =IF(AL52="","",(AL52/R52)*10) -> 4.4346522 | BF52: =IF(BE52="","",(BE52-BD52)/BD52) -> -0.44280901
A53: março | B53: 94.44 | C53: 412.02 | D53: 20.84 | E53: 99.12 | F53: 153.96 | G53: 20 | H53: 65.94 | I53: 25.84 | J53: 3.52 | K53: 37.49 | L53: 136.8 | M53: 285.67 | N53: 99.78 | O53: 121.95 | P53: 156.97 | Q53: 55.3 | R53: 1470.92 | S53: =IF(R53="","",(R53-Q53)/Q53) -> 25.598915 | U53: março | V53: 39.945 | W53: 210.156 | X53: 21.707 | Y53: 27.782 | Z53: 90.24 | AA53: 14.796 | AB53: 59.373 | AC53: 51.395 | AD53: 48.673 | AE53: 73.153 | AF53: 92.29 | AG53: 189.258 | AH53: 111.539 | AI53: 263.26 | AJ53: 307.32 | AK53: 168.229 | AL53: 404.41 | AM53: =IF(AL53="","",(AL53-AK53)/AK53) -> 1.4039256 | AO53: =(V53/B53)*10 -> 4.2296696 | AP53: =(W53/C53)*10 -> 5.1006262 | AQ53: =(X53/D53)*10 -> 10.416027 | AR53: =(Y53/E53)*10 -> 2.8028652 | AS53: =(Z53/F53)*10 -> 5.8612627 | AT53: =(AA53/G53)*10 -> 7.398 | AU53: =(AB53/H53)*10 -> 9.0040946 | AV53: =(AC53/I53)*10 -> 19.889706 | ... BD53: =(AK53/Q53)*10 -> 30.421157 | BE53: =IF(AL53="","",(AL53/R53)*10) -> 2.7493677 | BF53: =IF(BE53="","",(BE53-BD53)/BD53) -> -0.90962317
A54: abril | B54: 449.7 | C54: 201.03 | D54: 32.19 | E54: 433.9 | F54: 116.07 | G54: 102.54 | H54: 105.56 | I54: 10.38 | J54: 20.22 | K54: 269.06 | L54: 11.55 | M54: 228.9 | N54: 81.14 | O54: 255.97 | P54: 18.09 | Q54: 155.28 | R54: 2784.07 | S54: =IF(R54="","",(R54-Q54)/Q54) -> 16.929353 | U54: abril | V54: 85.614 | W54: 92.997 | X54: 30.552 | Y54: 154.784 | Z54: 82.787 | AA54: 74.756 | AB54: 80.057 | AC54: 55.018 | AD54: 24.623 | AE54: 122.4 | AF54: 30.441 | AG54: 199.788 | AH54: 163.688 | AI54: 230.748 | AJ54: 76.341 | AK54: 243.748 | AL54: 237.682 | AM54: =IF(AL54="","",(AL54-AK54)/AK54) -> -0.024886358 | AO54: =(V54/B54)*10 -> 1.9038025 | AP54: =(W54/C54)*10 -> 4.626026 | AQ54: =(X54/D54)*10 -> 9.4911463 | AR54: =(Y54/E54)*10 -> 3.5672736 | AS54: =(Z54/F54)*10 -> 7.1325062 | AT54: =(AA54/G54)*10 -> 7.2904232 | AU54: =(AB54/H54)*10 -> 7.584028 | AV54: =(AC54/I54)*10 -> 53.003854 | ... BD54: =(AK54/Q54)*10 -> 15.697321 | BE54: =IF(AL54="","",(AL54/R54)*10) -> 0.85372135 | BF54: =IF(BE54="","",(BE54-BD54)/BD54) -> -0.94561356
A55: maio | B55: 115.13 | C55: 87.89 | D55: 385.16 | E55: 4.24 | F55: 1094.3 | G55: 355.74 | H55: 257.62 | I55: 23.62 | J55: 291.12 | K55: 420.22 | L55: 106.45 | M55: 276.83 | N55: 511.12 | O55: 113.97 | P55: 68.37 | Q55: 612.59 | R55: 1795.77 | S55: =IF(R55="","",(R55-Q55)/Q55) -> 1.9314386 | U55: maio | V55: 36.316 | W55: 16.928 | X55: 146.25 | Y55: 10.174 | Z55: 189.645 | AA55: 141.925 | AB55: 147.154 | AC55: 82.364 | AD55: 196.866 | AE55: 168.611 | AF55: 50.589 | AG55: 769.015 | AH55: 338.376 | AI55: 278.41 | AJ55: 147.012 | AK55: 377.591 | AL55: 326.162 | AM55: =IF(AL55="","",(AL55-AK55)/AK55) -> -0.13620293 | AO55: =(V55/B55)*10 -> 3.1543473 | AP55: =(W55/C55)*10 -> 1.9260439 | AQ55: =(X55/D55)*10 -> 3.7971233 | AR55: =(Y55/E55)*10 -> 23.995283 | AS55: =(Z55/F55)*10 -> 1.7330257 | AT55: =(AA55/G55)*10 -> 3.989571 | AU55: =(AB55/H55)*10 -> 5.7120565 | AV55: =(AC55/I55)*10 -> 34.870449 | ... BD55: =(AK55/Q55)*10 -> 6.1638453 | BE55: =IF(AL55="","",(AL55/R55)*10) -> 1.8162794 | BF55: =IF(BE55="","",(BE55-BD55)/BD55) -> -0.7053334
A56: junho | B56: 87.69 | C56: 193.86 | D56: 760.2 | E56: 201.37 | F56: 0.83 | G56: 312.9 | H56: 805.91 | I56: 97.78 | J56: 379.49 | K56: 205.08 | L56: 75.46 | M56: 81.01 | N56: 128.44 | O56: 80.38 | P56: 203.94 | Q56: 66.92 | R56: 8130.04 | S56: =IF(R56="","",(R56-Q56)/Q56) -> 120.48894 | U56: junho | V56: 50.512 | W56: 76.985 | X56: 140.741 | Y56: 108.194 | Z56: 2.327 | AA56: 108.241 | AB56: 89.243 | AC56: 81.237 | AD56: 251.595 | AE56: 116.065 | AF56: 70.181 | AG56: 156.532 | AH56: 262.812 | AI56: 150.64 | AJ56: 240.68 | AK56: 153.731 | AL56: 531.548 | AM56: =IF(AL56="","",(AL56-AK56)/AK56) -> 2.4576501 | AO56: =(V56/B56)*10 -> 5.7602919 | AP56: =(W56/C56)*10 -> 3.9711648 | AQ56: =(X56/D56)*10 -> 1.8513681 | AR56: =(Y56/E56)*10 -> 5.3728957 | AS56: =(Z56/F56)*10 -> 28.036145 | AT56: =(AA56/G56)*10 -> 3.4592841 | AU56: =(AB56/H56)*10 -> 1.1073569 | AV56: =(AC56/I56)*10 -> 8.3081407 | ... BD56: =(AK56/Q56)*10 -> 22.972355 | BE56: =IF(AL56="","",(AL56/R56)*10) -> 0.65380736 | BF56: =IF(BE56="","",(BE56-BD56)/BD56) -> -0.97153938
A57: julho | B57: 303.2 | C57: 240 | D57: 243.11 | E57: 240.37 | F57: 134.97 | G57: 337.2 | H57: 84.99 | I57: 171.96 | J57: 42.18 | K57: 176.79 | L57: 288.83 | M57: 91.26 | N57: 309.11 | O57: 108.71 | P57: 140.32 | Q57: 94.52 | R57: 398.78 | S57: =IF(R57="","",(R57-Q57)/Q57) -> 3.2190013 | U57: julho | V57: 101.882 | W57: 208.25 | X57: 120.589 | Y57: 63.236 | Z57: 133.272 | AA57: 88.904 | AB57: 66.513 | AC57: 161.839 | AD57: 69.402 | AE57: 109.843 | AF57: 111.27 | AG57: 115.041 | AH57: 124.318 | AI57: 127.58 | AJ57: 177.484 | AK57: 177.488 | AL57: 246.102 | AM57: =IF(AL57="","",(AL57-AK57)/AK57) -> 0.38658388 | AO57: =(V57/B57)*10 -> 3.3602243 | AP57: =(W57/C57)*10 -> 8.6770833 | AQ57: =(X57/D57)*10 -> 4.9602649 | AR57: =(Y57/E57)*10 -> 2.6307776 | AS57: =(Z57/F57)*10 -> 9.8741943 | AT57: =(AA57/G57)*10 -> 2.6365362 | AU57: =(AB57/H57)*10 -> 7.8259795 | AV57: =(AC57/I57)*10 -> 9.4114329 | ... BD57: =(AK57/Q57)*10 -> 18.777825 | BE57: =IF(AL57="","",(AL57/R57)*10) -> 6.1713727 | BF57: =IF(BE57="","",(BE57-BD57)/BD57) -> -0.67134784
A58: agosto | B58: 733.11 | C58: 19 | D58: 777.31 | E58: 199.58 | F58: 112.44 | G58: 335.97 | H58: 208.92 | I58: 156.26 | J58: 103.26 | K58: 2.91 | L58: 52.44 | M58: 48.8 | N58: 220.74 | O58: 5.79 | P58: 298.75 | Q58: 218.68 | S58: =IF(R58="","",(R58-Q58)/Q58) | U58: agosto | V58: 248.682 | W58: 13.135 | X58: 170.395 | Y58: 85.356 | Z58: 57.158 | AA58: 62.074 | AB58: 182.147 | AC58: 90.742 | AD58: 92.774 | AE58: 20.316 | AF58: 52.985 | AG58: 98.681 | AH58: 194.059 | AI58: 53.199 | AJ58: 229.731 | AK58: 193.504 | AM58: =IF(AL58="","",(AL58-AK58)/AK58) | AO58: =(V58/B58)*10 -> 3.3921512 | AP58: =(W58/C58)*10 -> 6.9131579 | AQ58: =(X58/D58)*10 -> 2.1921113 | AR58: =(Y58/E58)*10 -> 4.2767812 | AS58: =(Z58/F58)*10 -> 5.0834223 | AT58: =(AA58/G58)*10 -> 1.8476054 | AU58: =(AB58/H58)*10 -> 8.7185047 | AV58: =(AC58/I58)*10 -> 5.8071163 | ... BD58: =(AK58/Q58)*10 -> 8.8487287 | BE58: =IF(AL58="","",(AL58/R58)*10) | BF58: =IF(BE58="","",(BE58-BD58)/BD58)
A59: setembro | B59: 75.41 | C59: 202.55 | D59: 126.27 | E59: 192.72 | F59: 183.71 | G59: 506.25 | H59: 278.89 | I59: 2.59 | J59: 285.61 | K59: 32.12 | L59: 108.6 | M59: 357.89 | N59: 414.07 | O59: 277.87 | P59: 289.98 | Q59: 42.12 | S59: =IF(R59="","",(R59-Q59)/Q59) | U59: setembro | V59: 26.284 | W59: 140.136 | X59: 62.427 | Y59: 148.229 | Z59: 99.026 | AA59: 189.151 | AB59: 114.91 | AC59: 15.391 | AD59: 141.861 | AE59: 88.78 | AF59: 72.782 | AG59: 256.719 | AH59: 308.474 | AI59: 368.832 | AJ59: 156.058 | AK59: 222.563 | AM59: =IF(AL59="","",(AL59-AK59)/AK59) | AO59: =(V59/B59)*10 -> 3.4854794 | AP59: =(W59/C59)*10 -> 6.918588 | AQ59: =(X59/D59)*10 -> 4.9439297 | AR59: =(Y59/E59)*10 -> 7.6914176 | AS59: =(Z59/F59)*10 -> 5.3903435 | AT59: =(AA59/G59)*10 -> 3.736316 | AU59: =(AB59/H59)*10 -> 4.1202625 | AV59: =(AC59/I59)*10 -> 59.42471 | ... BD59: =(AK59/Q59)*10 -> 52.840218 | BE59: =IF(AL59="","",(AL59/R59)*10) | BF59: =IF(BE59="","",(BE59-BD59)/BD59)
A60: outubro | B60: 240.72 | C60: 303.53 | D60: 1.4 | E60: 199.3 | F60: 162.61 | G60: 265.23 | H60: 74.89 | I60: 2.7 | J60: 243.41 | K60: 162.79 | L60: 163.68 | M60: 162.12 | N60: 165.9 | O60: 50.9 | P60: 220.96 | Q60: 152.44 | S60: =IF(R60="","",(R60-Q60)/Q60) | U60: outubro | V60: 80.941 | W60: 133.739 | X60: 0.896 | Y60: 99.911 | Z60: 62.056 | AA60: 42.978 | AB60: 73.328 | AC60: 7.738 | AD60: 45.496 | AE60: 116.032 | AF60: 123.819 | AG60: 149.986 | AH60: 319.264 | AI60: 57.844 | AJ60: 148.756 | AK60: 154.141 | AM60: =IF(AL60="","",(AL60-AK60)/AK60) | AO60: =(V60/B60)*10 -> 3.3624543 | AP60: =(W60/C60)*10 -> 4.4061213 | AQ60: =(X60/D60)*10 -> 6.4 | AR60: =(Y60/E60)*10 -> 5.0130958 | AS60: =(Z60/F60)*10 -> 3.8162475 | AT60: =(AA60/G60)*10 -> 1.6204049 | AU60: =(AB60/H60)*10 -> 9.7914274 | AV60: =(AC60/I60)*10 -> 28.659259 | ... BD60: =(AK60/Q60)*10 -> 10.111585 | BE60: =IF(AL60="","",(AL60/R60)*10) | BF60: =IF(BE60="","",(BE60-BD60)/BD60)
A61: novembro | B61: 134.53 | C61: 176.86 | D61: 203.79 | E61: 75.96 | F61: 86.76 | G61: 338.65 | H61: 107.73 | I61: 189.56 | J61: 163.64 | K61: 115.15 | L61: 280.91 | M61: 287.73 | N61: 90.06 | O61: 226.77 | P61: 213.44 | Q61: 53.06 | S61: =IF(R61="","",(R61-Q61)/Q61) | U61: novembro | V61: 62.048 | W61: 49.419 | X61: 115.307 | Y61: 48.549 | Z61: 60.351 | AA61: 250.62 | AB61: 66.03 | AC61: 58.631 | AD61: 111.594 | AE61: 193.003 | AF61: 285.586 | AG61: 185.326 | AH61: 275.309 | AI61: 299.643 | AJ61: 1020.795 | AK61: 184.766 | AM61: =IF(AL61="","",(AL61-AK61)/AK61) | AO61: =(V61/B61)*10 -> 4.6122055 | AP61: =(W61/C61)*10 -> 2.794244 | AQ61: =IF(X61="","",(X61/D61)*10) -> 5.6581285 | AR61: =IF(Y61="","",(Y61/E61)*10) -> 6.3913902 | AS61: =IF(Z61="","",(Z61/F61)*10) -> 6.9560858 | AT61: =IF(AA61="","",(AA61/G61)*10) -> 7.4005611 | AU61: =IF(AB61="","",(AB61/H61)*10) -> 6.1292119 | AV61: =IF(AC61="","",(AC61/I61)*10) -> 3.0930049 | AW61: =IF(AD61="","",(AD61/J61)*10) -> 6.8194818 | AX61: =IF(AE61="","",(AE61/K61)*10) -> 16.761007 | ... BE61: =IF(AL61="","",(AL61/R61)*10) | BF61: =IF(BE61="","",(BE61-BD61)/BD61)
A62: dezembro | B62: 93.24 | C62: 124.46 | D62: 113.12 | E62: 110.57 | F62: 72.96 | G62: 208.45 | H62: 87.24 | I62: 106.97 | J62: 115.36 | K62: 163.5 | L62: 144.72 | M62: 71.05 | N62: 22.01 | O62: 305.8 | P62: 152.83 | Q62: 183.98 | S62: =IF(R62="","",(R62-Q62)/Q62) | U62: dezembro | V62: 30.416 | W62: 47.313 | X62: 23.596 | Y62: 78.717 | Z62: 56.822 | AA62: 94.973 | AB62: 72.218 | AC62: 81.169 | AD62: 81.002 | AE62: 103.393 | AF62: 78.419 | AG62: 91.548 | AH62: 146.485 | AI62: 226.583 | AJ62: 499.745 | AK62: 174.654 | AM62: =IF(AL62="","",(AL62-AK62)/AK62) | AO62: =(V62/B62)*10 -> 3.2621193 | AP62: =(W62/C62)*10 -> 3.8014623 | AQ62: =IF(X62="","",(X62/D62)*10) -> 2.0859264 | AR62: =IF(Y62="","",(Y62/E62)*10) -> 7.1192005 | AS62: =IF(Z62="","",(Z62/F62)*10) -> 7.7881031 | AT62: =IF(AA62="","",(AA62/G62)*10) -> 4.5561526 | AU62: =IF(AB62="","",(AB62/H62)*10) -> 8.2780834 | AV62: =IF(AC62="","",(AC62/I62)*10) -> 7.5880153 | AW62: =IF(AD62="","",(AD62/J62)*10) -> 7.0216713 | AX62: =IF(AE62="","",(AE62/K62)*10) -> 6.3237309 | ... BE62: =IF(AL62="","",(AL62/R62)*10) | BF62: =IF(BE62="","",(BE62-BD62)/BD62)
A63: =A19 -> jan-jul | B63: =SUM(B51:B57) -> 1466.55 | C63: =SUM(C51:C57) -> 1747.57 | D63: =SUM(D51:D57) -> 1871.3 | E63: =SUM(E51:E57) -> 2458.52 | F63: =SUM(F51:F57) -> 1969.36 | G63: =SUM(G51:G57) -> 1365 | H63: =SUM(H51:H57) -> 1532.19 | I63: =SUM(I51:I57) -> 985.79 | ... R63: =SUM(R51:R57) -> 15778.48 | S63: =IF(R63="","",(R63-Q63)/Q63) -> 11.363642 | V63: =SUM(V51:V57) -> 451.065 | W63: =SUM(W51:W57) -> 786.607 | X63: =SUM(X51:X57) -> 650.116 | Y63: =SUM(Y51:Y57) -> 569.304 | Z63: =SUM(Z51:Z57) -> 674.607 | AA63: =SUM(AA51:AA57) -> 543.406 | AB63: =SUM(AB51:AB57) -> 612.917 | AC63: =SUM(AC51:AC57) -> 773.529 | ... AL63: =SUM(AL51:AL57) -> 2289.609 | AM63: =IF(AL63="","",(AL63-AK63)/AK63) -> 0.44025748 | AO63: =(V63/B63)*10 -> 3.0756878 | AP63: =(W63/C63)*10 -> 4.5011473 | AQ63: =IF(X63="","",(X63/D63)*10) -> 3.474141 | AR63: =IF(Y63="","",(Y63/E63)*10) -> 2.315637 | AS63: =IF(Z63="","",(Z63/F63)*10) -> 3.4255139 | AT63: =IF(AA63="","",(AA63/G63)*10) -> 3.9809963 | AU63: =IF(AB63="","",(AB63/H63)*10) -> 4.0002676 | AV63: =IF(AC63="","",(AC63/I63)*10) -> 7.8467929 | AW63: =IF(AD63="","",(AD63/J63)*10) -> 7.7519997 | AX63: =IF(AE63="","",(AE63/K63)*10) -> 6.7504137 | ... BE63: =IF(AL63="","",(AL63/R63)*10) -> 1.451096 | BF63: =IF(BE63="","",(BE63-BD63)/BD63) -> -0.88350864
A64: 1ª Trim | B64: =SUM(B51:B53) -> 510.83 | C64: =SUM(C51:C53) -> 1024.79 | D64: =SUM(D51:D53) -> 450.64 | E64: =SUM(E51:E53) -> 1578.64 | F64: =SUM(F51:F53) -> 623.19 | G64: =SUM(G51:G53) -> 256.62 | H64: =SUM(H51:H53) -> 278.11 | I64: =SUM(I51:I53) -> 682.05 | ... Q64: =SUM(Q51:Q53) -> 346.89 | R64: =IF(R53="","",SUM(R51:R53)) -> 2669.82 | S64: =IF(R64="","",(R64-Q64)/Q64) -> 6.6964456 | U64: 1ª Trim | V64: =SUM(V51:V53) -> 176.741 | W64: =SUM(W51:W53) -> 391.447 | X64: =SUM(X51:X53) -> 211.984 | Y64: =SUM(Y51:Y53) -> 232.916 | Z64: =SUM(Z51:Z53) -> 266.576 | AA64: =SUM(AA51:AA53) -> 129.58 | AB64: =SUM(AB51:AB53) -> 229.95 | AC64: =SUM(AC51:AC53) -> 393.071 | ... AL64: =SUM(AL51:AL53) -> 948.115 | AM64: =IF(AL64="","",(AL64-AK64)/AK64) -> 0.48802349 | AO64: =(V64/B64)*10 -> 3.459879 | AP64: =(W64/C64)*10 -> 3.8197777 | AQ64: =(X64/D64)*10 -> 4.7040653 | AR64: =(Y64/E64)*10 -> 1.4754219 | AS64: =(Z64/F64)*10 -> 4.2776039 | AT64: =(AA64/G64)*10 -> 5.0494895 | AU64: =(AB64/H64)*10 -> 8.2683111 | AV64: =(AC64/I64)*10 -> 5.7630819 | ... BD64: =(AK64/Q64)*10 -> 18.367898 | BE64: =IF(AL64="","",(AL64/R64)*10) -> 3.5512319 | BF64: =IF(BE64="","",(BE64-BD64)/BD64) -> -0.80666095
A65: 2º Trim | B65: =SUM(B54:B56) -> 652.52 | C65: =SUM(C54:C56) -> 482.78 | D65: =SUM(D54:D56) -> 1177.55 | E65: =SUM(E54:E56) -> 639.51 | F65: =SUM(F54:F56) -> 1211.2 | G65: =SUM(G54:G56) -> 771.18 | H65: =SUM(H54:H56) -> 1169.09 | I65: =SUM(I54:I56) -> 131.78 | ... Q65: =SUM(Q54:Q56) -> 834.79 | R65: =IF(R56="","",SUM(R54:R56)) -> 12709.88 | S65: =IF(R65="","",(R65-Q65)/Q65) -> 14.225242 | U65: 2º Trim | V65: =SUM(V54:V56) -> 172.442 | W65: =SUM(W54:W56) -> 186.91 | X65: =SUM(X54:X56) -> 317.543 | Y65: =SUM(Y54:Y56) -> 273.152 | Z65: =SUM(Z54:Z56) -> 274.759 | AA65: =SUM(AA54:AA56) -> 324.922 | AB65: =SUM(AB54:AB56) -> 316.454 | AC65: =SUM(AC54:AC56) -> 218.619 | ... AL65: =SUM(AL54:AL56) -> 1095.392 | AM65: =IF(AL65="","",(AL65-AK65)/AK65) -> 0.41328138 | AO65: =(V65/B65)*10 -> 2.6427083 | AP65: =(W65/C65)*10 -> 3.8715357 | AQ65: =(X65/D65)*10 -> 2.6966413 | AR65: =(Y65/E65)*10 -> 4.2712702 | AS65: =(Z65/F65)*10 -> 2.2684858 | AT65: =(AA65/G65)*10 -> 4.2133095 | AU65: =(AB65/H65)*10 -> 2.7068404 | AV65: =(AC65/I65)*10 -> 16.589695 | ... BD65: =(AK65/Q65)*10 -> 9.2846105 | BE65: =IF(AL65="","",(AL65/R65)*10) -> 0.86184291 | BF65: =IF(BE65="","",(BE65-BD65)/BD65) -> -0.90717511
A66: 3º Trim | B66: =SUM(B57:B59) -> 1111.72 | C66: =SUM(C57:C59) -> 461.55 | D66: =SUM(D57:D59) -> 1146.69 | E66: =SUM(E57:E59) -> 632.67 | F66: =SUM(F57:F59) -> 431.12 | G66: =SUM(G57:G59) -> 1179.42 | H66: =SUM(H57:H59) -> 572.8 | I66: =SUM(I57:I59) -> 330.81 | ... Q66: =SUM(Q57:Q59) -> 355.32 | R66: =IF(R59="","",SUM(R57:R59)) | S66: =IF(R66="","",(R66-Q66)/Q66) | U66: 3º Trim | V66: =SUM(V57:V59) -> 376.848 | W66: =SUM(W57:W59) -> 361.521 | X66: =SUM(X57:X59) -> 353.411 | Y66: =SUM(Y57:Y59) -> 296.821 | Z66: =SUM(Z57:Z59) -> 289.456 | AA66: =SUM(AA57:AA59) -> 340.129 | AB66: =SUM(AB57:AB59) -> 363.57 | AC66: =SUM(AC57:AC59) -> 267.972 | ... AK66: =SUM(AK57:AK59) -> 593.555 | AO66: =(V66/B66)*10 -> 3.3897744 | AP66: =(W66/C66)*10 -> 7.8327592 | AQ66: =(X66/D66)*10 -> 3.08201 | AR66: =(Y66/E66)*10 -> 4.6915612 | AS66: =(Z66/F66)*10 -> 6.7140471 | AT66: =(AA66/G66)*10 -> 2.8838666 | AU66: =(AB66/H66)*10 -> 6.3472416 | AV66: =(AC66/I66)*10 -> 8.1004806 | ... BD66: =(AK66/Q66)*10 -> 16.704801 | BE66: =IF(AL66="","",(AL66/R66)*10) | BF66: =IF(BE66="","",(BE66-BD66)/BD66)
A67: 4º Trim | B67: =SUM(B60:B62) -> 468.49 | C67: =SUM(C60:C62) -> 604.85 | D67: =IF(D62="","",SUM(D60:D62)) -> 318.31 | E67: =IF(E62="","",SUM(E60:E62)) -> 385.83 | F67: =IF(F62="","",SUM(F60:F62)) -> 322.33 | G67: =IF(G62="","",SUM(G60:G62)) -> 812.33 | H67: =IF(H62="","",SUM(H60:H62)) -> 269.86 | I67: =IF(I62="","",SUM(I60:I62)) -> 299.23 | J67: =IF(J62="","",SUM(J60:J62)) -> 522.41 | K67: =IF(K62="","",SUM(K60:K62)) -> 441.44 | ... R67: =IF(R62="","",SUM(R60:R62)) | S67: =IF(R67="","",(R67-Q67)/Q67) | U67: 4º Trim | V67: =SUM(V60:V62) -> 173.405 | W67: =SUM(W60:W62) -> 230.471 | X67: =SUM(X60:X62) -> 139.799 | Y67: =SUM(Y60:Y62) -> 227.177 | Z67: =SUM(Z60:Z62) -> 179.229 | AA67: =SUM(AA60:AA62) -> 388.571 | AB67: =SUM(AB60:AB62) -> 211.576 | AC67: =SUM(AC60:AC62) -> 147.538 | ... AK67: =SUM(AK60:AK62) -> 513.561 | AO67: =(V67/B67)*10 -> 3.7013597 | AP67: =(W67/C67)*10 -> 3.8103827 | AQ67: =IF(X62="","",(X67/D67)*10) -> 4.3919135 | AR67: =IF(Y62="","",(Y67/E67)*10) -> 5.8880077 | AS67: =IF(Z62="","",(Z67/F67)*10) -> 5.5604194 | AT67: =IF(AA62="","",(AA67/G67)*10) -> 4.7834131 | AU67: =IF(AB62="","",(AB67/H67)*10) -> 7.8402134 | AV67: =IF(AC62="","",(AC67/I67)*10) -> 4.9305885 | AW67: =IF(AD62="","",(AD67/J67)*10) -> 4.5575697 | AX67: =IF(AE62="","",(AE67/K67)*10) -> 9.3427872 | ... BE67: =IF(AL62="","",(AL67/R67)*10) | BF67: =IF(BE67="","",(BE67-BD67)/BD67)

Sheet 4
A1: Exportações por Tipo de Produto
A4: Intra + Extra UE | C4: HL | E4: Peso | G4: D | I4: 1000 | K4: Peso | M4: D | O4: Preço Médio (€ / l) | Q4: D
C5: jan-jul | E5: =C5 -> jan-jul | G5: 2026 /2025 | I5: =C5 -> jan-jul | K5: =C5 -> jan-jul | M5: =G5 -> 2026 /2025 | O5: =C5 -> jan-jul | Q5: =G5 -> 2026 /2025
C6: 2025 | D6: 2026 | E6: =C6 -> 2025 | F6: =D6 -> 2026 | G6: HL | I6: =C6 -> 2025 | J6: =D6 -> 2026 | K6: =E6 -> 2025 | L6: =D6 -> 2026 | M6: 1000 | O6: =C6 -> 2025 | P6: =D6 -> 2026
A7: Vinho Certificado | C7: =C8+C9 -> 949026.12 | D7: =D8+D9 -> 900130.82 | E7: =C7/$C$20 -> 0.46900672 | F7: =D7/$D$20 -> 0.4943774 | G7: =(D7-C7)/C7 -> -0.051521553 | I7: =I8+I9 -> 276705.83 | J7: =J8+J9 -> 260122.04 | K7: =I7/$I$20 -> 0.51308327 | L7: =J7/$J$20 -> 0.51618844 | M7: =(J7-I7)/I7 -> -0.059932916 | O7: =(I7/C7)*10 -> 2.9156819 | P7: =(J7/D7)*10 -> 2.8898248 | Q7: =(P7-O7)/O7 -> -0.0088682697
A8: Vinho com DO | C8: 490904.56 | D8: 454934.08 | E8: =C8/$C$20 -> 0.24260401 | F8: =D8/$D$20 -> 0.24986271 | G8: =(D8-C8)/C8 -> -0.073273876 | I8: 162784.75 | J8: 150820.24 | K8: =I8/$I$20 -> 0.3018445 | L8: =J8/$J$20 -> 0.299289 | M8: =(J8-I8)/I8 -> -0.073498937 | O8: =(I8/C8)*10 -> 3.3160162 | P8: =(J8/D8)*10 -> 3.3152109 | Q8: =(P8-O8)/O8 -> -0.00024285561
A9: Vinho com IG | C9: 458121.56 | D9: 445196.74 | E9: =C9/$C$20 -> 0.22640272 | F9: =D9/$D$20 -> 0.24451469 | G9: =(D9-C9)/C9 -> -0.028212643 | I9: 113921.08 | J9: 109301.8 | K9: =I9/$I$20 -> 0.21123877 | L9: =J9/$J$20 -> 0.21689943 | M9: =(J9-I9)/I9 -> -0.040548081 | O9: =(I9/C9)*10 -> 2.4866997 | P9: =(J9/D9)*10 -> 2.4551347 | Q9: =(P9-O9)/O9 -> -0.012693557
A10: Vinho (ex-mesa) | C10: =C11+C12 -> 745079.83 | D10: =D11+D12 -> 621083.39 | E10: =C10/$C$20 -> 0.36821689 | F10: =D10/$D$20 -> 0.34111663 | G10: =(D10-C10)/C10 -> -0.16642034 | I10: =I11+I12 -> 94543.514 | J10: =J11+J12 -> 88686.235 | K10: =I10/$I$20 -> 0.17530782 | L10: =J10/$J$20 -> 0.17598974 | M10: =(J10-I10)/I10 -> -0.061953261 | O10: =(I10/C10)*10 -> 1.2689045 | P10: =(J10/D10)*10 -> 1.427928 | Q10: =(P10-O10)/O10 -> 0.12532345
B11: Vinho | C11: 733202.97 | D11: 608405.75 | E11: =C11/$C$20 -> 0.36234737 | F11: =D11/$D$20 -> 0.33415371 | G11: =(D11-C11)/C11 -> -0.17020828 | I11: 91724.797 | J11: 85705.756 | K11: =I11/$I$20 -> 0.1700812 | L11: =J11/$J$20 -> 0.17007525 | M11: =(J11-I11)/I11 -> -0.065620652 | O11: =(I11/C11)*10 -> 1.2510151 | P11: =(J11/D11)*10 -> 1.408694 | Q11: =(P11-O11)/O11 -> 0.12604083
B12: Vinho com Indicação de Casta | C12: 11876.86 | D12: 12677.64 | E12: =C12/$C$20 -> 0.0058695193 | F12: =D12/$D$20 -> 0.0069629198 | G12: =(D12-C12)/C12 -> 0.067423545 | I12: 2818.717 | J12: 2980.479 | K12: =I12/$I$20 -> 0.0052266213 | L12: =J12/$J$20 -> 0.0059144885 | M12: =(J12-I12)/I12 -> 0.057388521 | O12: =(I12/C12)*10 -> 2.3732847 | P12: =(J12/D12)*10 -> 2.3509731 | Q12: =(P12-O12)/O12 -> -0.0094011637
A13: Vinho Licoroso com DO / IG | C13: =C14+C15+C16 -> 285002.25 | D13: =D14+D15+D16 -> 266774.76 | E13: =C13/$C$20 -> 0.14084752 | F13: =D13/$D$20 -> 0.14652027 | G13: =(D13-C13)/C13 -> -0.0639556 | I13: =SUM(I14:I16) -> 155712.4 | J13: =SUM(J14:J16) -> 144531.51 | K13: =I13/$I$20 -> 0.28873056 | L13: =J13/$J$20 -> 0.2868096 | M13: =(J13-I13)/I13 -> -0.071804713 | O13: =(I13/C13)*10 -> 5.4635498 | P13: =(J13/D13)*10 -> 5.4177357 | Q13: =(P13-O13)/O13 -> -0.008385406
B14: Porto | C14: 268709.2 | D14: 249500.9 | E14: =C14/$C$20 -> 0.13279552 | F14: =D14/$D$20 -> 0.13703298 | G14: =(D14-C14)/C14 -> -0.071483596 | I14: 145893.64 | J14: 134345.14 | K14: =I14/$I$20 -> 0.27052408 | L14: =J14/$J$20 -> 0.26659566 | M14: =(J14-I14)/I14 -> -0.079157027 | O14: =(I14/C14)*10 -> 5.4294249 | P14: =(J14/D14)*10 -> 5.3845551 | Q14: =(P14-O14)/O14 -> -0.0082641845
B15: Madeira | C15: 13204.36 | D15: 13607.81 | E15: =C15/$C$20 -> 0.0065255671 | F15: =D15/$D$20 -> 0.0074737956 | G15: =(D15-C15)/C15 -> 0.030554302 | I15: 8599.896 | J15: 8799.754 | K15: =I15/$I$20 -> 0.015946404 | L15: =J15/$J$20 -> 0.017462309 | M15: =(J15-I15)/I15 -> 0.023239583 | O15: =(I15/C15)*10 -> 6.5129215 | P15: =(J15/D15)*10 -> 6.4666938 | Q15: =(P15-O15)/O15 -> -0.0070978486
B16: Outros | C16: 3088.69 | D16: 3666.05 | E16: =C16/$C$20 -> 0.0015264241 | F16: =D16/$D$20 -> 0.0020134987 | G16: =(D16-C16)/C16 -> 0.18692714 | I16: 1218.86 | J16: 1386.625 | K16: =I16/$I$20 -> 0.0022600778 | L16: =J16/$J$20 -> 0.0027516307 | M16: =(J16-I16)/I16 -> 0.13764091 | O16: =(I16/C16)*10 -> 3.9462037 | P16: =(J16/D16)*10 -> 3.7823407 | Q16: =(P16-O16)/O16 -> -0.041524228
A17: Vinho Licoroso sem DO / IG | C17: 1817.42 | D17: 1436.16 | E17: =C17/$C$20 -> 0.00089816516 | F17: =D17/$D$20 -> 0.00078877985 | G17: =(D17-C17)/C17 -> -0.2097809 | I17: 1051.246 | J17: 601.734 | K17: =I17/$I$20 -> 0.0019492786 | L17: =J17/$J$20 -> 0.0011940862 | M17: =(J17-I17)/I17 -> -0.42759925 | O17: =(I17/C17)*10 -> 5.7842766 | P17: =(J17/D17)*10 -> 4.1898814 | Q17: =(P17-O17)/O17 -> -0.27564298
A18: Vinhos Espumantes e Espumosos | C18: 9432.92 | D18: 9229.99 | E18: =C18/$C$20 -> 0.0046617293 | F18: =D18/$D$20 -> 0.0050693726 | G18: =(D18-C18)/C18 -> -0.021512957 | I18: 5735.08 | J18: 5714.637 | K18: =I18/$I$20 -> 0.010634303 | L18: =J18/$J$20 -> 0.011340175 | M18: =(J18-I18)/I18 -> -0.0035645536 | O18: =(I18/C18)*10 -> 6.0798565 | P18: =(J18/D18)*10 -> 6.1913794 | Q18: =(P18-O18)/O18 -> 0.018343016
A19: Outros Vinhos e Mostos | C19: 33122.31 | D19: 22081.05 | E19: =C19/$C$20 -> 0.016368976 | F19: =D19/$D$20 -> 0.01212754 | G19: =(D19-C19)/C19 -> -0.33334813 | I19: 5551.967 | J19: 4272.288 | K19: =I19/$I$20 -> 0.010294765 | L19: =J19/$J$20 -> 0.0084779655 | M19: =(J19-I19)/I19 -> -0.2304911 | O19: =(I19/C19)*10 -> 1.6762016 | P19: =(J19/D19)*10 -> 1.934821 | Q19: =(P19-O19)/O19 -> 0.15428896
A20: Total | C20: =C7+C10+C13+C17+C18+C19 -> 2023480.9 | D20: =D7+D10+D13+D17+D18+D19 -> 1820736.2 | E20: =E8+E9+E10+E13+E17+E18+E19 -> 1 | F20: =F8+F9+F10+F13+F17+F18+F19 -> 1 | G20: =(D20-C20)/C20 -> -0.100196 | I20: =I7+I10+I13+I17+I18+I19 -> 539300.03 | J20: =J7+J10+J13+J17+J18+J19 -> 503928.45 | K20: =K8+K9+K10+K13+K17+K18+K19 -> 1 | L20: =L8+L9+L10+L13+L17+L18+L19 -> 1 | M20: =(J20-I20)/I20 -> -0.065587951 | O20: =(I20/C20)*10 -> 2.6652095 | P20: =(J20/D20)*10 -> 2.7677181 | Q20: =(P20-O20)/O20 -> 0.03846176
A24: Intra UE | C24: HL | E24: Peso | G24: D | I24: 1000 | K24: Peso | M24: D | O24: Preço Médio (€ / l) | Q24: D
C25: =C5 -> jan-jul | E25: =C5 -> jan-jul | G25: =G5 -> 2026 /2025 | I25: =C5 -> jan-jul | K25: =C5 -> jan-jul | M25: =G5 -> 2026 /2025 | O25: =C5 -> jan-jul | Q25: =G5 -> 2026 /2025
C26: =C6 -> 2025 | D26: =D6 -> 2026 | E26: =C6 -> 2025 | F26: =D6 -> 2026 | G26: HL | I26: =C6 -> 2025 | J26: =D6 -> 2026 | K26: =C6 -> 2025 | L26: =D6 -> 2026 | M26: 1000 | O26: =C6 -> 2025 | P26: =D6 -> 2026
A27: Vinho Certificado | C27: =C28+C29 -> 362876.38 | D27: =D28+D29 -> 324043.61 | E27: =C27/$C$40 -> 0.39649608 | F27: =D27/$D$40 -> 0.43783415 | G27: =(D27-C27)/C27 -> -0.10701377 | I27: =I28+I29 -> 91621.201 | J27: =J28+J29 -> 81102.482 | K27: =I27/$I$40 -> 0.39228717 | L27: =J27/$J$40 -> 0.38118148 | M27: =(J27-I27)/I27 -> -0.1148066 | O27: =(I27/C27)*10 -> 2.5248599 | P27: =(J27/D27)*10 -> 2.5028261 | Q27: =(P27-O27)/O27 -> -0.0087267115
A28: Vinho com DO | C28: 179620.52 | D28: 165824.23 | E28: =C28/$C$40 -> 0.19626196 | F28: =D28/$D$40 -> 0.22405475 | G28: =(D28-C28)/C28 -> -0.076807984 | I28: 49419.114 | J28: 45739.745 | K28: =I28/$I$40 -> 0.21159387 | L28: =J28/$J$40 -> 0.2149767 | M28: =(J28-I28)/I28 -> -0.074452347 | O28: =(I28/C28)*10 -> 2.7513067 | P28: =(J28/D28)*10 -> 2.758327 | Q28: =(P28-O28)/O28 -> 0.0025516223
A29: Vinho com IG | C29: 183255.86 | D29: 158219.38 | E29: =C29/$C$40 -> 0.20023411 | F29: =D29/$D$40 -> 0.2137794 | G29: =(D29-C29)/C29 -> -0.13662035 | I29: 42202.087 | J29: 35362.737 | K29: =I29/$I$40 -> 0.1806933 | L29: =J29/$J$40 -> 0.16620478 | M29: =(J29-I29)/I29 -> -0.16206189 | O29: =(I29/C29)*10 -> 2.3029052 | P29: =(J29/D29)*10 -> 2.2350446 | Q29: =(P29-O29)/O29 -> -0.029467383
A30: Vinho (ex-mesa) | C30: =C31+C32 -> 310516.93 | D30: =D31+D32 -> 196107.91 | E30: =C30/$C$40 -> 0.33928564 | F30: =D30/$D$40 -> 0.26497279 | G30: =(D30-C30)/C30 -> -0.36844696 | I30: =I31+I32 -> 39266.715 | J30: =J31+J32 -> 35322.297 | K30: =I30/$I$40 -> 0.16812515 | L30: =J30/$J$40 -> 0.16601472 | M30: =(J30-I30)/I30 -> -0.10045195 | O30: =(I30/C30)*10 -> 1.2645596 | P30: =(J30/D30)*10 -> 1.8011664 | Q30: =(P30-O30)/O30 -> 0.42434285
B31: Vinho | C31: 306165.7 | D31: 191555.32 | E31: =C31/$C$40 -> 0.33453128 | F31: =D31/$D$40 -> 0.25882152 | G31: =(D31-C31)/C31 -> -0.37434102 | I31: 38313.329 | J31: 34407.392 | K31: =I31/$I$40 -> 0.16404312 | L31: =J31/$J$40 -> 0.16171466 | M31: =(J31-I31)/I31 -> -0.10194721 | O31: =(I31/C31)*10 -> 1.2513919 | P31: =(J31/D31)*10 -> 1.7962118 | Q31: =(P31-O31)/O31 -> 0.43537105
B32: Vinho com Indicação de Casta | C32: 4351.23 | D32: 4552.59 | E32: =C32/$C$40 -> 0.0047543618 | F32: =D32/$D$40 -> 0.0061512689 | G32: =(D32-C32)/C32 -> 0.04627657 | I32: 953.386 | J32: 914.905 | K32: =I32/$I$40 -> 0.0040820366 | L32: =J32/$J$40 -> 0.0043000514 | M32: =(J32-I32)/I32 -> -0.040362456 | O32: =(I32/C32)*10 -> 2.1910724 | P32: =(J32/D32)*10 -> 2.0096363 | Q32: =(P32-O32)/O32 -> -0.082807002
A33: Vinho Licoroso com DO / IG | C33: =SUM(C34:C36) -> 218315.28 | D33: =SUM(D34:D36) -> 205495.56 | E33: =C33/$C$40 -> 0.23854171 | F33: =D33/$D$40 -> 0.27765699 | G33: =(D33-C33)/C33 -> -0.05872113 | I33: =SUM(I34:I36) -> 98603.565 | J33: =SUM(J34:J36) -> 93320.934 | K33: =I33/$I$40 -> 0.422183 | L33: =J33/$J$40 -> 0.43860818 | M33: =(J33-I33)/I33 -> -0.053574442 | O33: =(I33/C33)*10 -> 4.5165673 | P33: =(J33/D33)*10 -> 4.5412628 | Q33: =(P33-O33)/O33 -> 0.0054677611
B34: Porto | C34: 208340.21 | D34: 194776.13 | E34: =C34/$C$40 -> 0.22764247 | F34: =D34/$D$40 -> 0.26317335 | G34: =(D34-C34)/C34 -> -0.065105435 | I34: 93930.942 | J34: 88397.448 | K34: =I34/$I$40 -> 0.4021766 | L34: =J34/$J$40 -> 0.41546781 | M34: =(J34-I34)/I34 -> -0.058910236 | O34: =(I34/C34)*10 -> 4.5085364 | P34: =(J34/D34)*10 -> 4.5384128 | Q34: =(P34-O34)/O34 -> 0.0066266281
B35: Madeira | C35: 7733.6 | D35: 8057.07 | E35: =C35/$C$40 -> 0.008450101 | F35: =D35/$D$40 -> 0.010886375 | G35: =(D35-C35)/C35 -> 0.041826575 | I35: 4022.736 | J35: 4208.908 | K35: =I35/$I$40 -> 0.017223827 | L35: =J35/$J$40 -> 0.019781858 | M35: =(J35-I35)/I35 -> 0.046279945 | O35: =(I35/C35)*10 -> 5.2016344 | P35: =(J35/D35)*10 -> 5.2238692 | Q35: =(P35-O35)/O35 -> 0.0042745789
B36: Outros | C36: 2241.47 | D36: 2662.36 | E36: =C36/$C$40 -> 0.0024491372 | F36: =D36/$D$40 -> 0.0035972693 | G36: =(D36-C36)/C36 -> 0.18777409 | I36: 649.887 | J36: 714.578 | K36: =I36/$I$40 -> 0.0027825692 | L36: =J36/$J$40 -> 0.003358515 | M36: =(J36-I36)/I36 -> 0.09954192 | O36: =(I36/C36)*10 -> 2.8993785 | P36: =(J36/D36)*10 -> 2.6840022 | Q36: =(P36-O36)/O36 -> -0.074283632
A37: Vinho Licoroso sem DO / IG | C37: 1238.76 | D37: 578.75 | E37: =C37/$C$40 -> 0.0013535284 | F37: =D37/$D$40 -> 0.00078198275 | G37: =(D37-C37)/C37 -> -0.53279893 | I37: 306.708 | J37: 157.522 | K37: =I37/$I$40 -> 0.0013132071 | L37: =J37/$J$40 -> 0.00074035304 | M37: =(J37-I37)/I37 -> -0.48641053 | O37: =(I37/C37)*10 -> 2.4759275 | P37: =(J37/D37)*10 -> 2.7217624 | Q37: =(P37-O37)/O37 -> 0.099290013
A38: Vinhos Espumantes e Espumosos | C38: 1617.9 | D38: 1517.77 | E38: =C38/$C$40 -> 0.0017677949 | F38: =D38/$D$40 -> 0.0020507472 | G38: =(D38-C38)/C38 -> -0.061888868 | I38: 591.008 | J38: 502.521 | K38: =I38/$I$40 -> 0.0025304717 | L38: =J38/$J$40 -> 0.0023618476 | M38: =(J38-I38)/I38 -> -0.14972217 | O38: =(I38/C38)*10 -> 3.6529328 | P38: =(J38/D38)*10 -> 3.3109167 | Q38: =(P38-O38)/O38 -> -0.093627821
A39: Outros Vinhos e Mostos | C39: 20642.75 | D39: 12362.24 | E39: =C39/$C$40 -> 0.022555255 | F39: =D39/$D$40 -> 0.016703341 | G39: =(D39-C39)/C39 -> -0.40113405 | I39: 3167.259 | J39: 2360.304 | K39: =I39/$I$40 -> 0.013561 | L39: =J39/$J$40 -> 0.011093423 | M39: =(J39-I39)/I39 -> -0.25478024 | O39: =(I39/C39)*10 -> 1.5343203 | P39: =(J39/D39)*10 -> 1.909285 | Q39: =(P39-O39)/O39 -> 0.24438494
A40: Total | C40: =C28+C29+C30+C33+C37+C38+C39 -> 915208 | D40: =D28+D29+D30+D33+D37+D38+D39 -> 740105.84 | E40: =C40/$C$40 -> 1 | F40: =D40/$D$40 -> 1 | G40: =(D40-C40)/C40 -> -0.19132499 | I40: =I28+I29+I30+I33+I37+I38+I39 -> 233556.46 | J40: =J28+J29+J30+J33+J37+J38+J39 -> 212766.06 | K40: =K28+K29+K30+K33+K37+K38+K39 -> 1 | L40: =L28+L29+L30+L33+L37+L38+L39 -> 1 | M40: =(J40-I40)/I40 -> -0.089016576 | O40: =(I40/C40)*10 -> 2.5519495 | P40: =(J40/D40)*10 -> 2.8748059 | Q40: =(P40-O40)/O40 -> 0.12651363
A44: Extra UE | C44: HL | E44: Peso | G44: D | I44: 1000 | K44: Peso | M44: D | O44: Preço Médio (€ / l) | Q44: D
C45: =C5 -> jan-jul | E45: =C25 -> jan-jul | G45: =G25 -> 2026 /2025 | I45: =C5 -> jan-jul | K45: =C25 -> jan-jul | M45: =G45 -> 2026 /2025 | O45: =C5 -> jan-jul | Q45: =Q25 -> 2026 /2025
C46: =C6 -> 2025 | D46: =D6 -> 2026 | E46: =C26 -> 2025 | F46: =D26 -> 2026 | G46: HL | I46: =C6 -> 2025 | J46: =D6 -> 2026 | K46: =C26 -> 2025 | L46: =D26 -> 2026 | M46: 1000 | O46: =O26 -> 2025 | P46: =P26 -> 2026
A47: Vinho Certificado | C47: =C48+C49 -> 586149.74 | D47: =D48+D49 -> 576087.21 | E47: =C47/$C$60 -> 0.52888577 | F47: =D47/$D$60 -> 0.53310294 | G47: =(D47-C47)/C47 -> -0.017167166 | I47: =I48+I49 -> 185084.62 | J47: =J48+J49 -> 179019.56 | K47: =I47/$I$60 -> 0.605359 | L47: =J47/$J$60 -> 0.61484438 | M47: =(J47-I47)/I47 -> -0.032769162 | O47: =(I47/C47)*10 -> 3.1576338 | P47: =(J47/D47)*10 -> 3.1075079 | Q47: =(P47-O47)/O47 -> -0.015874516
A48: Vinho com DO | C48: 311284.04 | D48: 289109.85 | E48: =C48/$C$60 -> 0.28087311 | F48: =D48/$D$60 -> 0.26753816 | G48: =(D48-C48)/C48 -> -0.071234587 | I48: 113365.63 | J48: 105080.5 | K48: =I48/$I$60 -> 0.37078665 | L48: =J48/$J$60 -> 0.36089998 | M48: =(J48-I48)/I48 -> -0.07308332 | O48: =(I48/C48)*10 -> 3.6418711 | P48: =(J48/D48)*10 -> 3.6346219 | Q48: =(P48-O48)/O48 -> -0.0019905277
A49: Vinho com IG | C49: 274865.7 | D49: 286977.36 | E49: =C49/$C$60 -> 0.24801266 | F49: =D49/$D$60 -> 0.26556478 | G49: =(D49-C49)/C49 -> 0.044063919 | I49: 71718.989 | J49: 73939.058 | K49: =I49/$I$60 -> 0.23457235 | L49: =J49/$J$60 -> 0.2539444 | M49: =(J49-I49)/I49 -> 0.030955107 | O49: =(I49/C49)*10 -> 2.6092375 | P49: =(J49/D49)*10 -> 2.576477 | Q49: =(P49-O49)/O49 -> -0.012555565
A50: Vinho (ex-mesa) | C50: =C51+C52 -> 434562.9 | D50: =D51+D52 -> 424975.48 | E50: =C50/$C$60 -> 0.39210822 | F50: =D50/$D$60 -> 0.39326629 | G50: =(D50-C50)/C50 -> -0.022062215 | I50: =I51+I52 -> 55276.799 | J50: =J51+J52 -> 53363.938 | K50: =I50/$I$60 -> 0.18079464 | L50: =J50/$J$60 -> 0.18327896 | M50: =(J50-I50)/I50 -> -0.034605133 | O50: =(I50/C50)*10 -> 1.2720092 | P50: =(J50/D50)*10 -> 1.2556945 | Q50: =(P50-O50)/O50 -> -0.012825886
B51: Vinho | C51: 427037.27 | D51: 416850.43 | E51: =C51/$C$60 -> 0.38531781 | F51: =D51/$D$60 -> 0.38574748 | G51: =(D51-C51)/C51 -> -0.023854686 | I51: 53411.468 | J51: 51298.364 | K51: =I51/$I$60 -> 0.17469367 | L51: =J51/$J$60 -> 0.17618472 | M51: =(J51-I51)/I51 -> -0.03956274 | O51: =(I51/C51)*10 -> 1.2507449 | P51: =(J51/D51)*10 -> 1.230618 | Q51: =(P51-O51)/O51 -> -0.016091921
B52: Vinho com Indicação de Casta | C52: 7525.63 | D52: 8125.05 | E52: =C52/$C$60 -> 0.0067904127 | F52: =D52/$D$60 -> 0.0075188062 | G52: =(D52-C52)/C52 -> 0.079650474 | I52: 1865.331 | J52: 2065.574 | K52: =I52/$I$60 -> 0.0061009655 | L52: =J52/$J$60 -> 0.0070942337 | M52: =(J52-I52)/I52 -> 0.10734985 | O52: =(I52/C52)*10 -> 2.4786377 | P52: =(J52/D52)*10 -> 2.5422293 | Q52: =(P52-O52)/O52 -> 0.025655872
A53: Vinho Licoroso com DO / IG | C53: =SUM(C54:C56) -> 66686.97 | D53: =SUM(D54:D56) -> 61279.2 | E53: =C53/$C$60 -> 0.060171978 | F53: =D53/$D$60 -> 0.056706904 | G53: =(D53-C53)/C53 -> -0.081091853 | I53: =SUM(I54:I56) -> 57108.833 | J53: =SUM(J54:J56) -> 51210.58 | K53: =I53/$I$60 -> 0.1867867 | L53: =J53/$J$60 -> 0.17588323 | M53: =(J53-I53)/I53 -> -0.10328092 | O53: =(I53/C53)*10 -> 8.5637169 | P53: =(J53/D53)*10 -> 8.356927 | Q53: =(P53-O53)/O53 -> -0.024147212
B54: Porto | C54: 60368.99 | D54: 54724.77 | E54: =C54/$C$60 -> 0.054471234 | F54: =D54/$D$60 -> 0.050641527 | G54: =(D54-C54)/C54 -> -0.093495352 | I54: 51962.7 | J54: 45947.687 | K54: =I54/$I$60 -> 0.16995517 | L54: =J54/$J$60 -> 0.15780777 | M54: =(J54-I54)/I54 -> -0.11575636 | O54: =(I54/C54)*10 -> 8.6075152 | P54: =(J54/D54)*10 -> 8.3961407 | Q54: =(P54-O54)/O54 -> -0.02455697
B55: Madeira | C55: 5470.76 | D55: 5550.74 | E55: =C55/$C$60 -> 0.0049362934 | F55: =D55/$D$60 -> 0.0051365762 | G55: =(D55-C55)/C55 -> 0.014619541 | I55: 4577.16 | J55: 4590.846 | K55: =I55/$I$60 -> 0.014970584 | L55: =J55/$J$60 -> 0.015767305 | M55: =(J55-I55)/I55 -> 0.0029900637 | O55: =(I55/C55)*10 -> 8.3665889 | P55: =(J55/D55)*10 -> 8.2706918 | Q55: =(P55-O55)/O55 -> -0.011461909
B56: Outros | C56: 847.22 | D56: 1003.69 | E56: =C56/$C$60 -> 0.00076445074 | F56: =D56/$D$60 -> 0.00092880051 | G56: =(D56-C56)/C56 -> 0.18468639 | I56: 568.973 | J56: 672.047 | K56: =I56/$I$60 -> 0.0018609484 | L56: =J56/$J$60 -> 0.0023081519 | M56: =(J56-I56)/I56 -> 0.18115798 | O56: =(I56/C56)*10 -> 6.7157645 | P56: =(J56/D56)*10 -> 6.6957626 | Q56: =(P56-O56)/O56 -> -0.0029783451
A57: Vinho Licoroso sem DO / IG | C57: 578.66 | D57: 857.41 | E57: =C57/$C$60 -> 0.00052212774 | F57: =D57/$D$60 -> 0.00079343507 | G57: =(D57-C57)/C57 -> 0.48171638 | I57: 744.538 | J57: 444.212 | K57: =I57/$I$60 -> 0.0024351714 | L57: =J57/$J$60 -> 0.0015256504 | M57: =(J57-I57)/I57 -> -0.40337229 | O57: =(I57/C57)*10 -> 12.866588 | P57: =(J57/D57)*10 -> 5.1808586 | Q57: =(P57-O57)/O57 -> -0.59734014
A58: Vinhos Espumantes e Espumosos | C58: 7815.02 | D58: 7712.22 | E58: =C58/$C$60 -> 0.0070515307 | F58: =D58/$D$60 -> 0.0071367791 | G58: =(D58-C58)/C58 -> -0.013154157 | I58: 5144.072 | J58: 5212.116 | K58: =I58/$I$60 -> 0.016824792 | L58: =J58/$J$60 -> 0.017901062 | M58: =(J58-I58)/I58 -> 0.013227653 | O58: =(I58/C58)*10 -> 6.582289 | P58: =(J58/D58)*10 -> 6.7582564 | Q58: =(P58-O58)/O58 -> 0.026733466
A59: Outros Vinhos e Mostos | C59: 12479.56 | D59: 9718.81 | E59: =C59/$C$60 -> 0.011260368 | F59: =D59/$D$60 -> 0.0089936491 | G59: =(D59-C59)/C59 -> -0.22122174 | I59: 2384.708 | J59: 1911.984 | K59: =I59/$I$60 -> 0.0077996995 | L59: =J59/$J$60 -> 0.0065667273 | M59: =(J59-I59)/I59 -> -0.1982314 | O59: =(I59/C59)*10 -> 1.9108911 | P59: =(J59/D59)*10 -> 1.9673026 | Q59: =(P59-O59)/O59 -> 0.02952104
A60: Total | C60: =C48+C49+C50+C53+C57+C58+C59 -> 1108272.9 | D60: =D48+D49+D50+D53+D57+D58+D59 -> 1080630.3 | E60: =E48+E49+E50+E53+E57+E58+E59 -> 1 | F60: =F48+F49+F50+F53+F57+F58+F59 -> 1 | G60: =(D60-C60)/C60 -> -0.024941981 | I60: =I48+I49+I50+I53+I57+I58+I59 -> 305743.57 | J60: =J48+J49+J50+J53+J57+J58+J59 -> 291162.39 | K60: =K48+K49+K50+K53+K57+K58+K59 -> 1 | L60: =L48+L49+L50+L53+L57+L58+L59 -> 1 | M60: =(J60-I60)/I60 -> -0.047690906 | O60: =(I60/C60)*10 -> 2.7587392 | P60: =(J60/D60)*10 -> 2.6943755 | Q60: =(P60-O60)/O60 -> -0.023330843

Sheet 5
A1: Exportações por Tipo de Produto - julho 2026 vs julho 2025
A4: Intra + Extra UE | C4: HL | E4: Peso | G4: D | I4: 1000 | K4: Peso | M4: D | O4: Preço Médio (€ / l) | Q4: D
C5: julho | E5: =C5 -> julho | G5: 2026 /2025 | I5: =C5 -> julho | K5: =C5 -> julho | M5: =G5 -> 2026 /2025 | O5: =C5 -> julho | Q5: =G5 -> 2026 /2025
C6: 2025 | D6: 2026 | E6: =C6 -> 2025 | F6: =D6 -> 2026 | G6: HL | I6: =C6 -> 2025 | J6: =D6 -> 2026 | K6: =E6 -> 2025 | L6: =D6 -> 2026 | M6: 1000 | O6: =C6 -> 2025 | P6: =D6 -> 2026
A7: Vinho Certificado | C7: =C8+C9 -> 159057.38 | D7: =D8+D9 -> 148240.69 | E7: =C7/$C$20 -> 0.47829109 | F7: =D7/$D$20 -> 0.5077451 | G7: =(D7-C7)/C7 -> -0.068004955 | I7: =I8+I9 -> 45291.915 | J7: =J8+J9 -> 42995.326 | K7: =I7/$I$20 -> 0.50636468 | L7: =J7/$J$20 -> 0.51671671 | M7: =(J7-I7)/I7 -> -0.050706379 | O7: =(I7/C7)*10 -> 2.8475205 | P7: =(J7/D7)*10 -> 2.9003728 | Q7: =(P7-O7)/O7 -> 0.018560803
A8: Vinho com DO | C8: 82745.67 | D8: 73975.23 | E8: =C8/$C$20 -> 0.24881911 | F8: =D8/$D$20 -> 0.25337551 | G8: =(D8-C8)/C8 -> -0.10599274 | I8: 26807.962 | J8: 24440.787 | K8: =I8/$I$20 -> 0.29971365 | L8: =J8/$J$20 -> 0.29372874 | M8: =(J8-I8)/I8 -> -0.088301192 | O8: =(I8/C8)*10 -> 3.2398024 | P8: =(J8/D8)*10 -> 3.303915 | Q8: =(P8-O8)/O8 -> 0.019789039
A9: Vinho com IG | C9: 76311.71 | D9: 74265.46 | E9: =C9/$C$20 -> 0.22947197 | F9: =D9/$D$20 -> 0.25436959 | G9: =(D9-C9)/C9 -> -0.026814364 | I9: 18483.953 | J9: 18554.539 | K9: =I9/$I$20 -> 0.20665103 | L9: =J9/$J$20 -> 0.22298797 | M9: =(J9-I9)/I9 -> 0.0038187719 | O9: =(I9/C9)*10 -> 2.4221647 | P9: =(J9/D9)*10 -> 2.4984076 | Q9: =(P9-O9)/O9 -> 0.031477177
A10: Vinho (ex-mesa) | C10: =C11+C12 -> 120920.6 | D10: =D11+D12 -> 94835.3 | E10: =C10/$C$20 -> 0.36361246 | F10: =D10/$D$20 -> 0.32482417 | G10: =(D10-C10)/C10 -> -0.21572255 | I10: =I11+I12 -> 16213.599 | J10: =J11+J12 -> 13781.686 | K10: =I10/$I$20 -> 0.18126842 | L10: =J10/$J$20 -> 0.16562795 | M10: =(J10-I10)/I10 -> -0.14999218 | O10: =(I10/C10)*10 -> 1.3408467 | P10: =(J10/D10)*10 -> 1.4532232 | Q10: =(P10-O10)/O10 -> 0.083810101
B11: Vinho | C11: 118159.79 | D11: 93241.2 | E11: =C11/$C$20 -> 0.35531061 | F11: =D11/$D$20 -> 0.31936415 | G11: =(D11-C11)/C11 -> -0.21088892 | I11: 15627.185 | J11: 13379.385 | K11: =I11/$I$20 -> 0.1747123 | L11: =J11/$J$20 -> 0.1607931 | M11: =(J11-I11)/I11 -> -0.14383909 | O11: =(I11/C11)*10 -> 1.3225468 | P11: =(J11/D11)*10 -> 1.434922 | Q11: =(P11-O11)/O11 -> 0.084968811
B12: Vinho com Indicação de Casta | C12: 2760.81 | D12: 1594.1 | E12: =C12/$C$20 -> 0.0083018519 | F12: =D12/$D$20 -> 0.0054600155 | G12: =(D12-C12)/C12 -> -0.42259699 | I12: 586.414 | J12: 402.301 | K12: =I12/$I$20 -> 0.0065561223 | L12: =J12/$J$20 -> 0.004834843 | M12: =(J12-I12)/I12 -> -0.3139642 | O12: =(I12/C12)*10 -> 2.124065 | P12: =(J12/D12)*10 -> 2.5236873 | Q12: =(P12-O12)/O12 -> 0.18814034
A13: Vinho Licoroso com DO / IG | C13: =SUM(C14:C16) -> 44887.72 | D13: =SUM(D14:D16) -> 42739.72 | E13: =C13/$C$20 -> 0.13497894 | F13: =D13/$D$20 -> 0.14638952 | G13: =(D13-C13)/C13 -> -0.047852731 | I13: =SUM(I14:I16) -> 25608.576 | J13: =SUM(J14:J16) -> 24649.668 | K13: =I13/$I$20 -> 0.28630448 | L13: =J13/$J$20 -> 0.29623907 | M13: =(J13-I13)/I13 -> -0.0374448 | O13: =(I13/C13)*10 -> 5.7050293 | P13: =(J13/D13)*10 -> 5.7673911 | Q13: =(P13-O13)/O13 -> 0.01093101
B14: Porto | C14: 42574.31 | D14: 40227.42 | E14: =C14/$C$20 -> 0.12802243 | F14: =D14/$D$20 -> 0.13778454 | G14: =(D14-C14)/C14 -> -0.055124558 | I14: 24124.634 | J14: 22969.247 | K14: =I14/$I$20 -> 0.26971398 | L14: =J14/$J$20 -> 0.27604382 | M14: =(J14-I14)/I14 -> -0.047892416 | O14: =(I14/C14)*10 -> 5.6664768 | P14: =(J14/D14)*10 -> 5.7098484 | Q14: =(P14-O14)/O14 -> 0.007654069
B15: Madeira | C15: 1709.03 | D15: 2042.58 | E15: =C15/$C$20 -> 0.0051391128 | F15: =D15/$D$20 -> 0.0069961222 | G15: =(D15-C15)/C15 -> 0.19516919 | I15: 1235.458 | J15: 1477.503 | K15: =I15/$I$20 -> 0.01381245 | L15: =J15/$J$20 -> 0.017756593 | M15: =(J15-I15)/I15 -> 0.1959152 | O15: =(I15/C15)*10 -> 7.2290012 | P15: =(J15/D15)*10 -> 7.2335135 | Q15: =(P15-O15)/O15 -> 0.00062418738
B16: Outros | C16: 604.38 | D16: 469.72 | E16: =C16/$C$20 -> 0.0018173917 | F16: =D16/$D$20 -> 0.0016088567 | G16: =(D16-C16)/C16 -> -0.22280684 | I16: 248.484 | J16: 202.918 | K16: =I16/$I$20 -> 0.002778057 | L16: =J16/$J$20 -> 0.0024386633 | M16: =(J16-I16)/I16 -> -0.18337599 | O16: =(I16/C16)*10 -> 4.1113869 | P16: =(J16/D16)*10 -> 4.3199779 | Q16: =(P16-O16)/O16 -> 0.050734944
A17: Vinho Licoroso sem DO / IG | C17: 764.6 | D17: 277.21 | E17: =C17/$C$20 -> 0.0022991789 | F17: =D17/$D$20 -> 0.00094948302 | G17: =(D17-C17)/C17 -> -0.63744442 | I17: 324.913 | J17: 114.433 | K17: =I17/$I$20 -> 0.003632535 | L17: =J17/$J$20 -> 0.0013752528 | M17: =(J17-I17)/I17 -> -0.64780418 | O17: =(I17/C17)*10 -> 4.2494507 | P17: =(J17/D17)*10 -> 4.1280257 | Q17: =(P17-O17)/O17 -> -0.028574283
A18: Vinhos Espumantes e Espumosos | C18: 2460.15 | D18: 1551.13 | E18: =C18/$C$20 -> 0.0073977568 | F18: =D18/$D$20 -> 0.0053128372 | G18: =(D18-C18)/C18 -> -0.36949779 | I18: 1203.138 | J18: 892.192 | K18: =I18/$I$20 -> 0.013451111 | L18: =J18/$J$20 -> 0.01072234 | M18: =(J18-I18)/I18 -> -0.25844583 | O18: =(I18/C18)*10 -> 4.8905067 | P18: =(J18/D18)*10 -> 5.7518841 | Q18: =(P18-O18)/O18 -> 0.17613255
A19: Outros Vinhos e Mostos | C19: 4463.06 | D19: 4314.83 | E19: =C19/$C$20 -> 0.013420577 | F19: =D19/$D$20 -> 0.014778896 | G19: =(D19-C19)/C19 -> -0.033212639 | I19: 803.109 | J19: 775.395 | K19: =I19/$I$20 -> 0.0089787775 | L19: =J19/$J$20 -> 0.009318677 | M19: =(J19-I19)/I19 -> -0.034508392 | O19: =(I19/C19)*10 -> 1.7994582 | P19: =(J19/D19)*10 -> 1.7970465 | Q19: =(P19-O19)/O19 -> -0.0013402667
A20: Total | C20: 332553.51 | D20: 291958.88 | E20: =E8+E9+E10+E13+E17+E18+E19 -> 1 | F20: =F8+F9+F10+F13+F17+F18+F19 -> 1 | G20: =(D20-C20)/C20 -> -0.12206947 | I20: 89445.25 | J20: 83208.7 | K20: =K8+K9+K10+K13+K17+K18+K19 -> 1 | L20: =L8+L9+L10+L13+L17+L18+L19 -> 1 | M20: =(J20-I20)/I20 -> -0.069724776 | O20: =(I20/C20)*10 -> 2.6896499 | P20: =(J20/D20)*10 -> 2.8500144 | Q20: =(P20-O20)/O20 -> 0.059622818
A24: Intra UE | C24: HL | E24: Peso | G24: D | I24: 1000 | K24: Peso | M24: D | O24: Preço Médio (€ / l) | Q24: D
C25: =C5 -> julho | E25: =C5 -> julho | G25: =G5 -> 2026 /2025 | I25: =C5 -> julho | K25: =C5 -> julho | M25: =G5 -> 2026 /2025 | O25: =C5 -> julho | Q25: =G5 -> 2026 /2025
C26: =C6 -> 2025 | D26: =D6 -> 2026 | E26: =C6 -> 2025 | F26: =D6 -> 2026 | G26: HL | I26: =C6 -> 2025 | J26: =D6 -> 2026 | K26: =C6 -> 2025 | L26: =D6 -> 2026 | M26: 1000 | O26: =C6 -> 2025 | P26: =D6 -> 2026
A27: Vinho Certificado | C27: =C28+C29 -> 49052.84 | D27: =D28+D29 -> 50265.04 | E27: =C27/$C$40 -> 0.41683438 | F27: =D27/$D$40 -> 0.43622756 | G27: =(D27-C27)/C27 -> 0.024712127 | I27: =I28+I29 -> 12480.077 | J27: =J28+J29 -> 12414.651 | K27: =I27/$I$40 -> 0.37960172 | L27: =J27/$J$40 -> 0.3739087 | M27: =(J27-I27)/I27 -> -0.0052424356 | O27: =(I27/C27)*10 -> 2.5442109 | P27: =(J27/D27)*10 -> 2.4698381 | Q27: =(P27-O27)/O27 -> -0.029232173
A28: Vinho com DO | C28: 24948.31 | D28: 26080.27 | E28: =C28/$C$40 -> 0.21200227 | F28: =D28/$D$40 -> 0.22633887 | G28: =(D28-C28)/C28 -> 0.045372212 | I28: 7070.793 | J28: 7003.414 | K28: =I28/$I$40 -> 0.2150696 | L28: =J28/$J$40 -> 0.21093122 | M28: =(J28-I28)/I28 -> -0.0095291999 | O28: =(I28/C28)*10 -> 2.8341771 | P28: =(J28/D28)*10 -> 2.6853303 | Q28: =(P28-O28)/O28 -> -0.05251853
A29: Vinho com IG | C29: 24104.53 | D29: 24184.77 | E29: =C29/$C$40 -> 0.20483211 | F29: =D29/$D$40 -> 0.20988868 | G29: =(D29-C29)/C29 -> 0.0033288349 | I29: 5409.284 | J29: 5411.237 | K29: =I29/$I$40 -> 0.16453212 | L29: =J29/$J$40 -> 0.16297749 | M29: =(J29-I29)/I29 -> 0.00036104594 | O29: =(I29/C29)*10 -> 2.2440944 | P29: =(J29/D29)*10 -> 2.2374565 | Q29: =(P29-O29)/O29 -> -0.0029579424
A30: Vinho (ex-mesa) | C30: =C31+C32 -> 32711.76 | D30: =D31+D32 -> 30140.91 | E30: =C30/$C$40 -> 0.27797343 | F30: =D30/$D$40 -> 0.26157933 | G30: =(D30-C30)/C30 -> -0.078591002 | I30: =I31+I32 -> 5008.759 | J30: =J31+J32 -> 5411.957 | K30: =I30/$I$40 -> 0.1523495 | L30: =J30/$J$40 -> 0.16299917 | M30: =(J30-I30)/I30 -> 0.080498583 | O30: =(I30/C30)*10 -> 1.5311799 | P30: =(J30/D30)*10 -> 1.795552 | Q30: =(P30-O30)/O30 -> 0.17265903
B31: Vinho | C31: 32125.14 | D31: 29570.51 | E31: =C31/$C$40 -> 0.27298853 | F31: =D31/$D$40 -> 0.25662909 | G31: =(D31-C31)/C31 -> -0.07952121 | I31: 4882.103 | J31: 5297.34 | K31: =I31/$I$40 -> 0.14849706 | L31: =J31/$J$40 -> 0.1595471 | M31: =(J31-I31)/I31 -> 0.085052896 | O31: =(I31/C31)*10 -> 1.5197142 | P31: =(J31/D31)*10 -> 1.7914267 | Q31: =(P31-O31)/O31 -> 0.17879185
B32: Vinho com Indicação de Casta | C32: 586.62 | D32: 570.4 | E32: =C32/$C$40 -> 0.0049848975 | F32: =D32/$D$40 -> 0.0049502437 | G32: =(D32-C32)/C32 -> -0.027649927 | I32: 126.656 | J32: 114.617 | K32: =I32/$I$40 -> 0.003852447 | L32: =J32/$J$40 -> 0.003452074 | M32: =(J32-I32)/I32 -> -0.095052741 | O32: =(I32/C32)*10 -> 2.1590808 | P32: =(J32/D32)*10 -> 2.0094144 | Q32: =(P32-O32)/O32 -> -0.069319493
A33: Vinho Licoroso com DO / IG | C33: =SUM(C34:C36) -> 32536.25 | D33: =SUM(D34:D36) -> 31630.58 | E33: =C33/$C$40 -> 0.276482 | F33: =D33/$D$40 -> 0.2745075 | G33: =(D33-C33)/C33 -> -0.027835722 | I33: =SUM(I34:I36) -> 14708.785 | J33: =SUM(J34:J36) -> 14761.853 | K33: =I33/$I$40 -> 0.44739148 | L33: =J33/$J$40 -> 0.44460254 | M33: =(J33-I33)/I33 -> 0.0036079119 | O33: =(I33/C33)*10 -> 4.5207376 | P33: =(J33/D33)*10 -> 4.6669562 | Q33: =(P33-O33)/O33 -> 0.032343951
B34: Porto | C34: 31191.85 | D34: 30305.31 | E34: =C34/$C$40 -> 0.26505775 | F34: =D34/$D$40 -> 0.26300608 | G34: =(D34-C34)/C34 -> -0.028422168 | I34: 13984.704 | J34: 14068.948 | K34: =I34/$I$40 -> 0.42536739 | L34: =J34/$J$40 -> 0.42373339 | M34: =(J34-I34)/I34 -> 0.0060240102 | O34: =(I34/C34)*10 -> 4.4834481 | P34: =(J34/D34)*10 -> 4.6424036 | Q34: =(P34-O34)/O34 -> 0.035453854
B35: Madeira | C35: 927.82 | D35: 930.04 | E35: =C35/$C$40 -> 0.0078842993 | F35: =D35/$D$40 -> 0.0080713967 | G35: =(D35-C35)/C35 -> 0.0023927055 | I35: 584.836 | J35: 588.665 | K35: =I35/$I$40 -> 0.017788733 | L35: =J35/$J$40 -> 0.017729614 | M35: =(J35-I35)/I35 -> 0.0065471346 | O35: =(I35/C35)*10 -> 6.3033347 | P35: =(J35/D35)*10 -> 6.3294589 | Q35: =(P35-O35)/O35 -> 0.0041445125
B36: Outros | C36: 416.58 | D36: 395.23 | E36: =C36/$C$40 -> 0.0035399554 | F36: =D36/$D$40 -> 0.0034300225 | G36: =(D36-C36)/C36 -> -0.05125066 | I36: 139.245 | J36: 104.24 | K36: =I36/$I$40 -> 0.0042353618 | L36: =J36/$J$40 -> 0.003139536 | M36: =(J36-I36)/I36 -> -0.25139143 | O36: =(I36/C36)*10 -> 3.3425753 | P36: =(J36/D36)*10 -> 2.6374516 | Q36: =(P36-O36)/O36 -> -0.21095221
A37: Vinho Licoroso sem DO / IG | C37: 489.15 | D37: 250.42 | E37: =C37/$C$40 -> 0.0041566306 | F37: =D37/$D$40 -> 0.002173282 | G37: =(D37-C37)/C37 -> -0.4880507 | I37: 120.646 | J37: 64.086 | K37: =I37/$I$40 -> 0.0036696432 | L37: =J37/$J$40 -> 0.0019301641 | M37: =(J37-I37)/I37 -> -0.46880958 | O37: =(I37/C37)*10 -> 2.4664418 | P37: =(J37/D37)*10 -> 2.5591406 | Q37: =(P37-O37)/O37 -> 0.037584044
A38: Vinhos Espumantes e Espumosos | C38: 276.19 | D38: 448.92 | E38: =C38/$C$40 -> 0.0023469688 | F38: =D38/$D$40 -> 0.0038959737 | G38: =(D38-C38)/C38 -> 0.6254028 | I38: 85.706 | J38: 113.542 | K38: =I38/$I$40 -> 0.0026068866 | L38: =J38/$J$40 -> 0.0034196968 | M38: =(J38-I38)/I38 -> 0.32478473 | O38: =(I38/C38)*10 -> 3.1031536 | P38: =(J38/D38)*10 -> 2.5292257 | Q38: =(P38-O38)/O38 -> -0.18494989
A39: Outros Vinhos e Mostos | C39: 2613.26 | D39: 2490.78 | E39: =C39/$C$40 -> 0.022206596 | F39: =D39/$D$40 -> 0.021616354 | G39: =(D39-C39)/C39 -> -0.046868662 | I39: 472.793 | J39: 436.27 | K39: =I39/$I$40 -> 0.014380764 | L39: =J39/$J$40 -> 0.013139729 | M39: =(J39-I39)/I39 -> -0.077249452 | O39: =(I39/C39)*10 -> 1.8092077 | P39: =(J39/D39)*10 -> 1.7515397 | Q39: =(P39-O39)/O39 -> -0.031874715
A40: Total | C40: =C28+C29+C30+C33+C37+C38+C39 -> 117679.45 | D40: =D28+D29+D30+D33+D37+D38+D39 -> 115226.65 | E40: =C40/$C$40 -> 1 | F40: =D40/$D$40 -> 1 | G40: =(D40-C40)/C40 -> -0.020843061 | I40: =I28+I29+I30+I33+I37+I38+I39 -> 32876.766 | J40: =J28+J29+J30+J33+J37+J38+J39 -> 33202.359 | K40: =K28+K29+K30+K33+K37+K38+K39 -> 1 | L40: =L28+L29+L30+L33+L37+L38+L39 -> 1 | M40: =(J40-I40)/I40 -> 0.0099034376 | O40: =(I40/C40)*10 -> 2.7937559 | P40: =(J40/D40)*10 -> 2.8814826 | Q40: =(P40-O40)/O40 -> 0.031400992
A44: Extra UE | C44: HL | E44: Peso | G44: D | I44: 1000 | K44: Peso | M44: D | O44: Preço Médio (€ / l) | Q44: D
C45: =C5 -> julho | E45: =C25 -> julho | G45: =G25 -> 2026 /2025 | I45: =C5 -> julho | K45: =C25 -> julho | M45: =G45 -> 2026 /2025 | O45: =C5 -> julho | Q45: =Q25 -> 2026 /2025
C46: =C6 -> 2025 | D46: =D6 -> 2026 | E46: =C26 -> 2025 | F46: =D26 -> 2026 | G46: HL | I46: =C6 -> 2025 | J46: =D6 -> 2026 | K46: =C26 -> 2025 | L46: =D26 -> 2026 | M46: 1000 | O46: =O26 -> 2025 | P46: =P26 -> 2026
A47: Vinho Certificado | C47: =C48+C49 -> 110004.54 | D47: =D48+D49 -> 97975.65 | E47: =C47/$C$60 -> 0.51194891 | F47: =D47/$D$60 -> 0.55437342 | G47: =(D47-C47)/C47 -> -0.10934903 | I47: =I48+I49 -> 32811.838 | J47: =J48+J49 -> 30580.675 | K47: =I47/$I$60 -> 0.58003743 | L47: =J47/$J$60 -> 0.61153595 | M47: =(J47-I47)/I47 -> -0.06799872 | O47: =(I47/C47)*10 -> 2.9827713 | P47: =(J47/D47)*10 -> 3.1212526 | Q47: =(P47-O47)/O47 -> 0.046427067
A48: Vinho com DO | C48: 57797.36 | D48: 47894.96 | E48: =C48/$C$60 -> 0.26898249 | F48: =D48/$D$60 -> 0.27100297 | G48: =(D48-C48)/C48 -> -0.17132962 | I48: 19737.169 | J48: 17437.373 | K48: =I48/$I$60 -> 0.34890751 | L48: =J48/$J$60 -> 0.34870324 | M48: =(J48-I48)/I48 -> -0.11652107 | O48: =(I48/C48)*10 -> 3.4148911 | P48: =(J48/D48)*10 -> 3.6407532 | Q48: =(P48-O48)/O48 -> 0.06614036
A49: Vinho com IG | C49: 52207.18 | D49: 50080.69 | E49: =C49/$C$60 -> 0.24296641 | F49: =D49/$D$60 -> 0.28337044 | G49: =(D49-C49)/C49 -> -0.040731754 | I49: 13074.669 | J49: 13143.302 | K49: =I49/$I$60 -> 0.23112992 | L49: =J49/$J$60 -> 0.26283271 | M49: =(J49-I49)/I49 -> 0.0052493107 | O49: =(I49/C49)*10 -> 2.5043814 | P49: =(J49/D49)*10 -> 2.6244251 | Q49: =(P49-O49)/O49 -> 0.047933479
A50: Vinho (ex-mesa) | C50: =C51+C52 -> 88208.84 | D50: =D51+D52 -> 64694.39 | E50: =C50/$C$60 -> 0.41051414 | F50: =D50/$D$60 -> 0.36605881 | G50: =(D50-C50)/C50 -> -0.26657702 | I50: =I51+I52 -> 11204.84 | J50: =J51+J52 -> 8369.729 | K50: =I50/$I$60 -> 0.19807566 | L50: =J50/$J$60 -> 0.16737335 | M50: =(J50-I50)/I50 -> -0.25302557 | O50: =(I50/C50)*10 -> 1.2702627 | P50: =(J50/D50)*10 -> 1.2937334 | Q50: =(P50-O50)/O50 -> 0.018476999
B51: Vinho | C51: 86034.65 | D51: 63670.69 | E51: =C51/$C$60 -> 0.4003957 | F51: =D51/$D$60 -> 0.36026643 | G51: =(D51-C51)/C51 -> -0.25994131 | I51: 10745.082 | J51: 8082.045 | K51: =I51/$I$60 -> 0.18994821 | L51: =J51/$J$60 -> 0.1616204 | M51: =(J51-I51)/I51 -> -0.24783775 | O51: =(I51/C51)*10 -> 1.2489249 | P51: =(J51/D51)*10 -> 1.2693509 | Q51: =(P51-O51)/O51 -> 0.016354864
B52: Vinho com Indicação de Casta | C52: 2174.19 | D52: 1023.7 | E52: =C52/$C$60 -> 0.010118439 | F52: =D52/$D$60 -> 0.0057923787 | G52: =(D52-C52)/C52 -> -0.52915799 | I52: 459.758 | J52: 287.684 | K52: =I52/$I$60 -> 0.0081274584 | L52: =J52/$J$60 -> 0.0057529504 | M52: =(J52-I52)/I52 -> -0.37427081 | O52: =(I52/C52)*10 -> 2.1146174 | P52: =(J52/D52)*10 -> 2.8102374 | Q52: =(P52-O52)/O52 -> 0.32895784
A53: Vinho Licoroso com DO / IG | C53: =SUM(C54:C56) -> 12351.47 | D53: =SUM(D54:D56) -> 11109.14 | E53: =C53/$C$60 -> 0.057482369 | F53: =D53/$D$60 -> 0.062858597 | G53: =(D53-C53)/C53 -> -0.10058155 | I53: =SUM(I54:I56) -> 10899.791 | J53: =SUM(J54:J56) -> 9887.815 | K53: =I53/$I$60 -> 0.1926831 | L53: =J53/$J$60 -> 0.19773122 | M53: =(J53-I53)/I53 -> -0.092843615 | O53: =(I53/C53)*10 -> 8.8246913 | P53: =(J53/D53)*10 -> 8.9006125 | Q53: =(P53-O53)/O53 -> 0.0086032649
B54: Porto | C54: 11382.46 | D54: 9922.11 | E54: =C54/$C$60 -> 0.052972704 | F54: =D54/$D$60 -> 0.056142052 | G54: =(D54-C54)/C54 -> -0.12829828 | I54: 10139.93 | J54: 8900.299 | K54: =I54/$I$60 -> 0.17925052 | L54: =J54/$J$60 -> 0.17798341 | M54: =(J54-I54)/I54 -> -0.12225242 | O54: =(I54/C54)*10 -> 8.9083818 | P54: =(J54/D54)*10 -> 8.9701676 | Q54: =(P54-O54)/O54 -> 0.0069356919
B55: Madeira | C55: 781.21 | D55: 1112.54 | E55: =C55/$C$60 -> 0.0036356645 | F55: =D55/$D$60 -> 0.00629506 | G55: =(D55-C55)/C55 -> 0.42412412 | I55: 650.622 | J55: 888.838 | K55: =I55/$I$60 -> 0.011501493 | L55: =J55/$J$60 -> 0.017774506 | M55: =(J55-I55)/I55 -> 0.36613579 | O55: =(I55/C55)*10 -> 8.328388 | P55: =(J55/D55)*10 -> 7.9892678 | Q55: =(P55-O55)/O55 -> -0.040718589
B56: Outros | C56: 187.8 | D56: 74.49 | E56: =C56/$C$60 -> 0.00087400033 | F56: =D56/$D$60 -> 0.00042148509 | G56: =(D56-C56)/C56 -> -0.60335463 | I56: 109.239 | J56: 98.678 | K56: =I56/$I$60 -> 0.0019310929 | L56: =J56/$J$60 -> 0.0019733097 | M56: =(J56-I56)/I56 -> -0.096677926 | O56: =(I56/C56)*10 -> 5.8167732 | P56: =(J56/D56)*10 -> 13.247147 | Q56: =(P56-O56)/O56 -> 1.2774048
A57: Vinho Licoroso sem DO / IG | C57: 275.45 | D57: 26.79 | E57: =C57/$C$60 -> 0.0012819137 | F57: =D57/$D$60 -> 0.00015158525 | G57: =(D57-C57)/C57 -> -0.90274097 | I57: 204.267 | J57: 50.347 | K57: =I57/$I$60 -> 0.0036109683 | L57: =J57/$J$60 -> 0.0010068123 | M57: =(J57-I57)/I57 -> -0.75352357 | O57: =(I57/C57)*10 -> 7.415756 | P57: =(J57/D57)*10 -> 18.793206 | Q57: =(P57-O57)/O57 -> 1.5342266
A58: Vinhos Espumantes e Espumosos | C58: 2183.96 | D58: 1102.21 | E58: =C58/$C$60 -> 0.010163907 | F58: =D58/$D$60 -> 0.00623661 | G58: =(D58-C58)/C58 -> -0.49531585 | I58: 1117.432 | J58: 778.65 | K58: =I58/$I$60 -> 0.019753614 | L58: =J58/$J$60 -> 0.015571025 | M58: =(J58-I58)/I58 -> -0.30317907 | O58: =(I58/C58)*10 -> 5.1165406 | P58: =(J58/D58)*10 -> 7.0644433 | Q58: =(P58-O58)/O58 -> 0.38070697
A59: Outros Vinhos e Mostos | C59: 1849.8 | D59: 1824.05 | E59: =C59/$C$60 -> 0.0086087637 | F59: =D59/$D$60 -> 0.010320981 | G59: =(D59-C59)/C59 -> -0.013920424 | I59: 330.316 | J59: 339.125 | K59: =I59/$I$60 -> 0.0058392231 | L59: =J59/$J$60 -> 0.00678164 | M59: =(J59-I59)/I59 -> 0.026668402 | O59: =(I59/C59)*10 -> 1.7856849 | P59: =(J59/D59)*10 -> 1.859187 | Q59: =(P59-O59)/O59 -> 0.041161816
A60: Total | C60: =C48+C49+C50+C53+C57+C58+C59 -> 214874.06 | D60: =D48+D49+D50+D53+D57+D58+D59 -> 176732.23 | E60: =E48+E49+E50+E53+E57+E58+E59 -> 1 | F60: =F48+F49+F50+F53+F57+F58+F59 -> 1 | G60: =(D60-C60)/C60 -> -0.17750784 | I60: =I48+I49+I50+I53+I57+I58+I59 -> 56568.484 | J60: =J48+J49+J50+J53+J57+J58+J59 -> 50006.341 | K60: =K48+K49+K50+K53+K57+K58+K59 -> 1 | L60: =L48+L49+L50+L53+L57+L58+L59 -> 1 | M60: =(J60-I60)/I60 -> -0.11600352 | O60: =(I60/C60)*10 -> 2.6326344 | P60: =(J60/D60)*10 -> 2.8294975 | Q60: =(P60-O60)/O60 -> 0.074778006

Sheet 6
A1: Evolução das Exportações de Vinho (NC 2204) por Mercado / Acondicionamento
A4: Destino | E4: HL | G4: Peso | I4: D | K4: 1.000 € | M4: Peso | O4: D | Q4: Preço Médio (€ / l) | S4: D
E5: jan-jul | G5: =E5 -> jan-jul | I5: 2026 /2025 | K5: =E5 -> jan-jul | M5: =E5 -> jan-jul | O5: =I5 -> 2026 /2025 | Q5: =E5 -> jan-jul | S5: =O5 -> 2026 /2025
E6: 2025 | F6: 2026 | G6: =E6 -> 2025 | H6: =F6 -> 2026 | I6: HL | K6: =E6 -> 2025 | L6: =F6 -> 2026 | M6: =G6 -> 2025 | N6: =H6 -> 2026 | O6: 1000 | Q6: =E6 -> 2025 | R6: =F6 -> 2026
A7: Europa Comunitária | E7: 915208 | F7: 740105.84 | G7: =E7/E15 -> 0.45229388 | H7: =F7/F15 -> 0.40648714 | I7: =(F7-E7)/E7 -> -0.19132499 | K7: 233556.46 | L7: 212766.06 | M7: =K7/K15 -> 0.43307332 | N7: =L7/L15 -> 0.42221482 | O7: =(L7-K7)/K7 -> -0.089016576 | Q7: =(K7/E7)*10 -> 2.5519495 | R7: =(L7/F7)*10 -> 2.8748059 | S7: =(R7-Q7)/Q7 -> 0.12651363
B8: Até 2 Litros | E8: 641352.02 | F8: 589705.81 | G8: =E8/E7 -> 0.70077187 | H8: =F8/F7 -> 0.79678578 | I8: =(F8-E8)/E8 -> -0.080527087 | K8: 206471.35 | L8: 190676.87 | M8: =K8/K7 -> 0.88403186 | N8: =L8/L7 -> 0.89618085 | O8: =(L8-K8)/K8 -> -0.0764972 | Q8: =(K8/E8)*10 -> 3.2193139 | R8: =(L8/F8)*10 -> 3.2334236 | S8: =(R8-Q8)/Q8 -> 0.0043828231
B9: Superior a 2 até 10 Litros | E9: 94089.76 | F9: 92549.61 | G9: =E9/E7 -> 0.10280697 | H9: =F9/F7 -> 0.12504916 | I9: =(F9-E9)/E9 -> -0.016368944 | K9: 14992.563 | L9: 16457.99 | M9: =K9/K7 -> 0.064192458 | N9: =L9/L7 -> 0.077352516 | O9: =(L9-K9)/K9 -> 0.097743595 | Q9: =(K9/E9)*10 -> 1.593432 | R9: =(L9/F9)*10 -> 1.7782884 | S9: =(R9-Q9)/Q9 -> 0.11601152
B10: Superior a 10 Litros | E10: 179766.22 | F10: 57850.42 | G10: =E10/E7 -> 0.19642116 | H10: =F10/F7 -> 0.078165064 | I10: =(F10-E10)/E10 -> -0.67819082 | K10: 12092.545 | L10: 5631.202 | M10: =K10/K7 -> 0.051775683 | N10: =L10/L7 -> 0.026466637 | O10: =(L10-K10)/K10 -> -0.53432449 | Q10: =(K10/E10)*10 -> 0.67268172 | R10: =(L10/F10)*10 -> 0.97340728 | S10: =(R10-Q10)/Q10 -> 0.44705475
A11: Países Terceiros | E11: 1108272.9 | F11: 1080630.3 | G11: =E11/E15 -> 0.54770612 | H11: =F11/F15 -> 0.59351286 | I11: =(F11-E11)/E11 -> -0.024941981 | K11: 305743.57 | L11: 291162.39 | M11: =K11/K15 -> 0.56692668 | N11: =L11/L15 -> 0.57778518 | O11: =(L11-K11)/K11 -> -0.047690906 | Q11: =(K11/E11)*10 -> 2.7587392 | R11: =(L11/F11)*10 -> 2.6943755 | S11: =(R11-Q11)/Q11 -> -0.023330843
B12: Até 2 Litros | E12: 818438.84 | F12: 771377.51 | G12: =E12/E11 -> 0.73848136 | H12: =F12/F11 -> 0.71382182 | I12: =(F12-E12)/E12 -> -0.05750134 | K12: 276780.12 | L12: 260225.9 | M12: =K12/K11 -> 0.90526881 | N12: =L12/L11 -> 0.89374834 | O12: =(L12-K12)/K12 -> -0.059810018 | Q12: =(K12/E12)*10 -> 3.3818058 | R12: =(L12/F12)*10 -> 3.373522 | S12: =(R12-Q12)/Q12 -> -0.0024495289
B13: Superior a 2 até 10 Litros | E13: 96472.31 | F13: 98058.49 | G13: =E13/E11 -> 0.087047436 | H13: =F13/F11 -> 0.090741938 | I13: =(F13-E13)/E13 -> 0.016441816 | K13: 12018.03 | L13: 12293.772 | M13: =K13/K11 -> 0.039307547 | N13: =L13/L11 -> 0.042223078 | O13: =(L13-K13)/K13 -> 0.022944027 | Q13: =(K13/E13)*10 -> 1.2457492 | R13: =(L13/F13)*10 -> 1.2537183 | S13: =(R13-Q13)/Q13 -> 0.0063970315
B14: Superior a 10 Litros | E14: 193361.7 | F14: 211194.33 | G14: =E14/E11 -> 0.17447121 | H14: =F14/F11 -> 0.19543624 | I14: =(F14-E14)/E14 -> 0.09222421 | K14: 16945.422 | L14: 18642.716 | M14: =K14/K11 -> 0.055423641 | N14: =L14/L11 -> 0.064028586 | O14: =(L14-K14)/K14 -> 0.10016239 | Q14: =(K14/E14)*10 -> 0.87635876 | R14: =(L14/F14)*10 -> 0.88272805 | S14: =(R14-Q14)/Q14 -> 0.0072679053
A15: Total | E15: 2023480.9 | F15: 1820736.2 | G15: =G7+G11 -> 1 | H15: =H7+H11 -> 1 | I15: =(F15-E15)/E15 -> -0.100196 | K15: 539300.03 | L15: 503928.45 | M15: =M7+M11 -> 1 | N15: =N7+N11 -> 1 | O15: =(L15-K15)/K15 -> -0.065587951 | Q15: =(K15/E15)*10 -> 2.6652095 | R15: =(L15/F15)*10 -> 2.7677181 | S15: =(R15-Q15)/Q15 -> 0.03846176
B16: Até 2 Litros | E16: =E8+E12 -> 1459790.9 | F16: =F8+F12 -> 1361083.3 | G16: =E16/E15 -> 0.72142559 | H16: =F16/F15 -> 0.7475456 | I16: =(F16-E16)/E16 -> -0.06761759 | K16: =K8+K12 -> 483251.47 | L16: =L8+L12 -> 450902.77 | M16: =K16/K15 -> 0.89607165 | N16: =L16/L15 -> 0.89477538 | O16: =(L16-K16)/K16 -> -0.066939691 | Q16: =(K16/E16)*10 -> 3.3104158 | R16: =(L16/F16)*10 -> 3.3128227 | S16: =(R16-Q16)/Q16 -> 0.0007270614
B17: Superior a 2 até 10 Litros | E17: =E9+E13 -> 190562.07 | F17: =F9+F13 -> 190608.1 | G17: =E17/E15 -> 0.094175376 | H17: =F17/F15 -> 0.10468738 | I17: =(F17-E17)/E17 -> 0.00024154859 | K17: =K9+K13 -> 27010.593 | L17: =L9+L13 -> 28751.762 | M17: =K17/K15 -> 0.050084538 | N17: =L17/L15 -> 0.057055247 | O17: =(L17-K17)/K17 -> 0.06446245 | Q17: =(K17/E17)*10 -> 1.4174171 | R17: =(L17/F17)*10 -> 1.5084229 | S17: =(R17-Q17)/Q17 -> 0.064205393
B18: Superior a 10 Litros | E18: =E10+E14 -> 373127.92 | F18: =F10+F14 -> 269044.75 | G18: =E18/E15 -> 0.18439904 | H18: =F18/F15 -> 0.14776702 | I18: =(F18-E18)/E18 -> -0.27894769 | K18: =K10+K14 -> 29037.967 | L18: =L10+L14 -> 24273.918 | M18: =K18/K15 -> 0.053843807 | N18: =L18/L15 -> 0.048169374 | O18: =(L18-K18)/K18 -> -0.16406276 | Q18: =(K18/E18)*10 -> 0.77823088 | R18: =(L18/F18)*10 -> 0.90222604 | S18: =(R18-Q18)/Q18 -> 0.15932953

Sheet 7
A1: Evolução das Exportações de Vinho (NC 2204) por Mercado / Acondicionamento - julho 2026 vs julho 2025
A4: Destino | E4: HL | G4: Peso | I4: D | K4: 1.000 € | M4: Estrutura (%) | O4: D | Q4: Preço Médio (€ / l) | S4: D
E5: jul | G5: =E5 -> jul | I5: 2026 /2025 | K5: =E5 -> jul | M5: =E5 -> jul | O5: =I5 -> 2026 /2025 | Q5: =E5 -> jul | S5: =O5 -> 2026 /2025
E6: 2025 | F6: 2026 | G6: =E6 -> 2025 | H6: =F6 -> 2026 | I6: HL | K6: =E6 -> 2025 | L6: =F6 -> 2026 | M6: =G6 -> 2025 | N6: =H6 -> 2026 | O6: 1000 | Q6: =E6 -> 2025 | R6: =F6 -> 2026
A7: Europa Comunitária | E7: 117679.45 | F7: 115226.65 | G7: =E7/E15 -> 0.35386621 | H7: =F7/F15 -> 0.39466739 | I7: =(F7-E7)/E7 -> -0.020843061 | K7: 32876.766 | L7: 33202.359 | M7: =K7/K15 -> 0.36756302 | N7: =L7/L15 -> 0.39902509 | O7: =(L7-K7)/K7 -> 0.0099034376 | Q7: =(K7/E7)*10 -> 2.7937559 | R7: =(L7/F7)*10 -> 2.8814826 | S7: =(R7-Q7)/Q7 -> 0.031400992
B8: Até 2 Litros | E8: 92585.32 | F8: 92769.95 | G8: =E8/E7 -> 0.78675861 | H8: =F8/F7 -> 0.80510845 | I8: =(F8-E8)/E8 -> 0.0019941606 | K8: 29926.937 | L8: 29891.429 | M8: =K8/K7 -> 0.91027618 | N8: =L8/L7 -> 0.90028028 | O8: =(L8-K8)/K8 -> -0.0011864896 | Q8: =(K8/E8)*10 -> 3.2323631 | R8: =(L8/F8)*10 -> 3.2221025 | S8: =(R8-Q8)/Q8 -> -0.0031743201
B9: Superior a 2 até 10 Litros | E9: 10546.82 | F9: 13171.5 | G9: =E9/E7 -> 0.089623294 | H9: =F9/F7 -> 0.11430949 | I9: =(F9-E9)/E9 -> 0.24885985 | K9: 1734.428 | L9: 2538.932 | M9: =K9/K7 -> 0.052755432 | N9: =L9/L7 -> 0.076468422 | O9: =(L9-K9)/K9 -> 0.46384399 | Q9: =(K9/E9)*10 -> 1.6445033 | R9: =(L9/F9)*10 -> 1.9275952 | S9: =(R9-Q9)/Q9 -> 0.17214433
B10: Superior a 10 Litros | E10: 14547.31 | F10: 9285.2 | G10: =E10/E7 -> 0.1236181 | H10: =F10/F7 -> 0.080582053 | I10: =(F10-E10)/E10 -> -0.36172392 | K10: 1215.401 | L10: 771.998 | M10: =K10/K7 -> 0.036968387 | N10: =L10/L7 -> 0.0232513 | O10: =(L10-K10)/K10 -> -0.36482034 | Q10: =(K10/E10)*10 -> 0.83548161 | R10: =(L10/F10)*10 -> 0.83142851 | S10: =(R10-Q10)/Q10 -> -0.0048512157
A11: Países Terceiros | E11: 214874.06 | F11: 176732.23 | G11: =E11/E15 -> 0.64613379 | H11: =F11/F15 -> 0.60533261 | I11: =(F11-E11)/E11 -> -0.17750784 | K11: 56568.484 | L11: 50006.341 | M11: =K11/K15 -> 0.63243698 | N11: =L11/L15 -> 0.60097491 | O11: =(L11-K11)/K11 -> -0.11600352 | Q11: =(K11/E11)*10 -> 2.6326344 | R11: =(L11/F11)*10 -> 2.8294975 | S11: =(R11-Q11)/Q11 -> 0.074778006
B12: Até 2 Litros | E12: 158811.24 | F12: 130406.63 | G12: =E12/E11 -> 0.73908987 | H12: =F12/F11 -> 0.7378769 | I12: =(F12-E12)/E12 -> -0.17885768 | K12: 51289.425 | L12: 45143.209 | M12: =K12/K11 -> 0.90667844 | N12: =L12/L11 -> 0.90274969 | O12: =(L12-K12)/K12 -> -0.11983398 | Q12: =(K12/E12)*10 -> 3.2295841 | R12: =(L12/F12)*10 -> 3.4617265 | S12: =(R12-Q12)/Q12 -> 0.071879987
B13: Superior a 2 até 10 Litros | E13: 16446 | F13: 15003.55 | G13: =E13/E11 -> 0.076537857 | H13: =F13/F11 -> 0.084894249 | I13: =(F13-E13)/E13 -> -0.087708257 | K13: 2027.471 | L13: 2016.049 | M13: =K13/K11 -> 0.035840999 | N13: =L13/L11 -> 0.040315867 | O13: =(L13-K13)/K13 -> -0.0056336194 | Q13: =(K13/E13)*10 -> 1.2328049 | R13: =(L13/F13)*10 -> 1.3437147 | S13: =(R13-Q13)/Q13 -> 0.089965341
B14: Superior a 10 Litros | E14: 39616.82 | F14: 31322.05 | G14: =E14/E11 -> 0.18437228 | H14: =F14/F11 -> 0.17722885 | I14: =(F14-E14)/E14 -> -0.20937496 | K14: 3251.588 | L14: 2847.083 | M14: =K14/K11 -> 0.057480558 | N14: =L14/L11 -> 0.05693444 | O14: =(L14-K14)/K14 -> -0.12440229 | Q14: =(K14/E14)*10 -> 0.82075947 | R14: =(L14/F14)*10 -> 0.90897084 | S14: =(R14-Q14)/Q14 -> 0.1074753
A15: Total | E15: 332553.51 | F15: 291958.88 | G15: =G7+G11 -> 1 | H15: =H7+H11 -> 1 | I15: =(F15-E15)/E15 -> -0.12206947 | K15: 89445.25 | L15: 83208.7 | M15: =M7+M11 -> 1 | N15: =N7+N11 -> 1 | O15: =(L15-K15)/K15 -> -0.069724776 | Q15: =(K15/E15)*10 -> 2.6896499 | R15: =(L15/F15)*10 -> 2.8500144 | S15: =(R15-Q15)/Q15 -> 0.059622818
B16: Até 2 Litros | E16: =E8+E12 -> 251396.56 | F16: =F8+F12 -> 223176.58 | G16: =E16/E15 -> 0.75595822 | H16: =F16/F15 -> 0.764411 | I16: =(F16-E16)/E16 -> -0.11225285 | K16: =K8+K12 -> 81216.362 | L16: =L8+L12 -> 75034.638 | M16: =K16/K15 -> 0.90800084 | N16: =L16/L15 -> 0.90176433 | O16: =(L16-K16)/K16 -> -0.076114269 | Q16: =(K16/E16)*10 -> 3.2306075 | R16: =(L16/F16)*10 -> 3.3621197 | S16: =(R16-Q16)/Q16 -> 0.04070819
B17: Superior a 2 até 10 Litros | E17: =E9+E13 -> 26992.82 | F17: =F9+F13 -> 28175.05 | G17: =E17/E15 -> 0.081168351 | H17: =F17/F15 -> 0.096503487 | I17: =(F17-E17)/E17 -> 0.043797943 | K17: =K9+K13 -> 3761.899 | L17: =L9+L13 -> 4554.981 | M17: =K17/K15 -> 0.042058119 | N17: =L17/L15 -> 0.054741644 | O17: =(L17-K17)/K17 -> 0.21081959 | Q17: =(K17/E17)*10 -> 1.3936665 | R17: =(L17/F17)*10 -> 1.6166718 | S17: =(R17-Q17)/Q17 -> 0.16001339
B18: Superior a 10 Litros | E18: =E10+E14 -> 54164.13 | F18: =F10+F14 -> 40607.25 | G18: =E18/E15 -> 0.16287343 | H18: =F18/F15 -> 0.13908551 | I18: =(F18-E18)/E18 -> -0.25029258 | K18: =K10+K14 -> 4466.989 | L18: =L10+L14 -> 3619.081 | M18: =K18/K15 -> 0.049941042 | N18: =L18/L15 -> 0.043494022 | O18: =(L18-K18)/K18 -> -0.18981645 | Q18: =(K18/E18)*10 -> 0.82471351 | R18: =(L18/F18)*10 -> 0.89124011 | S18: =(R18-Q18)/Q18 -> 0.080666311

Sheet 8
A1: Evolução das Exportações com Destino a uma Seleção de Mercados (NC 2204)
A4: Intra + Extra UE | B4: HL | D4: Peso | F4: D | H4: 1.000 € | J4: Estrutura (%) | L4: D | N4: Preço Médio (€ / l) | P4: D
B5: jan-jul | D5: =B5 -> jan-jul | F5: 2026 / 2025 | H5: =B5 -> jan-jul | J5: =B5 -> jan-jul | L5: =F5 -> 2026 / 2025 | N5: =B5 -> jan-jul | P5: =L5 -> 2026 / 2025
B6: 2025 | C6: 2026 | D6: =B6 -> 2025 | E6: =C6 -> 2026 | F6: HL | H6: =B6 -> 2025 | I6: =C6 -> 2026 | J6: =B6 -> 2025 | K6: =C6 -> 2026 | L6: 1000 | N6: =B6 -> 2025 | O6: =C6 -> 2026
A7: FRANCA | B7: 184640.03 | C7: 170212.52 | D7: =B7/$B$33 -> 0.091248716 | E7: =C7/$C$33 -> 0.093485549 | F7: =(C7-B7)/B7 -> -0.078138581 | H7: 58505.393 | I7: 54514.035 | J7: =H7/$H$33 -> 0.10848394 | K7: =I7/$I$33 -> 0.10817813 | L7: =(I7-H7)/H7 -> -0.068222053 | N7: =(H7/B7)*10 -> 3.1686191 | O7: =(I7/C7)*10 -> 3.2027042 | P7: =(O7-N7)/N7 -> 0.010757071
A8: E.U.AMERICA | B8: 139180.23 | C8: 128044.29 | D8: =B8/$B$33 -> 0.068782578 | E8: =C8/$C$33 -> 0.07032556 | F8: =(C8-B8)/B8 -> -0.080010933 | H8: 55093.442 | I8: 48254.508 | J8: =H8/$H$33 -> 0.10215731 | K8: =I8/$I$33 -> 0.095756666 | L8: =(I8-H8)/H8 -> -0.12413336 | N8: =(H8/B8)*10 -> 3.9584244 | O8: =(I8/C8)*10 -> 3.7685795 | P8: =(O8-N8)/N8 -> -0.047959729
A9: BRASIL | B9: 155356.39 | C9: 160057.78 | D9: =B9/$B$33 -> 0.076776803 | E9: =C9/$C$33 -> 0.087908277 | F9: =(C9-B9)/B9 -> 0.030261967 | H9: 48070.125 | I9: 48151.122 | J9: =H9/$H$33 -> 0.089134289 | K9: =I9/$I$33 -> 0.095551506 | L9: =(I9-H9)/H9 -> 0.0016849759 | N9: =(H9/B9)*10 -> 3.094184 | O9: =(I9/C9)*10 -> 3.0083587 | P9: =(O9-N9)/N9 -> -0.027737597
A10: REINO UNIDO | B10: 115129.65 | C10: 117787.75 | D10: =B10/$B$33 -> 0.056896832 | E10: =C10/$C$33 -> 0.064692377 | F10: =(C10-B10)/B10 -> 0.023087884 | H10: 39877.331 | I10: 39499.27 | J10: =H10/$H$33 -> 0.073942757 | K10: =I10/$I$33 -> 0.078382696 | L10: =(I10-H10)/H10 -> -0.0094805994 | N10: =(H10/B10)*10 -> 3.4636891 | O10: =(I10/C10)*10 -> 3.3534277 | P10: =(O10-N10)/N10 -> -0.031833515
A11: ANGOLA | B11: 232134.01 | C11: 242453.93 | D11: =B11/$B$33 -> 0.11472014 | E11: =C11/$C$33 -> 0.13316258 | F11: =(C11-B11)/B11 -> 0.044456734 | H11: 30037.629 | I11: 29795.694 | J11: =H11/$H$33 -> 0.055697436 | K11: =I11/$I$33 -> 0.059126835 | L11: =(I11-H11)/H11 -> -0.0080543974 | N11: =(H11/B11)*10 -> 1.2939779 | O11: =(I11/C11)*10 -> 1.2289219 | P11: =(O11-N11)/N11 -> -0.050276024
A12: CANADA | B12: 75472.22 | C12: 73212.47 | D12: =B12/$B$33 -> 0.037298213 | E12: =C12/$C$33 -> 0.040210367 | F12: =(C12-B12)/B12 -> -0.02994148 | H12: 29481.032 | I12: 27935.607 | J12: =H12/$H$33 -> 0.054665363 | K12: =I12/$I$33 -> 0.055435662 | L12: =(I12-H12)/H12 -> -0.052420994 | N12: =(H12/B12)*10 -> 3.9062097 | O12: =(I12/C12)*10 -> 3.8156897 | P12: =(O12-N12)/N12 -> -0.023173358
A13: PAISES BAIXOS | B13: 82443.93 | C13: 83889.63 | D13: =B13/$B$33 -> 0.040743618 | E13: =C13/$C$33 -> 0.046074567 | F13: =(C13-B13)/B13 -> 0.017535554 | H13: 27731.275 | I13: 27048.134 | J13: =H13/$H$33 -> 0.051420867 | K13: =I13/$I$33 -> 0.053674553 | L13: =(I13-H13)/H13 -> -0.024634316 | N13: =(H13/B13)*10 -> 3.3636527 | O13: =(I13/C13)*10 -> 3.2242524 | P13: =(O13-N13)/N13 -> -0.041443142
A14: ALEMANHA | B14: 124956.27 | C14: 103990.26 | D14: =B14/$B$33 -> 0.061753127 | E14: =C14/$C$33 -> 0.057114403 | F14: =(C14-B14)/B14 -> -0.16778678 | H14: 27283.481 | I14: 24789.491 | J14: =H14/$H$33 -> 0.050590542 | K14: =I14/$I$33 -> 0.049192482 | L14: =(I14-H14)/H14 -> -0.091410257 | N14: =(H14/B14)*10 -> 2.1834423 | O14: =(I14/C14)*10 -> 2.3838282 | P14: =(O14-N14)/N14 -> 0.091775184
A15: POLONIA | B15: 94727.49 | C15: 95616.61 | D15: =B15/$B$33 -> 0.046814127 | E15: =C15/$C$33 -> 0.052515357 | F15: =(C15-B15)/B15 -> 0.0093860821 | H15: 22512.138 | I15: 21748.887 | J15: =H15/$H$33 -> 0.041743254 | K15: =I15/$I$33 -> 0.043158681 | L15: =(I15-H15)/H15 -> -0.033903977 | N15: =(H15/B15)*10 -> 2.3765158 | O15: =(I15/C15)*10 -> 2.274593 | P15: =(O15-N15)/N15 -> -0.042887513
A16: BELGICA | B16: 61967.08 | C16: 56690.76 | D16: =B16/$B$33 -> 0.030624001 | E16: =C16/$C$33 -> 0.031136175 | F16: =(C16-B16)/B16 -> -0.085147146 | H16: 21742.586 | I16: 19953.472 | J16: =H16/$H$33 -> 0.040316308 | K16: =I16/$I$33 -> 0.039595844 | L16: =(I16-H16)/H16 -> -0.082286164 | N16: =(H16/B16)*10 -> 3.5087317 | O16: =(I16/C16)*10 -> 3.5197044 | P16: =(O16-N16)/N16 -> 0.0031272589
A17: SUICA | B17: 48034.01 | C17: 44875.82 | D17: =B17/$B$33 -> 0.023738307 | E17: =C17/$C$33 -> 0.024647074 | F17: =(C17-B17)/B17 -> -0.065749039 | H17: 17200.691 | I17: 15676.977 | J17: =H17/$H$33 -> 0.031894474 | K17: =I17/$I$33 -> 0.03110953 | L17: =(I17-H17)/H17 -> -0.088584464 | N17: =(H17/B17)*10 -> 3.58094 | O17: =(I17/C17)*10 -> 3.4934129 | P17: =(O17-N17)/N17 -> -0.024442496
A18: SUECIA | B18: 57868.84 | C18: 58744.95 | D18: =B18/$B$33 -> 0.02859866 | E18: =C18/$C$33 -> 0.032264394 | F18: =(C18-B18)/B18 -> 0.015139581 | H18: 13949.206 | I18: 14117.363 | J18: =H18/$H$33 -> 0.025865391 | K18: =I18/$I$33 -> 0.028014618 | L18: =(I18-H18)/H18 -> 0.012054951 | N18: =(H18/B18)*10 -> 2.4104865 | O18: =(I18/C18)*10 -> 2.403162 | P18: =(O18-N18)/N18 -> -0.0030386263
... A31: UCRANIA | B31: 18509.85 | C31: 13581.75 | D31: =B31/$B$33 -> 0.0091475291 | E31: =C31/$C$33 -> 0.0074594827 | F31: =(C31-B31)/B31 -> -0.26624203 | H31: 3964.746 | I31: 3033.693 | J31: =H31/$H$33 -> 0.0073516517 | K31: =I31/$I$33 -> 0.0060200868 | L31: =(I31-H31)/H31 -> -0.23483295 | N31: =(H31/B31)*10 -> 2.1419655 | O31: =(I31/C31)*10 -> 2.233654 | P31: =(O31-N31)/N31 -> 0.042805774
A32: OUTROS DESTINOS | B32: =B33-SUM(B7:B31) -> 167191.29 | C32: =C33-SUM(C7:C31) -> 156270.24 | D32: =B32/$B$33 -> 0.082625586 | E32: =C32/$C$33 -> 0.085828053 | F32: =(C32-B32)/B32 -> -0.065320687 | H32: =H33-SUM(H7:H31) -> 48055.198 | I32: =I33-SUM(I7:I31) -> 46978.631 | J32: =H32/$H$33 -> 0.089106611 | K32: =I32/$I$33 -> 0.093224805 | L32: =(I32-H32)/H32 -> -0.022402717 | N32: =(H32/B32)*10 -> 2.8742644 | O32: =(I32/C32)*10 -> 3.006243 | P32: =(O32-N32)/N32 -> 0.045917321
A33: TOTAL | B33: 2023480.8 | C33: 1820736.2 | D33: =SUM(D7:D32) -> 1 | E33: =SUM(E7:E32) -> 1 | F33: =(C33-B33)/B33 -> -0.100196 | H33: 539300.03 | I33: 503928.45 | J33: =SUM(J7:J32) -> 1 | K33: =SUM(K7:K32) -> 1 | L33: =(I33-H33)/H33 -> -0.065587951 | N33: =(H33/B33)*10 -> 2.6652095 | O33: =(I33/C33)*10 -> 2.7677181 | P33: =(O33-N33)/N33 -> 0.03846176
A36: Intra UE | B36: HL | D36: Peso | F36: D | H36: 1.000 € | J36: Peso | L36: D | N36: Preço Médio (€ / l) | P36: D
B37: =B5 -> jan-jul | D37: =B37 -> jan-jul | F37: =F5 -> 2026 / 2025 | H37: =B37 -> jan-jul | J37: =H37 -> jan-jul | L37: =F37 -> 2026 / 2025 | N37: =B37 -> jan-jul | P37: =L37 -> 2026 / 2025
B38: =B6 -> 2025 | C38: =C6 -> 2026 | D38: =B38 -> 2025 | E38: =C38 -> 2026 | F38: =F6 -> HL | H38: =B38 -> 2025 | I38: =C38 -> 2026 | J38: =B38 -> 2025 | K38: =C38 -> 2026 | L38: =L6 -> 1000 | N38: =B38 -> 2025 | O38: =C38 -> 2026
A39: FRANCA | B39: 184640.03 | C39: 170212.52 | D39: =B39/$B$62 -> 0.20174652 | E39: =C39/$C$62 -> 0.22998402 | F39: =(C39-B39)/B39 -> -0.078138581 | H39: 58505.393 | I39: 54514.035 | J39: =H39/$H$62 -> 0.25049786 | K39: =I39/$I$62 -> 0.25621584 | L39: =(I39-H39)/H39 -> -0.068222053 | N39: =(H39/B39)*10 -> 3.1686191 | O39: =(I39/C39)*10 -> 3.2027042 | P39: =(O39-N39)/N39 -> 0.010757071
A40: PAISES BAIXOS | B40: 82443.93 | C40: 83889.63 | D40: =B40/$B$62 -> 0.090082178 | E40: =C40/$C$62 -> 0.11334815 | F40: =(C40-B40)/B40 -> 0.017535554 | H40: 27731.275 | I40: 27048.134 | J40: =H40/$H$62 -> 0.11873478 | K40: =I40/$I$62 -> 0.12712617 | L40: =(I40-H40)/H40 -> -0.024634316 | N40: =(H40/B40)*10 -> 3.3636527 | O40: =(I40/C40)*10 -> 3.2242524 | P40: =(O40-N40)/N40 -> -0.041443142
A41: ALEMANHA | B41: 124956.27 | C41: 103990.26 | D41: =B41/$B$62 -> 0.13653319 | E41: =C41/$C$62 -> 0.14050728 | F41: =(C41-B41)/B41 -> -0.16778678 | H41: 27283.481 | I41: 24789.491 | J41: =H41/$H$62 -> 0.1168175 | K41: =I41/$I$62 -> 0.11651055 | L41: =(I41-H41)/H41 -> -0.091410257 | N41: =(H41/B41)*10 -> 2.1834423 | O41: =(I41/C41)*10 -> 2.3838282 | P41: =(O41-N41)/N41 -> 0.091775184
A42: POLONIA | B42: 94727.49 | C42: 95616.61 | D42: =B42/$B$62 -> 0.10350378 | E42: =C42/$C$62 -> 0.12919316 | F42: =(C42-B42)/B42 -> 0.0093860821 | H42: 22512.138 | I42: 21748.887 | J42: =H42/$H$62 -> 0.096388421 | K42: =I42/$I$62 -> 0.10221972 | L42: =(I42-H42)/H42 -> -0.033903977 | N42: =(H42/B42)*10 -> 2.3765158 | O42: =(I42/C42)*10 -> 2.274593 | P42: =(O42-N42)/N42 -> -0.042887513
A43: BELGICA | B43: 61967.08 | C43: 56690.76 | D43: =B43/$B$62 -> 0.067708193 | E43: =C43/$C$62 -> 0.07659818 | F43: =(C43-B43)/B43 -> -0.085147146 | H43: 21742.586 | I43: 19953.472 | J43: =H43/$H$62 -> 0.093093492 | K43: =I43/$I$62 -> 0.093781273 | L43: =(I43-H43)/H43 -> -0.082286164 | N43: =(H43/B43)*10 -> 3.5087317 | O43: =(I43/C43)*10 -> 3.5197044 | P43: =(O43-N43)/N43 -> 0.0031272589
A44: SUECIA | B44: 57868.84 | C44: 58744.95 | D44: =B44/$B$62 -> 0.06323026 | E44: =C44/$C$62 -> 0.079373715 | F44: =(C44-B44)/B44 -> 0.015139581 | H44: 13949.206 | I44: 14117.363 | J44: =H44/$H$62 -> 0.0597252 | K44: =I44/$I$62 -> 0.066351574 | L44: =(I44-H44)/H44 -> 0.012054951 | N44: =(H44/B44)*10 -> 2.4104865 | O44: =(I44/C44)*10 -> 2.403162 | P44: =(O44-N44)/N44 -> -0.0030386263
A45: ESPANHA | B45: 168336.93 | C45: 51214.61 | D45: =B45/$B$62 -> 0.18393297 | E45: =C45/$C$62 -> 0.069199035 | F45: =(C45-B45)/B45 -> -0.69576129 | H45: 20362.873 | I45: 13108.005 | J45: =H45/$H$62 -> 0.087186085 | K45: =I45/$I$62 -> 0.061607594 | L45: =(I45-H45)/H45 -> -0.35627919 | N45: =(H45/B45)*10 -> 1.2096498 | O45: =(I45/C45)*10 -> 2.5594269 | P45: =(O45-N45)/N45 -> 1.1158412
A46: DINAMARCA | B46: 24168.12 | C46: 20489.55 | D46: =B46/$B$62 -> 0.026407243 | E46: =C46/$C$62 -> 0.027684621 | F46: =(C46-B46)/B46 -> -0.15220754 | H46: 8560.761 | I46: 8172.157 | J46: =H46/$H$62 -> 0.036653926 | K46: =I46/$I$62 -> 0.038409119 | L46: =(I46-H46)/H46 -> -0.045393628 | N46: =(H46/B46)*10 -> 3.5421708 | O46: =(I46/C46)*10 -> 3.9884512 | P46: =(O46-N46)/N46 -> 0.12599063
A47: ITALIA | B47: 14280.68 | C47: 14779.36 | D47: =B47/$B$62 -> 0.015603753 | E47: =C47/$C$62 -> 0.019969252 | F47: =(C47-B47)/B47 -> 0.034919906 | H47: 5278.679 | I47: 5715.622 | J47: =H47/$H$62 -> 0.022601298 | K47: =I47/$I$62 -> 0.02686341 | L47: =(I47-H47)/H47 -> 0.082775066 | N47: =(H47/B47)*10 -> 3.6963779 | O47: =(I47/C47)*10 -> 3.8673001 | P47: =(O47-N47)/N47 -> 0.046240448
A48: LUXEMBURGO | B48: 24433.62 | C48: 20298.87 | D48: =B48/$B$62 -> 0.026697341 | E48: =C48/$C$62 -> 0.027426983 | F48: =(C48-B48)/B48 -> -0.1692238 | H48: 6099.498 | I48: 5439.374 | J48: =H48/$H$62 -> 0.026115733 | K48: =I48/$I$62 -> 0.025565045 | L48: =(I48-H48)/H48 -> -0.10822596 | N48: =(H48/B48)*10 -> 2.4963546 | O48: =(I48/C48)*10 -> 2.6796437 | P48: =(O48-N48)/N48 -> 0.073422714
A49: FINLANDIA | B49: 27855.38 | C49: 26103.07 | D49: =B49/$B$62 -> 0.030436119 | E49: =C49/$C$62 -> 0.035269374 | F49: =(C49-B49)/B49 -> -0.062907417 | H49: 6176.034 | I49: 5423.798 | J49: =H49/$H$62 -> 0.026443431 | K49: =I49/$I$62 -> 0.025491838 | L49: =(I49-H49)/H49 -> -0.1217992 | N49: =(H49/B49)*10 -> 2.2171782 | O49: =(I49/C49)*10 -> 2.0778391 | P49: =(O49-N49)/N49 -> -0.062845213
A50: IRLANDA | B50: 9350.29 | C50: 8677.94 | D50: =B50/$B$62 -> 0.010216574 | E50: =C50/$C$62 -> 0.011725269 | F50: =(C50-B50)/B50 -> -0.071906861 | H50: 3181.367 | I50: 3059.436 | J50: =H50/$H$62 -> 0.013621405 | K50: =I50/$I$62 -> 0.014379342 | L50: =(I50-H50)/H50 -> -0.038326606 | N50: =(H50/B50)*10 -> 3.402426 | O50: =(I50/C50)*10 -> 3.5255326 | P50: =(O50-N50)/N50 -> 0.036181988
... A60: REP. ESLOVACA | B60: 438.87 | C60: 554.41 | D60: =B60/$B$62 -> 0.00047953034 | E60: =C60/$C$62 -> 0.00074909556 | F60: =(C60-B60)/B60 -> 0.26326703 | H60: 202.435 | I60: 222.955 | J60: =H60/$H$62 -> 0.00086674975 | K60: =I60/$I$62 -> 0.001047888 | L60: =(I60-H60)/H60 -> 0.10136587 | N60: =(H60/B60)*10 -> 4.6126416 | O60: =(I60/C60)*10 -> 4.0214823 | P60: =(O60-N60)/N60 -> -0.12816068
A61: OUTROS DESTINOS | B61: =B62-SUM(B39:B60) -> 1850.97 | C61: =C62-SUM(C39:C60) -> 998.15 | D61: =B61/$B$62 -> 0.0020224583 | E61: =C61/$C$62 -> 0.0013486585 | F61: =(C61-B61)/B61 -> -0.46074221 | H61: =H62-SUM(H39:H60) -> 728.486 | I61: =I62-SUM(I39:I60) -> 513.234 | J61: =H61/$H$62 -> 0.0031191002 | K61: =I61/$I$62 -> 0.0024121986 | L61: =(I61-H61)/H61 -> -0.29547857 | N61: =(H61/B61)*10 -> 3.9356986 | O61: =(I61/C61)*10 -> 5.1418524 | P61: =(O61-N61)/N61 -> 0.306465
A62: TOTAL | B62: 915208 | C62: 740105.84 | D62: =SUM(D39:D61) -> 1 | E62: =SUM(E39:E61) -> 1 | F62: =(C62-B62)/B62 -> -0.19132499 | H62: 233556.46 | I62: 212766.06 | J62: =H62/$H$62 -> 1 | K62: =I62/$I$62 -> 1 | L62: =(I62-H62)/H62 -> -0.089016576 | N62: =(H62/B62)*10 -> 2.5519495 | O62: =(I62/C62)*10 -> 2.8748059 | P62: =(O62-N62)/N62 -> 0.12651363
A65: Extra UE | B65: HL | D65: Peso | F65: D | H65: 1.000 € | J65: Peso | L65: D | N65: Preço Médio (€ / l) | P65: D
B66: =B37 -> jan-jul | D66: =B66 -> jan-jul | F66: =F37 -> 2026 / 2025 | H66: =B66 -> jan-jul | J66: =B66 -> jan-jul | L66: =F66 -> 2026 / 2025 | N66: =B66 -> jan-jul | P66: =L66 -> 2026 / 2025
B67: =B6 -> 2025 | C67: =C6 -> 2026 | D67: =B67 -> 2025 | E67: =C67 -> 2026 | F67: =F38 -> HL | H67: =B67 -> 2025 | I67: =C67 -> 2026 | J67: =B67 -> 2025 | K67: =C67 -> 2026 | L67: 1000 | N67: =B67 -> 2025 | O67: =C67 -> 2026
A68: E.U.AMERICA | B68: 139180.23 | C68: 128044.29 | D68: =B68/$B$96 -> 0.125583 | E68: =C68/$C$96 -> 0.11849037 | F68: =(C68-B68)/B68 -> -0.080010933 | H68: 55093.442 | I68: 48254.508 | J68: =H68/$H$96 -> 0.049711082 | K68: =I68/$I$96 -> 0.044654038 | L68: =(I68-H68)/H68 -> -0.12413336 | N68: =(H68/B68)*10 -> 3.9584244 | O68: =(I68/C68)*10 -> 3.7685795 | P68: =(O68-N68)/N68 -> -0.047959729
A69: BRASIL | B69: 155356.39 | C69: 160057.78 | D69: =B69/$B$96 -> 0.14017883 | E69: =C69/$C$96 -> 0.1481152 | F69: =(C69-B69)/B69 -> 0.030261967 | H69: 48070.125 | I69: 48151.122 | J69: =H69/$H$96 -> 0.043373908 | K69: =I69/$I$96 -> 0.044558366 | L69: =(I69-H69)/H69 -> 0.0016849759 | N69: =(H69/B69)*10 -> 3.094184 | O69: =(I69/C69)*10 -> 3.0083587 | P69: =(O69-N69)/N69 -> -0.027737597
A70: REINO UNIDO | B70: 115129.65 | C70: 117787.75 | D70: =B70/$B$96 -> 0.10388204 | E70: =C70/$C$96 -> 0.10899912 | F70: =(C70-B70)/B70 -> 0.023087884 | H70: 39877.331 | I70: 39499.27 | J70: =H70/$H$96 -> 0.03598151 | K70: =I70/$I$96 -> 0.036552065 | L70: =(I70-H70)/H70 -> -0.0094805994 | N70: =(H70/B70)*10 -> 3.4636891 | O70: =(I70/C70)*10 -> 3.3534277 | P70: =(O70-N70)/N70 -> -0.031833515
A71: ANGOLA | B71: 232134.01 | C71: 242453.93 | D71: =B71/$B$96 -> 0.20945565 | E71: =C71/$C$96 -> 0.22436343 | F71: =(C71-B71)/B71 -> 0.044456734 | H71: 30037.629 | I71: 29795.694 | J71: =H71/$H$96 -> 0.027103099 | K71: =I71/$I$96 -> 0.027572513 | L71: =(I71-H71)/H71 -> -0.0080543974 | N71: =(H71/B71)*10 -> 1.2939779 | O71: =(I71/C71)*10 -> 1.2289219 | P71: =(O71-N71)/N71 -> -0.050276024
A72: CANADA | B72: 75472.22 | C72: 73212.47 | D72: =B72/$B$96 -> 0.068098952 | E72: =C72/$C$96 -> 0.067749783 | F72: =(C72-B72)/B72 -> -0.02994148 | H72: 29481.032 | I72: 27935.607 | J72: =H72/$H$96 -> 0.026600879 | K72: =I72/$I$96 -> 0.025851215 | L72: =(I72-H72)/H72 -> -0.052420994 | N72: =(H72/B72)*10 -> 3.9062097 | O72: =(I72/C72)*10 -> 3.8156897 | P72: =(O72-N72)/N72 -> -0.023173358
A73: SUICA | B73: 48034.01 | C73: 44875.82 | D73: =B73/$B$96 -> 0.043341322 | E73: =C73/$C$96 -> 0.041527448 | F73: =(C73-B73)/B73 -> -0.065749039 | H73: 17200.691 | I73: 15676.977 | J73: =H73/$H$96 -> 0.015520267 | K73: =I73/$I$96 -> 0.014507252 | L73: =(I73-H73)/H73 -> -0.088584464 | N73: =(H73/B73)*10 -> 3.58094 | O73: =(I73/C73)*10 -> 3.4934129 | P73: =(O73-N73)/N73 -> -0.024442496
A74: FEDERAÇÃO RUSSA | B74: 80125.88 | C74: 59177.75 | D74: =B74/$B$96 -> 0.072297972 | E74: =C74/$C$96 -> 0.054762252 | F74: =(C74-B74)/B74 -> -0.26144025 | H74: 17956.329 | I74: 14024.247 | J74: =H74/$H$96 -> 0.016202083 | K74: =I74/$I$96 -> 0.01297784 | L74: =(I74-H74)/H74 -> -0.21898028 | N74: =(H74/B74)*10 -> 2.2410149 | O74: =(I74/C74)*10 -> 2.3698513 | P74: =(O74-N74)/N74 -> 0.057490225
A75: PAISES PT N/ DETERM. | B75: 3141.29 | C75: 2889.42 | D75: =B75/$B$96 -> 0.0028344013 | E75: =C75/$C$96 -> 0.0026738283 | F75: =(C75-B75)/B75 -> -0.080180435 | H75: 8305.255 | I75: 7561.151 | J75: =H75/$H$96 -> 0.0074938721 | K75: =I75/$I$96 -> 0.006996982 | L75: =(I75-H75)/H75 -> -0.089594359 | N75: =(H75/B75)*10 -> 26.438995 | O75: =(I75/C75)*10 -> 26.168404 | P75: =(O75-N75)/N75 -> -0.010234533
